BEGIN:VCALENDAR
VERSION:2.0
PRODID:-//SWFL Life - ECPv6.15.20//NONSGML v1.0//EN
CALSCALE:GREGORIAN
METHOD:PUBLISH
X-ORIGINAL-URL:https://swfl.life
X-WR-CALDESC:Events for SWFL Life
REFRESH-INTERVAL;VALUE=DURATION:PT1H
X-Robots-Tag:noindex
X-PUBLISHED-TTL:PT1H
BEGIN:VTIMEZONE
TZID:America/New_York
BEGIN:DAYLIGHT
TZOFFSETFROM:-0500
TZOFFSETTO:-0400
TZNAME:EDT
DTSTART:20250309T070000
END:DAYLIGHT
BEGIN:STANDARD
TZOFFSETFROM:-0400
TZOFFSETTO:-0500
TZNAME:EST
DTSTART:20251102T060000
END:STANDARD
BEGIN:DAYLIGHT
TZOFFSETFROM:-0500
TZOFFSETTO:-0400
TZNAME:EDT
DTSTART:20260308T070000
END:DAYLIGHT
BEGIN:STANDARD
TZOFFSETFROM:-0400
TZOFFSETTO:-0500
TZNAME:EST
DTSTART:20261101T060000
END:STANDARD
BEGIN:DAYLIGHT
TZOFFSETFROM:-0500
TZOFFSETTO:-0400
TZNAME:EDT
DTSTART:20270314T070000
END:DAYLIGHT
BEGIN:STANDARD
TZOFFSETFROM:-0400
TZOFFSETTO:-0500
TZNAME:EST
DTSTART:20271107T060000
END:STANDARD
END:VTIMEZONE
BEGIN:VEVENT
DTSTART;TZID=America/New_York:20260314T080000
DTEND;TZID=America/New_York:20260314T120000
DTSTAMP:20260424T075639
CREATED:20251016T161322Z
LAST-MODIFIED:20251111T172837Z
UID:10012453-1773475200-1773489600@swfl.life
SUMMARY:Promenade Bonita Springs Farmer's Market
DESCRIPTION:A true “green” farmer’s market offering fresh fruits\, vegetables\, cut flowers\, plants\, baked goods\, seafood and much more. Open Saturdays\, October through May\, 8a.m. to 12 p.m. Located in the parking lot. \nFeaturing an Early Bird Bar from Deromo’s. \n(Our favorite SWFL farmer’s market!) \nhttps://www.buylocallee.com
URL:https://swfl.life/event/promenade-bonita-springs-farmers-market/2026-03-14/
LOCATION:The Promenade\, 26811 S Bay Dr\, Bonita Springs\, FL\, 34135\, United States
CATEGORIES:Farmer's Market
ATTACH;FMTTYPE=image/jpeg:https://swfl.life/wp-content/uploads/2025/10/278224455_505923111243995_7455387928740968657_n.jpg
END:VEVENT
BEGIN:VEVENT
DTSTART;TZID=America/New_York:20260307T080000
DTEND;TZID=America/New_York:20260307T120000
DTSTAMP:20260424T075639
CREATED:20251016T161322Z
LAST-MODIFIED:20251111T172837Z
UID:10012452-1772870400-1772884800@swfl.life
SUMMARY:Promenade Bonita Springs Farmer's Market
DESCRIPTION:A true “green” farmer’s market offering fresh fruits\, vegetables\, cut flowers\, plants\, baked goods\, seafood and much more. Open Saturdays\, October through May\, 8a.m. to 12 p.m. Located in the parking lot. \nFeaturing an Early Bird Bar from Deromo’s. \n(Our favorite SWFL farmer’s market!) \nhttps://www.buylocallee.com
URL:https://swfl.life/event/promenade-bonita-springs-farmers-market/2026-03-07/
LOCATION:The Promenade\, 26811 S Bay Dr\, Bonita Springs\, FL\, 34135\, United States
CATEGORIES:Farmer's Market
ATTACH;FMTTYPE=image/jpeg:https://swfl.life/wp-content/uploads/2025/10/278224455_505923111243995_7455387928740968657_n.jpg
END:VEVENT
BEGIN:VEVENT
DTSTART;TZID=America/New_York:20260301T100000
DTEND;TZID=America/New_York:20260301T160000
DTSTAMP:20260424T075639
CREATED:20260226T120542Z
LAST-MODIFIED:20260226T120726Z
UID:10013305-1772359200-1772380800@swfl.life
SUMMARY:Art Walk at Promenade at Bonita Bay
DESCRIPTION:Art Walk at Promenade at Bonita BaySaturday\, February 28 from 10 a.m. to 5 p.m. and Sunday\, March 1 from 10 a.m. to 4 p.m.\nImmerse yourself in the area’s finest art in a unique outdoor Art Walk! Visitors to the event will stroll the pathways and sidewalks of the Promenade at Bonita Bay. Artists and their work will line the walkways displaying a variety of artworks in a wide-open creative layout designed for your comfort and safety. All displays will be in the shade for your comfort.
URL:https://swfl.life/event/art-walk-at-promenade-at-bonita-bay-2/2026-03-01/
LOCATION:The Promenade\, 26811 S Bay Dr\, Bonita Springs\, FL\, 34135\, United States
ATTACH;FMTTYPE=image/jpeg:https://swfl.life/wp-content/uploads/2026/02/629226368_1965096700995931_6936795318691333741_n.jpg
END:VEVENT
BEGIN:VEVENT
DTSTART;TZID=America/New_York:20260228T100000
DTEND;TZID=America/New_York:20260228T160000
DTSTAMP:20260424T075639
CREATED:20260226T120542Z
LAST-MODIFIED:20260226T120726Z
UID:10013306-1772272800-1772294400@swfl.life
SUMMARY:Art Walk at Promenade at Bonita Bay
DESCRIPTION:Art Walk at Promenade at Bonita BaySaturday\, February 28 from 10 a.m. to 5 p.m. and Sunday\, March 1 from 10 a.m. to 4 p.m.\nImmerse yourself in the area’s finest art in a unique outdoor Art Walk! Visitors to the event will stroll the pathways and sidewalks of the Promenade at Bonita Bay. Artists and their work will line the walkways displaying a variety of artworks in a wide-open creative layout designed for your comfort and safety. All displays will be in the shade for your comfort.
URL:https://swfl.life/event/art-walk-at-promenade-at-bonita-bay-2/2026-02-28/
LOCATION:The Promenade\, 26811 S Bay Dr\, Bonita Springs\, FL\, 34135\, United States
ATTACH;FMTTYPE=image/jpeg:https://swfl.life/wp-content/uploads/2026/02/629226368_1965096700995931_6936795318691333741_n.jpg
END:VEVENT
BEGIN:VEVENT
DTSTART;TZID=America/New_York:20260228T080000
DTEND;TZID=America/New_York:20260228T120000
DTSTAMP:20260424T075639
CREATED:20251016T161322Z
LAST-MODIFIED:20251111T172837Z
UID:10012451-1772265600-1772280000@swfl.life
SUMMARY:Promenade Bonita Springs Farmer's Market
DESCRIPTION:A true “green” farmer’s market offering fresh fruits\, vegetables\, cut flowers\, plants\, baked goods\, seafood and much more. Open Saturdays\, October through May\, 8a.m. to 12 p.m. Located in the parking lot. \nFeaturing an Early Bird Bar from Deromo’s. \n(Our favorite SWFL farmer’s market!) \nhttps://www.buylocallee.com
URL:https://swfl.life/event/promenade-bonita-springs-farmers-market/2026-02-28/
LOCATION:The Promenade\, 26811 S Bay Dr\, Bonita Springs\, FL\, 34135\, United States
CATEGORIES:Farmer's Market
ATTACH;FMTTYPE=image/jpeg:https://swfl.life/wp-content/uploads/2025/10/278224455_505923111243995_7455387928740968657_n.jpg
END:VEVENT
BEGIN:VEVENT
DTSTART;TZID=America/New_York:20260221T080000
DTEND;TZID=America/New_York:20260221T120000
DTSTAMP:20260424T075639
CREATED:20251016T161322Z
LAST-MODIFIED:20251111T172837Z
UID:10012450-1771660800-1771675200@swfl.life
SUMMARY:Promenade Bonita Springs Farmer's Market
DESCRIPTION:A true “green” farmer’s market offering fresh fruits\, vegetables\, cut flowers\, plants\, baked goods\, seafood and much more. Open Saturdays\, October through May\, 8a.m. to 12 p.m. Located in the parking lot. \nFeaturing an Early Bird Bar from Deromo’s. \n(Our favorite SWFL farmer’s market!) \nhttps://www.buylocallee.com
URL:https://swfl.life/event/promenade-bonita-springs-farmers-market/2026-02-21/
LOCATION:The Promenade\, 26811 S Bay Dr\, Bonita Springs\, FL\, 34135\, United States
CATEGORIES:Farmer's Market
ATTACH;FMTTYPE=image/jpeg:https://swfl.life/wp-content/uploads/2025/10/278224455_505923111243995_7455387928740968657_n.jpg
END:VEVENT
BEGIN:VEVENT
DTSTART;TZID=America/New_York:20260214T080000
DTEND;TZID=America/New_York:20260214T120000
DTSTAMP:20260424T075639
CREATED:20251016T161322Z
LAST-MODIFIED:20251111T172837Z
UID:10012449-1771056000-1771070400@swfl.life
SUMMARY:Promenade Bonita Springs Farmer's Market
DESCRIPTION:A true “green” farmer’s market offering fresh fruits\, vegetables\, cut flowers\, plants\, baked goods\, seafood and much more. Open Saturdays\, October through May\, 8a.m. to 12 p.m. Located in the parking lot. \nFeaturing an Early Bird Bar from Deromo’s. \n(Our favorite SWFL farmer’s market!) \nhttps://www.buylocallee.com
URL:https://swfl.life/event/promenade-bonita-springs-farmers-market/2026-02-14/
LOCATION:The Promenade\, 26811 S Bay Dr\, Bonita Springs\, FL\, 34135\, United States
CATEGORIES:Farmer's Market
ATTACH;FMTTYPE=image/jpeg:https://swfl.life/wp-content/uploads/2025/10/278224455_505923111243995_7455387928740968657_n.jpg
END:VEVENT
BEGIN:VEVENT
DTSTART;TZID=America/New_York:20260207T080000
DTEND;TZID=America/New_York:20260207T120000
DTSTAMP:20260424T075639
CREATED:20251016T161322Z
LAST-MODIFIED:20251111T172837Z
UID:10012448-1770451200-1770465600@swfl.life
SUMMARY:Promenade Bonita Springs Farmer's Market
DESCRIPTION:A true “green” farmer’s market offering fresh fruits\, vegetables\, cut flowers\, plants\, baked goods\, seafood and much more. Open Saturdays\, October through May\, 8a.m. to 12 p.m. Located in the parking lot. \nFeaturing an Early Bird Bar from Deromo’s. \n(Our favorite SWFL farmer’s market!) \nhttps://www.buylocallee.com
URL:https://swfl.life/event/promenade-bonita-springs-farmers-market/2026-02-07/
LOCATION:The Promenade\, 26811 S Bay Dr\, Bonita Springs\, FL\, 34135\, United States
CATEGORIES:Farmer's Market
ATTACH;FMTTYPE=image/jpeg:https://swfl.life/wp-content/uploads/2025/10/278224455_505923111243995_7455387928740968657_n.jpg
END:VEVENT
BEGIN:VEVENT
DTSTART;TZID=America/New_York:20260201T090000
DTEND;TZID=America/New_York:20260201T163000
DTSTAMP:20260424T075639
CREATED:20260129T122653Z
LAST-MODIFIED:20260129T122653Z
UID:10013219-1769936400-1769963400@swfl.life
SUMMARY:Art Walk at Promenade at Bonita Bay
DESCRIPTION:Art Walk at Promenade at Bonita BaySaturday\, Jan. 31 from 10 a.m. to 4:30 p.m. and Sunday\, Feb. 1 from 9 a.m. to 4:30 p.m.\nImmerse yourself in the area’s finest art in a unique outdoor Art Walk! Visitors to the event will stroll the pathways and sidewalks of the Promenade at Bonita Bay. Artists and their work will line the walkways displaying a variety of artworks in a wide-open creative layout designed for your comfort and safety. All displays will be in the shade for your comfort.
URL:https://swfl.life/event/art-walk-at-promenade-at-bonita-bay/
LOCATION:The Promenade\, 26811 S Bay Dr\, Bonita Springs\, FL\, 34135\, United States
ATTACH;FMTTYPE=image/jpeg:https://swfl.life/wp-content/uploads/2026/01/612075940_1934722827366652_7216676374412960733_n.jpg
END:VEVENT
BEGIN:VEVENT
DTSTART;TZID=America/New_York:20260131T080000
DTEND;TZID=America/New_York:20260131T120000
DTSTAMP:20260424T075639
CREATED:20251016T161322Z
LAST-MODIFIED:20251111T172837Z
UID:10012447-1769846400-1769860800@swfl.life
SUMMARY:Promenade Bonita Springs Farmer's Market
DESCRIPTION:A true “green” farmer’s market offering fresh fruits\, vegetables\, cut flowers\, plants\, baked goods\, seafood and much more. Open Saturdays\, October through May\, 8a.m. to 12 p.m. Located in the parking lot. \nFeaturing an Early Bird Bar from Deromo’s. \n(Our favorite SWFL farmer’s market!) \nhttps://www.buylocallee.com
URL:https://swfl.life/event/promenade-bonita-springs-farmers-market/2026-01-31/
LOCATION:The Promenade\, 26811 S Bay Dr\, Bonita Springs\, FL\, 34135\, United States
CATEGORIES:Farmer's Market
ATTACH;FMTTYPE=image/jpeg:https://swfl.life/wp-content/uploads/2025/10/278224455_505923111243995_7455387928740968657_n.jpg
END:VEVENT
BEGIN:VEVENT
DTSTART;TZID=America/New_York:20260124T080000
DTEND;TZID=America/New_York:20260124T120000
DTSTAMP:20260424T075639
CREATED:20251016T161322Z
LAST-MODIFIED:20251111T172837Z
UID:10012446-1769241600-1769256000@swfl.life
SUMMARY:Promenade Bonita Springs Farmer's Market
DESCRIPTION:A true “green” farmer’s market offering fresh fruits\, vegetables\, cut flowers\, plants\, baked goods\, seafood and much more. Open Saturdays\, October through May\, 8a.m. to 12 p.m. Located in the parking lot. \nFeaturing an Early Bird Bar from Deromo’s. \n(Our favorite SWFL farmer’s market!) \nhttps://www.buylocallee.com
URL:https://swfl.life/event/promenade-bonita-springs-farmers-market/2026-01-24/
LOCATION:The Promenade\, 26811 S Bay Dr\, Bonita Springs\, FL\, 34135\, United States
CATEGORIES:Farmer's Market
ATTACH;FMTTYPE=image/jpeg:https://swfl.life/wp-content/uploads/2025/10/278224455_505923111243995_7455387928740968657_n.jpg
END:VEVENT
BEGIN:VEVENT
DTSTART;TZID=America/New_York:20260117T080000
DTEND;TZID=America/New_York:20260117T120000
DTSTAMP:20260424T075639
CREATED:20251016T161322Z
LAST-MODIFIED:20251111T172837Z
UID:10012445-1768636800-1768651200@swfl.life
SUMMARY:Promenade Bonita Springs Farmer's Market
DESCRIPTION:A true “green” farmer’s market offering fresh fruits\, vegetables\, cut flowers\, plants\, baked goods\, seafood and much more. Open Saturdays\, October through May\, 8a.m. to 12 p.m. Located in the parking lot. \nFeaturing an Early Bird Bar from Deromo’s. \n(Our favorite SWFL farmer’s market!) \nhttps://www.buylocallee.com
URL:https://swfl.life/event/promenade-bonita-springs-farmers-market/2026-01-17/
LOCATION:The Promenade\, 26811 S Bay Dr\, Bonita Springs\, FL\, 34135\, United States
CATEGORIES:Farmer's Market
ATTACH;FMTTYPE=image/jpeg:https://swfl.life/wp-content/uploads/2025/10/278224455_505923111243995_7455387928740968657_n.jpg
END:VEVENT
BEGIN:VEVENT
DTSTART;TZID=America/New_York:20260110T080000
DTEND;TZID=America/New_York:20260110T120000
DTSTAMP:20260424T075639
CREATED:20251016T161322Z
LAST-MODIFIED:20251111T172837Z
UID:10012444-1768032000-1768046400@swfl.life
SUMMARY:Promenade Bonita Springs Farmer's Market
DESCRIPTION:A true “green” farmer’s market offering fresh fruits\, vegetables\, cut flowers\, plants\, baked goods\, seafood and much more. Open Saturdays\, October through May\, 8a.m. to 12 p.m. Located in the parking lot. \nFeaturing an Early Bird Bar from Deromo’s. \n(Our favorite SWFL farmer’s market!) \nhttps://www.buylocallee.com
URL:https://swfl.life/event/promenade-bonita-springs-farmers-market/2026-01-10/
LOCATION:The Promenade\, 26811 S Bay Dr\, Bonita Springs\, FL\, 34135\, United States
CATEGORIES:Farmer's Market
ATTACH;FMTTYPE=image/jpeg:https://swfl.life/wp-content/uploads/2025/10/278224455_505923111243995_7455387928740968657_n.jpg
END:VEVENT
BEGIN:VEVENT
DTSTART;TZID=America/New_York:20260103T080000
DTEND;TZID=America/New_York:20260103T120000
DTSTAMP:20260424T075639
CREATED:20251016T161322Z
LAST-MODIFIED:20251111T172837Z
UID:10012443-1767427200-1767441600@swfl.life
SUMMARY:Promenade Bonita Springs Farmer's Market
DESCRIPTION:A true “green” farmer’s market offering fresh fruits\, vegetables\, cut flowers\, plants\, baked goods\, seafood and much more. Open Saturdays\, October through May\, 8a.m. to 12 p.m. Located in the parking lot. \nFeaturing an Early Bird Bar from Deromo’s. \n(Our favorite SWFL farmer’s market!) \nhttps://www.buylocallee.com
URL:https://swfl.life/event/promenade-bonita-springs-farmers-market/2026-01-03/
LOCATION:The Promenade\, 26811 S Bay Dr\, Bonita Springs\, FL\, 34135\, United States
CATEGORIES:Farmer's Market
ATTACH;FMTTYPE=image/jpeg:https://swfl.life/wp-content/uploads/2025/10/278224455_505923111243995_7455387928740968657_n.jpg
END:VEVENT
END:VCALENDAR