BEGIN:VCALENDAR
VERSION:2.0
PRODID:-//SWFL Life - ECPv6.15.20//NONSGML v1.0//EN
CALSCALE:GREGORIAN
METHOD:PUBLISH
X-WR-CALNAME:SWFL Life
X-ORIGINAL-URL:https://swfl.life
X-WR-CALDESC:Events for SWFL Life
REFRESH-INTERVAL;VALUE=DURATION:PT1H
X-Robots-Tag:noindex
X-PUBLISHED-TTL:PT1H
BEGIN:VTIMEZONE
TZID:America/New_York
BEGIN:DAYLIGHT
TZOFFSETFROM:-0500
TZOFFSETTO:-0400
TZNAME:EDT
DTSTART:20250309T070000
END:DAYLIGHT
BEGIN:STANDARD
TZOFFSETFROM:-0400
TZOFFSETTO:-0500
TZNAME:EST
DTSTART:20251102T060000
END:STANDARD
BEGIN:DAYLIGHT
TZOFFSETFROM:-0500
TZOFFSETTO:-0400
TZNAME:EDT
DTSTART:20260308T070000
END:DAYLIGHT
BEGIN:STANDARD
TZOFFSETFROM:-0400
TZOFFSETTO:-0500
TZNAME:EST
DTSTART:20261101T060000
END:STANDARD
BEGIN:DAYLIGHT
TZOFFSETFROM:-0500
TZOFFSETTO:-0400
TZNAME:EDT
DTSTART:20270314T070000
END:DAYLIGHT
BEGIN:STANDARD
TZOFFSETFROM:-0400
TZOFFSETTO:-0500
TZNAME:EST
DTSTART:20271107T060000
END:STANDARD
END:VTIMEZONE
BEGIN:VEVENT
DTSTART;TZID=America/New_York:20260104T073000
DTEND;TZID=America/New_York:20260104T120000
DTSTAMP:20260420T085343
CREATED:20260101T193552Z
LAST-MODIFIED:20260101T193552Z
UID:10013096-1767511800-1767528000@swfl.life
SUMMARY:Wellfest at Rooftop
DESCRIPTION:WELLFEST: NEW YEAR KICKOFF!Start your year with purpose.On Sunday\, January 4th\, we’re bringing together the top fitness leaders in Southwest Florida for a morning built to reset your body\, challenge your limits\, and connect with a motivated community.THE EXPERIENCEYour ticket includes access to three back-to-back signature classes\, each designed to hit a different pillar of performance:1. Bonita Run Club – RunA guided warm-up run that activates the body\, supports all skill levels\, and sets the tone for the day.2. Burn Bootcamp Estero – HIIT TrainingA heart-pumping session focused on strength\, power\, and conditioning with Burn’s signature high-energy atmosphere.3. JetSet Pilates – Strength & Core FlowA recovery-minded\, full-body Pilates class emphasizing alignment\, mobility\, and mindful movement.Check in begin at 7:30 AM and transition smoothly from one to the next. No prior experience required for any session.PLUS: A FULL WELLNESS MARKETPLACEExplore a curated lineup of health and wellness vendors\, including:Functional snacks and local health foodsFitness and recovery brandsSupplements and performance productsSelf-care\, lifestyle\, and wellness servicesRECOVERY ZONE – COLD PLUNGE BY THE COOL CLUBTake your recovery to the next level with an immersive cold plunge session led by The Cool Club. Perfect post-workout reset.PERKS WITH EVERY TICKETAll attendees receive:A branded bagAccess to all classesAccess to vendors & activationsComplimentary alcoholic or non-alcoholic drink from RooftopThe perfect New Year momentum boost\nStart 2026 the right way with movement\, community\, and intention.Tickets are live now. Secure your spot before it sells out.
URL:https://swfl.life/event/wellfest-at-rooftop/
LOCATION:Rooftop at Riverside\, 27333 Old 41 Rd\, Bonita Springs\, FL\, 34135
ATTACH;FMTTYPE=image/jpeg:https://swfl.life/wp-content/uploads/2026/01/605441209_893985029810306_8351965388025408590_n.jpg
END:VEVENT
END:VCALENDAR