BEGIN:VCALENDAR
VERSION:2.0
PRODID:-//SWFL Life - ECPv6.15.20//NONSGML v1.0//EN
CALSCALE:GREGORIAN
METHOD:PUBLISH
X-ORIGINAL-URL:https://swfl.life
X-WR-CALDESC:Events for SWFL Life
REFRESH-INTERVAL;VALUE=DURATION:PT1H
X-Robots-Tag:noindex
X-PUBLISHED-TTL:PT1H
BEGIN:VTIMEZONE
TZID:America/New_York
BEGIN:DAYLIGHT
TZOFFSETFROM:-0500
TZOFFSETTO:-0400
TZNAME:EDT
DTSTART:20250309T070000
END:DAYLIGHT
BEGIN:STANDARD
TZOFFSETFROM:-0400
TZOFFSETTO:-0500
TZNAME:EST
DTSTART:20251102T060000
END:STANDARD
BEGIN:DAYLIGHT
TZOFFSETFROM:-0500
TZOFFSETTO:-0400
TZNAME:EDT
DTSTART:20260308T070000
END:DAYLIGHT
BEGIN:STANDARD
TZOFFSETFROM:-0400
TZOFFSETTO:-0500
TZNAME:EST
DTSTART:20261101T060000
END:STANDARD
BEGIN:DAYLIGHT
TZOFFSETFROM:-0500
TZOFFSETTO:-0400
TZNAME:EDT
DTSTART:20270314T070000
END:DAYLIGHT
BEGIN:STANDARD
TZOFFSETFROM:-0400
TZOFFSETTO:-0500
TZNAME:EST
DTSTART:20271107T060000
END:STANDARD
END:VTIMEZONE
BEGIN:VEVENT
DTSTART;TZID=America/New_York:20260425T110000
DTEND;TZID=America/New_York:20260425T140000
DTSTAMP:20260424T131917
CREATED:20260423T152435Z
LAST-MODIFIED:20260423T152435Z
UID:10014221-1777114800-1777125600@swfl.life
SUMMARY:Touch-A-Truck
DESCRIPTION:FREE COMMUNITY EVENTFace painting\, petting zoo\, bubble truck\, and tons of work trucks! Food venders also are here!Saturday April 25th 11:00am – 2:00pm\n\nPediatric Dentistry of Florida on behalf of Dr. Tim Verwest\, DMD & associates is hosting its annual family-friendly Touch-a-Truck event on April 25th from 11:00 a.m. – 2:00 p.m. 8016 Summerlin Lakes Drive\, Fort Myers\, Florida 33907. This interactive experience is geared towards reducing the number of injuries and fatalities due to children approaching large work vehicles in the community.\nTouch-a-Truck is a hands-on experience where children will be able to learn about their favorite trucks and vehicles plus interact with the professionals who drive them. Featured vehicles will include emergency service\, law enforcement\, public service\, and local commercial businesses. Families can enjoy a variety of fun activities for kids\, plus food and drinks available for purchase throughout the event. Please bring canned food donations benefiting Harry Chapin Food Bank.\nThere will be a special horn-free hour from 11:00 a.m. – 12:00 p.m. for children with special needs and sensitive ears. Admission to Touch-a-Truck is free for all! The event will be held at our pediatric dental office.\nPediatric Dentistry of Florida continues to provide pediatric dental care to children for over 30 years. Areas of service include comprehensive dental exams\, cleanings\, fillings\, dental hygiene education\, extractions\, fluoride treatments\, and many more. For more information visit www.DrVerwest.com or call 239-482-2722.
URL:https://swfl.life/event/touch-a-truck/
LOCATION:Pediatric Dentistry of Florida\, 8016 Summerlin Lakes Dr\, Fort Myers\, FL
ATTACH;FMTTYPE=image/jpeg:https://swfl.life/wp-content/uploads/2026/04/608855808_1297647159050545_4197810537174818680_n.jpg
END:VEVENT
END:VCALENDAR