BEGIN:VCALENDAR
VERSION:2.0
PRODID:-//SWFL Life - ECPv6.15.20//NONSGML v1.0//EN
CALSCALE:GREGORIAN
METHOD:PUBLISH
X-WR-CALNAME:SWFL Life
X-ORIGINAL-URL:https://swfl.life
X-WR-CALDESC:Events for SWFL Life
REFRESH-INTERVAL;VALUE=DURATION:PT1H
X-Robots-Tag:noindex
X-PUBLISHED-TTL:PT1H
BEGIN:VTIMEZONE
TZID:America/New_York
BEGIN:DAYLIGHT
TZOFFSETFROM:-0500
TZOFFSETTO:-0400
TZNAME:EDT
DTSTART:20250309T070000
END:DAYLIGHT
BEGIN:STANDARD
TZOFFSETFROM:-0400
TZOFFSETTO:-0500
TZNAME:EST
DTSTART:20251102T060000
END:STANDARD
BEGIN:DAYLIGHT
TZOFFSETFROM:-0500
TZOFFSETTO:-0400
TZNAME:EDT
DTSTART:20260308T070000
END:DAYLIGHT
BEGIN:STANDARD
TZOFFSETFROM:-0400
TZOFFSETTO:-0500
TZNAME:EST
DTSTART:20261101T060000
END:STANDARD
BEGIN:DAYLIGHT
TZOFFSETFROM:-0500
TZOFFSETTO:-0400
TZNAME:EDT
DTSTART:20270314T070000
END:DAYLIGHT
BEGIN:STANDARD
TZOFFSETFROM:-0400
TZOFFSETTO:-0500
TZNAME:EST
DTSTART:20271107T060000
END:STANDARD
END:VTIMEZONE
BEGIN:VEVENT
DTSTART;TZID=America/New_York:20260418T150000
DTEND;TZID=America/New_York:20260418T220000
DTSTAMP:20260424T113720
CREATED:20260417T104821Z
LAST-MODIFIED:20260417T104821Z
UID:10014196-1776524400-1776549600@swfl.life
SUMMARY:Country Jam Naples 2026
DESCRIPTION:Country Jam Naples™ 2026 is officially here and it is going to be one for the books.\nALL FEMALE ~ ALL COUNTRY ~ ALL STAR™\n Co-Headliners:\nGabby Barrett — One of country music’s biggest modern voices\, Gabby burst onto the scene through American Idol and never looked back. With smash hits like I Hope and Pick Me Up\, she has racked up billions of streams and multiple Grammy nominations\, bringing raw emotion and powerhouse vocals to every stage she steps on.\nSara Evans — A true country music legend with over 30 years in the game. Known for timeless hits like Born to Fly\, Suds in the Bucket\, and A Little Bit Stronger\, Sara has sold millions of records and earned her place among the greats. Her live performances are nothing short of magical.\n Also Performing:\nRaeLynn — Bold\, soulful\, and unapologetically herself. RaeLynn has been turning heads since her days on The Voice and has built a fiercely loyal fanbase with hits like God Made Girls and Lonely Call.\nJamie O’Neal — With a voice that stops you in your tracks\, Jamie is best known for her back-to-back number one hits There Is No Arizona and When I Think About Angels. A true fan favorite.\nCasey Bishop — The breakout star from American Idol Season 19\, Casey brings a raw and electrifying energy to the stage that you simply have to experience live.\n Date: April 18\, 2026 Gates Open: 3 PM Location: Paradise Coast Sports Complex\, Naples FL
URL:https://swfl.life/event/country-jam-naples-2026/
LOCATION:Paradise Coast Sports Complex\, 3940 City Gate Blvd S\, Naples\, FL\, 34117
ATTACH;FMTTYPE=image/jpeg:https://swfl.life/wp-content/uploads/2026/04/670846528_122195806130524782_1731477776166797515_n.jpg
END:VEVENT
BEGIN:VEVENT
DTSTART;VALUE=DATE:20260226
DTEND;VALUE=DATE:20260302
DTSTAMP:20260424T113720
CREATED:20260226T120031Z
LAST-MODIFIED:20260226T120031Z
UID:10013304-1772064000-1772409599@swfl.life
SUMMARY:Get Out And Go To The Naples RV Show
DESCRIPTION:It’s time to Get Out & Go to the Naples RV Show at the Paradise Coast Sports Complex in Naples\, Florida.\nExplore an extensive range of motorhomes\, adventure vehicles\, and towables from top-tier brands\, all show priced and ready for immediate sale. Whether you’re after an adventure van or a luxury motorhome\, this lineup offers something for every lifestyle and budget.\nSavings start before you arrive with FREE admission and parking!\nIf you’re considering upgrading\, trading up\, or just exploring all the options\, this is your best opportunity!\nBring in your trade! Financing options are available\, offering an excellent way to make your dream vehicle affordable!\nTop Name Brands: Winnebago\, Tiffin\, Grand Design\, Grech RV\, Fleetwood RV\, Thor Motor Coach\, Storyteller Overland\, Entegra\, Midwest Automotive Designs\, and more!\nPlus\, explore an outstanding selection of top-brand used motorhomes\, all handpicked and low in miles.\n\nLocation:\nParadise Coast Sports Complex3865 City Gate Blvd SouthNaples\, FL 34117\nShow Dates & Hours:\nThursday to Sunday | Feb 26 – March 1Daily: 9am to 7pm
URL:https://swfl.life/event/get-out-and-go-to-the-naples-rv-show/
LOCATION:Paradise Coast Sports Complex\, 3940 City Gate Blvd S\, Naples\, FL\, 34117
ATTACH;FMTTYPE=image/jpeg:https://swfl.life/wp-content/uploads/2026/02/636863897_899564732837244_288661474661564095_n.jpg
END:VEVENT
BEGIN:VEVENT
DTSTART;TZID=America/New_York:20260122T090000
DTEND;TZID=America/New_York:20260125T180000
DTSTAMP:20260424T113720
CREATED:20260122T143436Z
LAST-MODIFIED:20260122T143436Z
UID:10013200-1769072400-1769364000@swfl.life
SUMMARY:96 Hours to Save RV Show | Naples\, FL
DESCRIPTION:There’s just 96 Hours To Save during the Naples RV Show at the Paradise Coast Sports Complex in Naples\, Florida.\nExplore an extensive range of motorhomes\, adventure vehicles\, and towables from top-tier brands\, all show priced and ready for immediate sale. Whether you’re after an adventure van or a luxury motorhome\, this lineup offers something for every lifestyle and budget.\nSavings start before you arrive with FREE admission and parking!\nIf you’re considering upgrading\, trading up\, or just exploring all the options\, this is your best opportunity!\nBring in your trade! Financing options are available\, offering an excellent way to make your dream vehicle affordable!\nTop Name Brands:\nWinnebago\, Tiffin\, Grand Design\, Grech RV\, Fleetwood RV\, Thor Motor Coach\, Storyteller Overland\, Entegra\, Midwest Automotive Designs\, and more!\nPlus\, explore an outstanding selection of top-brand used motorhomes\, all handpicked and low in miles.\nLocation:\nParadise Coast Sports Complex\n3865 City Gate Blvd South\nNaples\, FL 34117\nShow Dates & Hours:\nThursday to Sunday\nDaily: 9am to 6pm
URL:https://swfl.life/event/96-hours-to-save-rv-show-naples-fl/
LOCATION:Paradise Coast Sports Complex\, 3940 City Gate Blvd S\, Naples\, FL\, 34117
ATTACH;FMTTYPE=image/jpeg:https://swfl.life/wp-content/uploads/2026/01/616329590_870544805739237_9069335073063338242_n.jpg
END:VEVENT
END:VCALENDAR