BEGIN:VCALENDAR
VERSION:2.0
PRODID:-//SWFL Life - ECPv6.15.20//NONSGML v1.0//EN
CALSCALE:GREGORIAN
METHOD:PUBLISH
X-WR-CALNAME:SWFL Life
X-ORIGINAL-URL:https://swfl.life
X-WR-CALDESC:Events for SWFL Life
REFRESH-INTERVAL;VALUE=DURATION:PT1H
X-Robots-Tag:noindex
X-PUBLISHED-TTL:PT1H
BEGIN:VTIMEZONE
TZID:America/New_York
BEGIN:DAYLIGHT
TZOFFSETFROM:-0500
TZOFFSETTO:-0400
TZNAME:EDT
DTSTART:20250309T070000
END:DAYLIGHT
BEGIN:STANDARD
TZOFFSETFROM:-0400
TZOFFSETTO:-0500
TZNAME:EST
DTSTART:20251102T060000
END:STANDARD
BEGIN:DAYLIGHT
TZOFFSETFROM:-0500
TZOFFSETTO:-0400
TZNAME:EDT
DTSTART:20260308T070000
END:DAYLIGHT
BEGIN:STANDARD
TZOFFSETFROM:-0400
TZOFFSETTO:-0500
TZNAME:EST
DTSTART:20261101T060000
END:STANDARD
BEGIN:DAYLIGHT
TZOFFSETFROM:-0500
TZOFFSETTO:-0400
TZNAME:EDT
DTSTART:20270314T070000
END:DAYLIGHT
BEGIN:STANDARD
TZOFFSETFROM:-0400
TZOFFSETTO:-0500
TZNAME:EST
DTSTART:20271107T060000
END:STANDARD
END:VTIMEZONE
BEGIN:VEVENT
DTSTART;TZID=America/New_York:20260328T090000
DTEND;TZID=America/New_York:20260328T110000
DTSTAMP:20260424T124141
CREATED:20260325T151541Z
LAST-MODIFIED:20260325T151541Z
UID:10014100-1774688400-1774695600@swfl.life
SUMMARY:Annual Butterfly Release
DESCRIPTION:Join us to celebrate life\, give flight to butterflies\, and remember loved ones!\nAvow’s Annual Butterfly Release is a signature community event that offers a meaningful way to honor loved ones while supporting families and individuals who are grieving. Open to the public\, we invite all to join this special community event.\nSaturday\, March 28\, 2026 | 9 a.m.North Collier Regional Park – Naples\, FL\nEvent Schedule:\n• 9 a.m. – Butterfly exhibit with over 1\,000 live butterflies\, live musical entertainment\, and children’s activities\n• 10:30 a.m. – Butterfly exhibit closes\n• 10:45 a.m. – Remembrance ceremony begins\, featuring inspirational readings\, music\, and a public reading of the names of those being remembered. The ceremony concludes with a beautiful butterfly release\, symbolizing hope\, love\, and remembrance.\nName Registration:\nThose who wish to have a loved one’s name read during the remembrance ceremony may do so with a $55 donation per name\, supporting Avow’s hospice and community programs. Online registration closes Thursday\, March 26\, 2026\, at noon.To ensure names are read in alphabetical order\, please register by this deadline. Names registered after noon on March 26 will be added to the end of the list.\nTo register names\, visit avowcares.org/butterflyrelease\nGenerously Endowed by The Gorlach Family
URL:https://swfl.life/event/annual-butterfly-release/
LOCATION:North Collier Regional Park\, 15000 Livingston Rd.\, Naples\, FL
ATTACH;FMTTYPE=image/jpeg:https://swfl.life/wp-content/uploads/2026/03/629474028_1337605221728397_6531156439153644856_n.jpg
END:VEVENT
BEGIN:VEVENT
DTSTART;TZID=America/New_York:20260222T090000
DTEND;TZID=America/New_York:20260222T140000
DTSTAMP:20260424T124141
CREATED:20260219T152336Z
LAST-MODIFIED:20260219T152336Z
UID:10013280-1771750800-1771768800@swfl.life
SUMMARY:22nd Annual West Coast Muscle Car & Truck Show
DESCRIPTION:Date Update for the 2026 West Coast Muscle Car & Truck Show\nDue to inclement weather and out of an abundance of caution for our participants\, volunteers\, and guests\, we have made the decision to reschedule the West Coast Muscle Car Club Car & Truck Show. The event will now take place on February 21\, 2026.\nThis event continues to be more than a showcase of cars and trucks; it is a celebration of community\, teamwork\, and purpose. We are grateful for the continued support of our partners\, participants\, and attendees\, and we look forward to welcoming everyone on our new date for another memorable experience. Thank you for your understanding and continued commitment to Avow’s mission. We can’t wait to see you on February 21\, 2026.\n____________________________________________\nJoin Avow and the West Coast Muscle Car Club for our annual Car & Truck Show\, featuring more than 300 vintage\, new\, and custom vehicles on display! From classic beauties to sleek modern rides\, there’s something for every car enthusiast to enjoy.\nAdmission is $20\, with free entry for children 12 and under\, and free parking is available throughout the park.\nThe event includes food\, entertainment\, and fun for all ages\, plus awards and trophies for standout vehicles. Don’t miss this exciting day filled with cars\, energy\, and community spirit—all in support of Avow Kids\, a no-cost grief and loss support program for children ages 5–17.\nVisit avowcares.org/wcmccshow to purchase tickets or to register your car.\nPresented by Tamiami Ford
URL:https://swfl.life/event/22nd-annual-west-coast-muscle-car-truck-show/
LOCATION:North Collier Regional Park\, 15000 Livingston Rd.\, Naples\, FL
ATTACH;FMTTYPE=image/jpeg:https://swfl.life/wp-content/uploads/2026/02/559006318_1236430981845822_4014192431968334454_n-1.jpg
END:VEVENT
BEGIN:VEVENT
DTSTART;TZID=America/New_York:20260131T090000
DTEND;TZID=America/New_York:20260131T140000
DTSTAMP:20260424T124141
CREATED:20260129T115943Z
LAST-MODIFIED:20260129T115943Z
UID:10013213-1769850000-1769868000@swfl.life
SUMMARY:22nd Annual West Coast Muscle Car Club Car & Truck Show
DESCRIPTION:Join Avow and the West Coast Muscle Car Club for our annual Car & Truck Show\, featuring more than 300 vintage\, new\, and custom vehicles on display! From classic beauties to sleek modern rides\, there’s something for every car enthusiast to enjoy.\nAdmission is $20\, with free entry for children 12 and under\, and free parking is available throughout the park.\nThe event includes food\, entertainment\, and fun for all ages\, plus awards and trophies for standout vehicles. Don’t miss this exciting day filled with cars\, energy\, and community spirit—all in support of Avow Kids\, a no-cost grief and loss support program for children ages 5–17.\nVisit avowcares.org/wcmccshow to purchase tickets or to register your car.\nPresented by Tamiami Ford
URL:https://swfl.life/event/22nd-annual-west-coast-muscle-car-club-car-truck-show/
LOCATION:North Collier Regional Park\, 15000 Livingston Rd.\, Naples\, FL
ATTACH;FMTTYPE=image/jpeg:https://swfl.life/wp-content/uploads/2026/01/559006318_1236430981845822_4014192431968334454_n.jpg
END:VEVENT
END:VCALENDAR