BEGIN:VCALENDAR
VERSION:2.0
PRODID:-//SWFL Life - ECPv6.15.20//NONSGML v1.0//EN
CALSCALE:GREGORIAN
METHOD:PUBLISH
X-ORIGINAL-URL:https://swfl.life
X-WR-CALDESC:Events for SWFL Life
REFRESH-INTERVAL;VALUE=DURATION:PT1H
X-Robots-Tag:noindex
X-PUBLISHED-TTL:PT1H
BEGIN:VTIMEZONE
TZID:America/New_York
BEGIN:DAYLIGHT
TZOFFSETFROM:-0500
TZOFFSETTO:-0400
TZNAME:EDT
DTSTART:20290311T070000
END:DAYLIGHT
BEGIN:STANDARD
TZOFFSETFROM:-0400
TZOFFSETTO:-0500
TZNAME:EST
DTSTART:20291104T060000
END:STANDARD
BEGIN:DAYLIGHT
TZOFFSETFROM:-0500
TZOFFSETTO:-0400
TZNAME:EDT
DTSTART:20300310T070000
END:DAYLIGHT
BEGIN:STANDARD
TZOFFSETFROM:-0400
TZOFFSETTO:-0500
TZNAME:EST
DTSTART:20301103T060000
END:STANDARD
BEGIN:DAYLIGHT
TZOFFSETFROM:-0500
TZOFFSETTO:-0400
TZNAME:EDT
DTSTART:20310309T070000
END:DAYLIGHT
BEGIN:STANDARD
TZOFFSETFROM:-0400
TZOFFSETTO:-0500
TZNAME:EST
DTSTART:20311102T060000
END:STANDARD
BEGIN:DAYLIGHT
TZOFFSETFROM:-0500
TZOFFSETTO:-0400
TZNAME:EDT
DTSTART:20320314T070000
END:DAYLIGHT
BEGIN:STANDARD
TZOFFSETFROM:-0400
TZOFFSETTO:-0500
TZNAME:EST
DTSTART:20321107T060000
END:STANDARD
END:VTIMEZONE
BEGIN:VEVENT
DTSTART;TZID=America/New_York:20300712T170000
DTEND;TZID=America/New_York:20300712T200000
DTSTAMP:20260424T160701
CREATED:20250911T170619Z
LAST-MODIFIED:20250911T170619Z
UID:10012022-1910106000-1910116800@swfl.life
SUMMARY:Matlacha Art Walk
DESCRIPTION:Every 2nd Friday of the month join local artists\, galleries\, musicians and shops for the Matlacha Art Walk. Come out for a family friendly night of live music\, local artists\, vendors and fun. Many of the shops offer Sip and Shop experiences\, so come out and continue our efforts of reviving the pleasure in Matlacha
URL:https://swfl.life/event/matlacha-art-walk/2030-07-12/
LOCATION:Matlacha Island\, Matlacha\, FL
ATTACH;FMTTYPE=image/jpeg:https://swfl.life/wp-content/uploads/2025/09/518348633_10237360595064104_9063731545632667009_n.jpg
END:VEVENT
BEGIN:VEVENT
DTSTART;TZID=America/New_York:20300809T170000
DTEND;TZID=America/New_York:20300809T200000
DTSTAMP:20260424T160701
CREATED:20250911T170619Z
LAST-MODIFIED:20250911T170619Z
UID:10012023-1912525200-1912536000@swfl.life
SUMMARY:Matlacha Art Walk
DESCRIPTION:Every 2nd Friday of the month join local artists\, galleries\, musicians and shops for the Matlacha Art Walk. Come out for a family friendly night of live music\, local artists\, vendors and fun. Many of the shops offer Sip and Shop experiences\, so come out and continue our efforts of reviving the pleasure in Matlacha
URL:https://swfl.life/event/matlacha-art-walk/2030-08-09/
LOCATION:Matlacha Island\, Matlacha\, FL
ATTACH;FMTTYPE=image/jpeg:https://swfl.life/wp-content/uploads/2025/09/518348633_10237360595064104_9063731545632667009_n.jpg
END:VEVENT
BEGIN:VEVENT
DTSTART;TZID=America/New_York:20300913T170000
DTEND;TZID=America/New_York:20300913T200000
DTSTAMP:20260424T160701
CREATED:20250911T170619Z
LAST-MODIFIED:20250911T170619Z
UID:10012421-1915549200-1915560000@swfl.life
SUMMARY:Matlacha Art Walk
DESCRIPTION:Every 2nd Friday of the month join local artists\, galleries\, musicians and shops for the Matlacha Art Walk. Come out for a family friendly night of live music\, local artists\, vendors and fun. Many of the shops offer Sip and Shop experiences\, so come out and continue our efforts of reviving the pleasure in Matlacha
URL:https://swfl.life/event/matlacha-art-walk/2030-09-13/
LOCATION:Matlacha Island\, Matlacha\, FL
ATTACH;FMTTYPE=image/jpeg:https://swfl.life/wp-content/uploads/2025/09/518348633_10237360595064104_9063731545632667009_n.jpg
END:VEVENT
BEGIN:VEVENT
DTSTART;TZID=America/New_York:20301011T170000
DTEND;TZID=America/New_York:20301011T200000
DTSTAMP:20260424T160701
CREATED:20250911T170619Z
LAST-MODIFIED:20250911T170619Z
UID:10012422-1917968400-1917979200@swfl.life
SUMMARY:Matlacha Art Walk
DESCRIPTION:Every 2nd Friday of the month join local artists\, galleries\, musicians and shops for the Matlacha Art Walk. Come out for a family friendly night of live music\, local artists\, vendors and fun. Many of the shops offer Sip and Shop experiences\, so come out and continue our efforts of reviving the pleasure in Matlacha
URL:https://swfl.life/event/matlacha-art-walk/2030-10-11/
LOCATION:Matlacha Island\, Matlacha\, FL
ATTACH;FMTTYPE=image/jpeg:https://swfl.life/wp-content/uploads/2025/09/518348633_10237360595064104_9063731545632667009_n.jpg
END:VEVENT
BEGIN:VEVENT
DTSTART;TZID=America/New_York:20301108T170000
DTEND;TZID=America/New_York:20301108T200000
DTSTAMP:20260424T160701
CREATED:20250911T170619Z
LAST-MODIFIED:20250911T170619Z
UID:10012647-1920387600-1920398400@swfl.life
SUMMARY:Matlacha Art Walk
DESCRIPTION:Every 2nd Friday of the month join local artists\, galleries\, musicians and shops for the Matlacha Art Walk. Come out for a family friendly night of live music\, local artists\, vendors and fun. Many of the shops offer Sip and Shop experiences\, so come out and continue our efforts of reviving the pleasure in Matlacha
URL:https://swfl.life/event/matlacha-art-walk/2030-11-08/
LOCATION:Matlacha Island\, Matlacha\, FL
ATTACH;FMTTYPE=image/jpeg:https://swfl.life/wp-content/uploads/2025/09/518348633_10237360595064104_9063731545632667009_n.jpg
END:VEVENT
BEGIN:VEVENT
DTSTART;TZID=America/New_York:20301213T170000
DTEND;TZID=America/New_York:20301213T200000
DTSTAMP:20260424T160701
CREATED:20250911T170619Z
LAST-MODIFIED:20250911T170619Z
UID:10013056-1923411600-1923422400@swfl.life
SUMMARY:Matlacha Art Walk
DESCRIPTION:Every 2nd Friday of the month join local artists\, galleries\, musicians and shops for the Matlacha Art Walk. Come out for a family friendly night of live music\, local artists\, vendors and fun. Many of the shops offer Sip and Shop experiences\, so come out and continue our efforts of reviving the pleasure in Matlacha
URL:https://swfl.life/event/matlacha-art-walk/2030-12-13/
LOCATION:Matlacha Island\, Matlacha\, FL
ATTACH;FMTTYPE=image/jpeg:https://swfl.life/wp-content/uploads/2025/09/518348633_10237360595064104_9063731545632667009_n.jpg
END:VEVENT
BEGIN:VEVENT
DTSTART;TZID=America/New_York:20310110T170000
DTEND;TZID=America/New_York:20310110T200000
DTSTAMP:20260424T160701
CREATED:20250911T170619Z
LAST-MODIFIED:20250911T170619Z
UID:10013184-1925830800-1925841600@swfl.life
SUMMARY:Matlacha Art Walk
DESCRIPTION:Every 2nd Friday of the month join local artists\, galleries\, musicians and shops for the Matlacha Art Walk. Come out for a family friendly night of live music\, local artists\, vendors and fun. Many of the shops offer Sip and Shop experiences\, so come out and continue our efforts of reviving the pleasure in Matlacha
URL:https://swfl.life/event/matlacha-art-walk/2031-01-10/
LOCATION:Matlacha Island\, Matlacha\, FL
ATTACH;FMTTYPE=image/jpeg:https://swfl.life/wp-content/uploads/2025/09/518348633_10237360595064104_9063731545632667009_n.jpg
END:VEVENT
END:VCALENDAR