BEGIN:VCALENDAR
VERSION:2.0
PRODID:-//SWFL Life - ECPv6.15.20//NONSGML v1.0//EN
CALSCALE:GREGORIAN
METHOD:PUBLISH
X-WR-CALNAME:SWFL Life
X-ORIGINAL-URL:https://swfl.life
X-WR-CALDESC:Events for SWFL Life
REFRESH-INTERVAL;VALUE=DURATION:PT1H
X-Robots-Tag:noindex
X-PUBLISHED-TTL:PT1H
BEGIN:VTIMEZONE
TZID:America/New_York
BEGIN:DAYLIGHT
TZOFFSETFROM:-0500
TZOFFSETTO:-0400
TZNAME:EDT
DTSTART:20270314T070000
END:DAYLIGHT
BEGIN:STANDARD
TZOFFSETFROM:-0400
TZOFFSETTO:-0500
TZNAME:EST
DTSTART:20271107T060000
END:STANDARD
BEGIN:DAYLIGHT
TZOFFSETFROM:-0500
TZOFFSETTO:-0400
TZNAME:EDT
DTSTART:20280312T070000
END:DAYLIGHT
BEGIN:STANDARD
TZOFFSETFROM:-0400
TZOFFSETTO:-0500
TZNAME:EST
DTSTART:20281105T060000
END:STANDARD
BEGIN:DAYLIGHT
TZOFFSETFROM:-0500
TZOFFSETTO:-0400
TZNAME:EDT
DTSTART:20290311T070000
END:DAYLIGHT
BEGIN:STANDARD
TZOFFSETFROM:-0400
TZOFFSETTO:-0500
TZNAME:EST
DTSTART:20291104T060000
END:STANDARD
BEGIN:DAYLIGHT
TZOFFSETFROM:-0500
TZOFFSETTO:-0400
TZNAME:EDT
DTSTART:20300310T070000
END:DAYLIGHT
BEGIN:STANDARD
TZOFFSETFROM:-0400
TZOFFSETTO:-0500
TZNAME:EST
DTSTART:20301103T060000
END:STANDARD
BEGIN:DAYLIGHT
TZOFFSETFROM:-0500
TZOFFSETTO:-0400
TZNAME:EDT
DTSTART:20310309T070000
END:DAYLIGHT
BEGIN:STANDARD
TZOFFSETFROM:-0400
TZOFFSETTO:-0500
TZNAME:EST
DTSTART:20311102T060000
END:STANDARD
END:VTIMEZONE
BEGIN:VEVENT
DTSTART;TZID=America/New_York:20280114T170000
DTEND;TZID=America/New_York:20280114T200000
DTSTAMP:20260424T112114
CREATED:20250911T170619Z
LAST-MODIFIED:20250911T170619Z
UID:10011992-1831482000-1831492800@swfl.life
SUMMARY:Matlacha Art Walk
DESCRIPTION:Every 2nd Friday of the month join local artists\, galleries\, musicians and shops for the Matlacha Art Walk. Come out for a family friendly night of live music\, local artists\, vendors and fun. Many of the shops offer Sip and Shop experiences\, so come out and continue our efforts of reviving the pleasure in Matlacha
URL:https://swfl.life/event/matlacha-art-walk/2028-01-14/
LOCATION:Matlacha Island\, Matlacha\, FL
ATTACH;FMTTYPE=image/jpeg:https://swfl.life/wp-content/uploads/2025/09/518348633_10237360595064104_9063731545632667009_n.jpg
END:VEVENT
BEGIN:VEVENT
DTSTART;TZID=America/New_York:20280211T170000
DTEND;TZID=America/New_York:20280211T200000
DTSTAMP:20260424T112114
CREATED:20250911T170619Z
LAST-MODIFIED:20250911T170619Z
UID:10011993-1833901200-1833912000@swfl.life
SUMMARY:Matlacha Art Walk
DESCRIPTION:Every 2nd Friday of the month join local artists\, galleries\, musicians and shops for the Matlacha Art Walk. Come out for a family friendly night of live music\, local artists\, vendors and fun. Many of the shops offer Sip and Shop experiences\, so come out and continue our efforts of reviving the pleasure in Matlacha
URL:https://swfl.life/event/matlacha-art-walk/2028-02-11/
LOCATION:Matlacha Island\, Matlacha\, FL
ATTACH;FMTTYPE=image/jpeg:https://swfl.life/wp-content/uploads/2025/09/518348633_10237360595064104_9063731545632667009_n.jpg
END:VEVENT
BEGIN:VEVENT
DTSTART;TZID=America/New_York:20280310T170000
DTEND;TZID=America/New_York:20280310T200000
DTSTAMP:20260424T112114
CREATED:20250911T170619Z
LAST-MODIFIED:20250911T170619Z
UID:10011994-1836320400-1836331200@swfl.life
SUMMARY:Matlacha Art Walk
DESCRIPTION:Every 2nd Friday of the month join local artists\, galleries\, musicians and shops for the Matlacha Art Walk. Come out for a family friendly night of live music\, local artists\, vendors and fun. Many of the shops offer Sip and Shop experiences\, so come out and continue our efforts of reviving the pleasure in Matlacha
URL:https://swfl.life/event/matlacha-art-walk/2028-03-10/
LOCATION:Matlacha Island\, Matlacha\, FL
ATTACH;FMTTYPE=image/jpeg:https://swfl.life/wp-content/uploads/2025/09/518348633_10237360595064104_9063731545632667009_n.jpg
END:VEVENT
BEGIN:VEVENT
DTSTART;TZID=America/New_York:20280414T170000
DTEND;TZID=America/New_York:20280414T200000
DTSTAMP:20260424T112114
CREATED:20250911T170619Z
LAST-MODIFIED:20250911T170619Z
UID:10011995-1839344400-1839355200@swfl.life
SUMMARY:Matlacha Art Walk
DESCRIPTION:Every 2nd Friday of the month join local artists\, galleries\, musicians and shops for the Matlacha Art Walk. Come out for a family friendly night of live music\, local artists\, vendors and fun. Many of the shops offer Sip and Shop experiences\, so come out and continue our efforts of reviving the pleasure in Matlacha
URL:https://swfl.life/event/matlacha-art-walk/2028-04-14/
LOCATION:Matlacha Island\, Matlacha\, FL
ATTACH;FMTTYPE=image/jpeg:https://swfl.life/wp-content/uploads/2025/09/518348633_10237360595064104_9063731545632667009_n.jpg
END:VEVENT
BEGIN:VEVENT
DTSTART;TZID=America/New_York:20280512T170000
DTEND;TZID=America/New_York:20280512T200000
DTSTAMP:20260424T112114
CREATED:20250911T170619Z
LAST-MODIFIED:20250911T170619Z
UID:10011996-1841763600-1841774400@swfl.life
SUMMARY:Matlacha Art Walk
DESCRIPTION:Every 2nd Friday of the month join local artists\, galleries\, musicians and shops for the Matlacha Art Walk. Come out for a family friendly night of live music\, local artists\, vendors and fun. Many of the shops offer Sip and Shop experiences\, so come out and continue our efforts of reviving the pleasure in Matlacha
URL:https://swfl.life/event/matlacha-art-walk/2028-05-12/
LOCATION:Matlacha Island\, Matlacha\, FL
ATTACH;FMTTYPE=image/jpeg:https://swfl.life/wp-content/uploads/2025/09/518348633_10237360595064104_9063731545632667009_n.jpg
END:VEVENT
BEGIN:VEVENT
DTSTART;TZID=America/New_York:20280609T170000
DTEND;TZID=America/New_York:20280609T200000
DTSTAMP:20260424T112114
CREATED:20250911T170619Z
LAST-MODIFIED:20250911T170619Z
UID:10011997-1844182800-1844193600@swfl.life
SUMMARY:Matlacha Art Walk
DESCRIPTION:Every 2nd Friday of the month join local artists\, galleries\, musicians and shops for the Matlacha Art Walk. Come out for a family friendly night of live music\, local artists\, vendors and fun. Many of the shops offer Sip and Shop experiences\, so come out and continue our efforts of reviving the pleasure in Matlacha
URL:https://swfl.life/event/matlacha-art-walk/2028-06-09/
LOCATION:Matlacha Island\, Matlacha\, FL
ATTACH;FMTTYPE=image/jpeg:https://swfl.life/wp-content/uploads/2025/09/518348633_10237360595064104_9063731545632667009_n.jpg
END:VEVENT
BEGIN:VEVENT
DTSTART;TZID=America/New_York:20280714T170000
DTEND;TZID=America/New_York:20280714T200000
DTSTAMP:20260424T112114
CREATED:20250911T170619Z
LAST-MODIFIED:20250911T170619Z
UID:10011998-1847206800-1847217600@swfl.life
SUMMARY:Matlacha Art Walk
DESCRIPTION:Every 2nd Friday of the month join local artists\, galleries\, musicians and shops for the Matlacha Art Walk. Come out for a family friendly night of live music\, local artists\, vendors and fun. Many of the shops offer Sip and Shop experiences\, so come out and continue our efforts of reviving the pleasure in Matlacha
URL:https://swfl.life/event/matlacha-art-walk/2028-07-14/
LOCATION:Matlacha Island\, Matlacha\, FL
ATTACH;FMTTYPE=image/jpeg:https://swfl.life/wp-content/uploads/2025/09/518348633_10237360595064104_9063731545632667009_n.jpg
END:VEVENT
BEGIN:VEVENT
DTSTART;TZID=America/New_York:20280811T170000
DTEND;TZID=America/New_York:20280811T200000
DTSTAMP:20260424T112114
CREATED:20250911T170619Z
LAST-MODIFIED:20250911T170619Z
UID:10011999-1849626000-1849636800@swfl.life
SUMMARY:Matlacha Art Walk
DESCRIPTION:Every 2nd Friday of the month join local artists\, galleries\, musicians and shops for the Matlacha Art Walk. Come out for a family friendly night of live music\, local artists\, vendors and fun. Many of the shops offer Sip and Shop experiences\, so come out and continue our efforts of reviving the pleasure in Matlacha
URL:https://swfl.life/event/matlacha-art-walk/2028-08-11/
LOCATION:Matlacha Island\, Matlacha\, FL
ATTACH;FMTTYPE=image/jpeg:https://swfl.life/wp-content/uploads/2025/09/518348633_10237360595064104_9063731545632667009_n.jpg
END:VEVENT
BEGIN:VEVENT
DTSTART;TZID=America/New_York:20280908T170000
DTEND;TZID=America/New_York:20280908T200000
DTSTAMP:20260424T112114
CREATED:20250911T170619Z
LAST-MODIFIED:20250911T170619Z
UID:10012000-1852045200-1852056000@swfl.life
SUMMARY:Matlacha Art Walk
DESCRIPTION:Every 2nd Friday of the month join local artists\, galleries\, musicians and shops for the Matlacha Art Walk. Come out for a family friendly night of live music\, local artists\, vendors and fun. Many of the shops offer Sip and Shop experiences\, so come out and continue our efforts of reviving the pleasure in Matlacha
URL:https://swfl.life/event/matlacha-art-walk/2028-09-08/
LOCATION:Matlacha Island\, Matlacha\, FL
ATTACH;FMTTYPE=image/jpeg:https://swfl.life/wp-content/uploads/2025/09/518348633_10237360595064104_9063731545632667009_n.jpg
END:VEVENT
BEGIN:VEVENT
DTSTART;TZID=America/New_York:20281013T170000
DTEND;TZID=America/New_York:20281013T200000
DTSTAMP:20260424T112114
CREATED:20250911T170619Z
LAST-MODIFIED:20250911T170619Z
UID:10012001-1855069200-1855080000@swfl.life
SUMMARY:Matlacha Art Walk
DESCRIPTION:Every 2nd Friday of the month join local artists\, galleries\, musicians and shops for the Matlacha Art Walk. Come out for a family friendly night of live music\, local artists\, vendors and fun. Many of the shops offer Sip and Shop experiences\, so come out and continue our efforts of reviving the pleasure in Matlacha
URL:https://swfl.life/event/matlacha-art-walk/2028-10-13/
LOCATION:Matlacha Island\, Matlacha\, FL
ATTACH;FMTTYPE=image/jpeg:https://swfl.life/wp-content/uploads/2025/09/518348633_10237360595064104_9063731545632667009_n.jpg
END:VEVENT
BEGIN:VEVENT
DTSTART;TZID=America/New_York:20281110T170000
DTEND;TZID=America/New_York:20281110T200000
DTSTAMP:20260424T112114
CREATED:20250911T170619Z
LAST-MODIFIED:20250911T170619Z
UID:10012002-1857488400-1857499200@swfl.life
SUMMARY:Matlacha Art Walk
DESCRIPTION:Every 2nd Friday of the month join local artists\, galleries\, musicians and shops for the Matlacha Art Walk. Come out for a family friendly night of live music\, local artists\, vendors and fun. Many of the shops offer Sip and Shop experiences\, so come out and continue our efforts of reviving the pleasure in Matlacha
URL:https://swfl.life/event/matlacha-art-walk/2028-11-10/
LOCATION:Matlacha Island\, Matlacha\, FL
ATTACH;FMTTYPE=image/jpeg:https://swfl.life/wp-content/uploads/2025/09/518348633_10237360595064104_9063731545632667009_n.jpg
END:VEVENT
BEGIN:VEVENT
DTSTART;TZID=America/New_York:20281208T170000
DTEND;TZID=America/New_York:20281208T200000
DTSTAMP:20260424T112114
CREATED:20250911T170619Z
LAST-MODIFIED:20250911T170619Z
UID:10012003-1859907600-1859918400@swfl.life
SUMMARY:Matlacha Art Walk
DESCRIPTION:Every 2nd Friday of the month join local artists\, galleries\, musicians and shops for the Matlacha Art Walk. Come out for a family friendly night of live music\, local artists\, vendors and fun. Many of the shops offer Sip and Shop experiences\, so come out and continue our efforts of reviving the pleasure in Matlacha
URL:https://swfl.life/event/matlacha-art-walk/2028-12-08/
LOCATION:Matlacha Island\, Matlacha\, FL
ATTACH;FMTTYPE=image/jpeg:https://swfl.life/wp-content/uploads/2025/09/518348633_10237360595064104_9063731545632667009_n.jpg
END:VEVENT
BEGIN:VEVENT
DTSTART;TZID=America/New_York:20290112T170000
DTEND;TZID=America/New_York:20290112T200000
DTSTAMP:20260424T112114
CREATED:20250911T170619Z
LAST-MODIFIED:20250911T170619Z
UID:10012004-1862931600-1862942400@swfl.life
SUMMARY:Matlacha Art Walk
DESCRIPTION:Every 2nd Friday of the month join local artists\, galleries\, musicians and shops for the Matlacha Art Walk. Come out for a family friendly night of live music\, local artists\, vendors and fun. Many of the shops offer Sip and Shop experiences\, so come out and continue our efforts of reviving the pleasure in Matlacha
URL:https://swfl.life/event/matlacha-art-walk/2029-01-12/
LOCATION:Matlacha Island\, Matlacha\, FL
ATTACH;FMTTYPE=image/jpeg:https://swfl.life/wp-content/uploads/2025/09/518348633_10237360595064104_9063731545632667009_n.jpg
END:VEVENT
BEGIN:VEVENT
DTSTART;TZID=America/New_York:20290209T170000
DTEND;TZID=America/New_York:20290209T200000
DTSTAMP:20260424T112114
CREATED:20250911T170619Z
LAST-MODIFIED:20250911T170619Z
UID:10012005-1865350800-1865361600@swfl.life
SUMMARY:Matlacha Art Walk
DESCRIPTION:Every 2nd Friday of the month join local artists\, galleries\, musicians and shops for the Matlacha Art Walk. Come out for a family friendly night of live music\, local artists\, vendors and fun. Many of the shops offer Sip and Shop experiences\, so come out and continue our efforts of reviving the pleasure in Matlacha
URL:https://swfl.life/event/matlacha-art-walk/2029-02-09/
LOCATION:Matlacha Island\, Matlacha\, FL
ATTACH;FMTTYPE=image/jpeg:https://swfl.life/wp-content/uploads/2025/09/518348633_10237360595064104_9063731545632667009_n.jpg
END:VEVENT
BEGIN:VEVENT
DTSTART;TZID=America/New_York:20290309T170000
DTEND;TZID=America/New_York:20290309T200000
DTSTAMP:20260424T112114
CREATED:20250911T170619Z
LAST-MODIFIED:20250911T170619Z
UID:10012006-1867770000-1867780800@swfl.life
SUMMARY:Matlacha Art Walk
DESCRIPTION:Every 2nd Friday of the month join local artists\, galleries\, musicians and shops for the Matlacha Art Walk. Come out for a family friendly night of live music\, local artists\, vendors and fun. Many of the shops offer Sip and Shop experiences\, so come out and continue our efforts of reviving the pleasure in Matlacha
URL:https://swfl.life/event/matlacha-art-walk/2029-03-09/
LOCATION:Matlacha Island\, Matlacha\, FL
ATTACH;FMTTYPE=image/jpeg:https://swfl.life/wp-content/uploads/2025/09/518348633_10237360595064104_9063731545632667009_n.jpg
END:VEVENT
BEGIN:VEVENT
DTSTART;TZID=America/New_York:20290413T170000
DTEND;TZID=America/New_York:20290413T200000
DTSTAMP:20260424T112114
CREATED:20250911T170619Z
LAST-MODIFIED:20250911T170619Z
UID:10012007-1870794000-1870804800@swfl.life
SUMMARY:Matlacha Art Walk
DESCRIPTION:Every 2nd Friday of the month join local artists\, galleries\, musicians and shops for the Matlacha Art Walk. Come out for a family friendly night of live music\, local artists\, vendors and fun. Many of the shops offer Sip and Shop experiences\, so come out and continue our efforts of reviving the pleasure in Matlacha
URL:https://swfl.life/event/matlacha-art-walk/2029-04-13/
LOCATION:Matlacha Island\, Matlacha\, FL
ATTACH;FMTTYPE=image/jpeg:https://swfl.life/wp-content/uploads/2025/09/518348633_10237360595064104_9063731545632667009_n.jpg
END:VEVENT
BEGIN:VEVENT
DTSTART;TZID=America/New_York:20290511T170000
DTEND;TZID=America/New_York:20290511T200000
DTSTAMP:20260424T112114
CREATED:20250911T170619Z
LAST-MODIFIED:20250911T170619Z
UID:10012008-1873213200-1873224000@swfl.life
SUMMARY:Matlacha Art Walk
DESCRIPTION:Every 2nd Friday of the month join local artists\, galleries\, musicians and shops for the Matlacha Art Walk. Come out for a family friendly night of live music\, local artists\, vendors and fun. Many of the shops offer Sip and Shop experiences\, so come out and continue our efforts of reviving the pleasure in Matlacha
URL:https://swfl.life/event/matlacha-art-walk/2029-05-11/
LOCATION:Matlacha Island\, Matlacha\, FL
ATTACH;FMTTYPE=image/jpeg:https://swfl.life/wp-content/uploads/2025/09/518348633_10237360595064104_9063731545632667009_n.jpg
END:VEVENT
BEGIN:VEVENT
DTSTART;TZID=America/New_York:20290608T170000
DTEND;TZID=America/New_York:20290608T200000
DTSTAMP:20260424T112114
CREATED:20250911T170619Z
LAST-MODIFIED:20250911T170619Z
UID:10012009-1875632400-1875643200@swfl.life
SUMMARY:Matlacha Art Walk
DESCRIPTION:Every 2nd Friday of the month join local artists\, galleries\, musicians and shops for the Matlacha Art Walk. Come out for a family friendly night of live music\, local artists\, vendors and fun. Many of the shops offer Sip and Shop experiences\, so come out and continue our efforts of reviving the pleasure in Matlacha
URL:https://swfl.life/event/matlacha-art-walk/2029-06-08/
LOCATION:Matlacha Island\, Matlacha\, FL
ATTACH;FMTTYPE=image/jpeg:https://swfl.life/wp-content/uploads/2025/09/518348633_10237360595064104_9063731545632667009_n.jpg
END:VEVENT
BEGIN:VEVENT
DTSTART;TZID=America/New_York:20290713T170000
DTEND;TZID=America/New_York:20290713T200000
DTSTAMP:20260424T112114
CREATED:20250911T170619Z
LAST-MODIFIED:20250911T170619Z
UID:10012010-1878656400-1878667200@swfl.life
SUMMARY:Matlacha Art Walk
DESCRIPTION:Every 2nd Friday of the month join local artists\, galleries\, musicians and shops for the Matlacha Art Walk. Come out for a family friendly night of live music\, local artists\, vendors and fun. Many of the shops offer Sip and Shop experiences\, so come out and continue our efforts of reviving the pleasure in Matlacha
URL:https://swfl.life/event/matlacha-art-walk/2029-07-13/
LOCATION:Matlacha Island\, Matlacha\, FL
ATTACH;FMTTYPE=image/jpeg:https://swfl.life/wp-content/uploads/2025/09/518348633_10237360595064104_9063731545632667009_n.jpg
END:VEVENT
BEGIN:VEVENT
DTSTART;TZID=America/New_York:20290810T170000
DTEND;TZID=America/New_York:20290810T200000
DTSTAMP:20260424T112114
CREATED:20250911T170619Z
LAST-MODIFIED:20250911T170619Z
UID:10012011-1881075600-1881086400@swfl.life
SUMMARY:Matlacha Art Walk
DESCRIPTION:Every 2nd Friday of the month join local artists\, galleries\, musicians and shops for the Matlacha Art Walk. Come out for a family friendly night of live music\, local artists\, vendors and fun. Many of the shops offer Sip and Shop experiences\, so come out and continue our efforts of reviving the pleasure in Matlacha
URL:https://swfl.life/event/matlacha-art-walk/2029-08-10/
LOCATION:Matlacha Island\, Matlacha\, FL
ATTACH;FMTTYPE=image/jpeg:https://swfl.life/wp-content/uploads/2025/09/518348633_10237360595064104_9063731545632667009_n.jpg
END:VEVENT
BEGIN:VEVENT
DTSTART;TZID=America/New_York:20290914T170000
DTEND;TZID=America/New_York:20290914T200000
DTSTAMP:20260424T112114
CREATED:20250911T170619Z
LAST-MODIFIED:20250911T170619Z
UID:10012012-1884099600-1884110400@swfl.life
SUMMARY:Matlacha Art Walk
DESCRIPTION:Every 2nd Friday of the month join local artists\, galleries\, musicians and shops for the Matlacha Art Walk. Come out for a family friendly night of live music\, local artists\, vendors and fun. Many of the shops offer Sip and Shop experiences\, so come out and continue our efforts of reviving the pleasure in Matlacha
URL:https://swfl.life/event/matlacha-art-walk/2029-09-14/
LOCATION:Matlacha Island\, Matlacha\, FL
ATTACH;FMTTYPE=image/jpeg:https://swfl.life/wp-content/uploads/2025/09/518348633_10237360595064104_9063731545632667009_n.jpg
END:VEVENT
BEGIN:VEVENT
DTSTART;TZID=America/New_York:20291012T170000
DTEND;TZID=America/New_York:20291012T200000
DTSTAMP:20260424T112114
CREATED:20250911T170619Z
LAST-MODIFIED:20250911T170619Z
UID:10012013-1886518800-1886529600@swfl.life
SUMMARY:Matlacha Art Walk
DESCRIPTION:Every 2nd Friday of the month join local artists\, galleries\, musicians and shops for the Matlacha Art Walk. Come out for a family friendly night of live music\, local artists\, vendors and fun. Many of the shops offer Sip and Shop experiences\, so come out and continue our efforts of reviving the pleasure in Matlacha
URL:https://swfl.life/event/matlacha-art-walk/2029-10-12/
LOCATION:Matlacha Island\, Matlacha\, FL
ATTACH;FMTTYPE=image/jpeg:https://swfl.life/wp-content/uploads/2025/09/518348633_10237360595064104_9063731545632667009_n.jpg
END:VEVENT
BEGIN:VEVENT
DTSTART;TZID=America/New_York:20291109T170000
DTEND;TZID=America/New_York:20291109T200000
DTSTAMP:20260424T112114
CREATED:20250911T170619Z
LAST-MODIFIED:20250911T170619Z
UID:10012014-1888938000-1888948800@swfl.life
SUMMARY:Matlacha Art Walk
DESCRIPTION:Every 2nd Friday of the month join local artists\, galleries\, musicians and shops for the Matlacha Art Walk. Come out for a family friendly night of live music\, local artists\, vendors and fun. Many of the shops offer Sip and Shop experiences\, so come out and continue our efforts of reviving the pleasure in Matlacha
URL:https://swfl.life/event/matlacha-art-walk/2029-11-09/
LOCATION:Matlacha Island\, Matlacha\, FL
ATTACH;FMTTYPE=image/jpeg:https://swfl.life/wp-content/uploads/2025/09/518348633_10237360595064104_9063731545632667009_n.jpg
END:VEVENT
BEGIN:VEVENT
DTSTART;TZID=America/New_York:20291214T170000
DTEND;TZID=America/New_York:20291214T200000
DTSTAMP:20260424T112114
CREATED:20250911T170619Z
LAST-MODIFIED:20250911T170619Z
UID:10012015-1891962000-1891972800@swfl.life
SUMMARY:Matlacha Art Walk
DESCRIPTION:Every 2nd Friday of the month join local artists\, galleries\, musicians and shops for the Matlacha Art Walk. Come out for a family friendly night of live music\, local artists\, vendors and fun. Many of the shops offer Sip and Shop experiences\, so come out and continue our efforts of reviving the pleasure in Matlacha
URL:https://swfl.life/event/matlacha-art-walk/2029-12-14/
LOCATION:Matlacha Island\, Matlacha\, FL
ATTACH;FMTTYPE=image/jpeg:https://swfl.life/wp-content/uploads/2025/09/518348633_10237360595064104_9063731545632667009_n.jpg
END:VEVENT
BEGIN:VEVENT
DTSTART;TZID=America/New_York:20300111T170000
DTEND;TZID=America/New_York:20300111T200000
DTSTAMP:20260424T112114
CREATED:20250911T170619Z
LAST-MODIFIED:20250911T170619Z
UID:10012016-1894381200-1894392000@swfl.life
SUMMARY:Matlacha Art Walk
DESCRIPTION:Every 2nd Friday of the month join local artists\, galleries\, musicians and shops for the Matlacha Art Walk. Come out for a family friendly night of live music\, local artists\, vendors and fun. Many of the shops offer Sip and Shop experiences\, so come out and continue our efforts of reviving the pleasure in Matlacha
URL:https://swfl.life/event/matlacha-art-walk/2030-01-11/
LOCATION:Matlacha Island\, Matlacha\, FL
ATTACH;FMTTYPE=image/jpeg:https://swfl.life/wp-content/uploads/2025/09/518348633_10237360595064104_9063731545632667009_n.jpg
END:VEVENT
BEGIN:VEVENT
DTSTART;TZID=America/New_York:20300208T170000
DTEND;TZID=America/New_York:20300208T200000
DTSTAMP:20260424T112114
CREATED:20250911T170619Z
LAST-MODIFIED:20250911T170619Z
UID:10012017-1896800400-1896811200@swfl.life
SUMMARY:Matlacha Art Walk
DESCRIPTION:Every 2nd Friday of the month join local artists\, galleries\, musicians and shops for the Matlacha Art Walk. Come out for a family friendly night of live music\, local artists\, vendors and fun. Many of the shops offer Sip and Shop experiences\, so come out and continue our efforts of reviving the pleasure in Matlacha
URL:https://swfl.life/event/matlacha-art-walk/2030-02-08/
LOCATION:Matlacha Island\, Matlacha\, FL
ATTACH;FMTTYPE=image/jpeg:https://swfl.life/wp-content/uploads/2025/09/518348633_10237360595064104_9063731545632667009_n.jpg
END:VEVENT
BEGIN:VEVENT
DTSTART;TZID=America/New_York:20300308T170000
DTEND;TZID=America/New_York:20300308T200000
DTSTAMP:20260424T112114
CREATED:20250911T170619Z
LAST-MODIFIED:20250911T170619Z
UID:10012018-1899219600-1899230400@swfl.life
SUMMARY:Matlacha Art Walk
DESCRIPTION:Every 2nd Friday of the month join local artists\, galleries\, musicians and shops for the Matlacha Art Walk. Come out for a family friendly night of live music\, local artists\, vendors and fun. Many of the shops offer Sip and Shop experiences\, so come out and continue our efforts of reviving the pleasure in Matlacha
URL:https://swfl.life/event/matlacha-art-walk/2030-03-08/
LOCATION:Matlacha Island\, Matlacha\, FL
ATTACH;FMTTYPE=image/jpeg:https://swfl.life/wp-content/uploads/2025/09/518348633_10237360595064104_9063731545632667009_n.jpg
END:VEVENT
BEGIN:VEVENT
DTSTART;TZID=America/New_York:20300412T170000
DTEND;TZID=America/New_York:20300412T200000
DTSTAMP:20260424T112114
CREATED:20250911T170619Z
LAST-MODIFIED:20250911T170619Z
UID:10012019-1902243600-1902254400@swfl.life
SUMMARY:Matlacha Art Walk
DESCRIPTION:Every 2nd Friday of the month join local artists\, galleries\, musicians and shops for the Matlacha Art Walk. Come out for a family friendly night of live music\, local artists\, vendors and fun. Many of the shops offer Sip and Shop experiences\, so come out and continue our efforts of reviving the pleasure in Matlacha
URL:https://swfl.life/event/matlacha-art-walk/2030-04-12/
LOCATION:Matlacha Island\, Matlacha\, FL
ATTACH;FMTTYPE=image/jpeg:https://swfl.life/wp-content/uploads/2025/09/518348633_10237360595064104_9063731545632667009_n.jpg
END:VEVENT
BEGIN:VEVENT
DTSTART;TZID=America/New_York:20300510T170000
DTEND;TZID=America/New_York:20300510T200000
DTSTAMP:20260424T112114
CREATED:20250911T170619Z
LAST-MODIFIED:20250911T170619Z
UID:10012020-1904662800-1904673600@swfl.life
SUMMARY:Matlacha Art Walk
DESCRIPTION:Every 2nd Friday of the month join local artists\, galleries\, musicians and shops for the Matlacha Art Walk. Come out for a family friendly night of live music\, local artists\, vendors and fun. Many of the shops offer Sip and Shop experiences\, so come out and continue our efforts of reviving the pleasure in Matlacha
URL:https://swfl.life/event/matlacha-art-walk/2030-05-10/
LOCATION:Matlacha Island\, Matlacha\, FL
ATTACH;FMTTYPE=image/jpeg:https://swfl.life/wp-content/uploads/2025/09/518348633_10237360595064104_9063731545632667009_n.jpg
END:VEVENT
BEGIN:VEVENT
DTSTART;TZID=America/New_York:20300614T170000
DTEND;TZID=America/New_York:20300614T200000
DTSTAMP:20260424T112114
CREATED:20250911T170619Z
LAST-MODIFIED:20250911T170619Z
UID:10012021-1907686800-1907697600@swfl.life
SUMMARY:Matlacha Art Walk
DESCRIPTION:Every 2nd Friday of the month join local artists\, galleries\, musicians and shops for the Matlacha Art Walk. Come out for a family friendly night of live music\, local artists\, vendors and fun. Many of the shops offer Sip and Shop experiences\, so come out and continue our efforts of reviving the pleasure in Matlacha
URL:https://swfl.life/event/matlacha-art-walk/2030-06-14/
LOCATION:Matlacha Island\, Matlacha\, FL
ATTACH;FMTTYPE=image/jpeg:https://swfl.life/wp-content/uploads/2025/09/518348633_10237360595064104_9063731545632667009_n.jpg
END:VEVENT
END:VCALENDAR