BEGIN:VCALENDAR
VERSION:2.0
PRODID:-//SWFL Life - ECPv6.15.20//NONSGML v1.0//EN
CALSCALE:GREGORIAN
METHOD:PUBLISH
X-ORIGINAL-URL:https://swfl.life
X-WR-CALDESC:Events for SWFL Life
REFRESH-INTERVAL;VALUE=DURATION:PT1H
X-Robots-Tag:noindex
X-PUBLISHED-TTL:PT1H
BEGIN:VTIMEZONE
TZID:America/New_York
BEGIN:DAYLIGHT
TZOFFSETFROM:-0500
TZOFFSETTO:-0400
TZNAME:EDT
DTSTART:20240310T070000
END:DAYLIGHT
BEGIN:STANDARD
TZOFFSETFROM:-0400
TZOFFSETTO:-0500
TZNAME:EST
DTSTART:20241103T060000
END:STANDARD
BEGIN:DAYLIGHT
TZOFFSETFROM:-0500
TZOFFSETTO:-0400
TZNAME:EDT
DTSTART:20250309T070000
END:DAYLIGHT
BEGIN:STANDARD
TZOFFSETFROM:-0400
TZOFFSETTO:-0500
TZNAME:EST
DTSTART:20251102T060000
END:STANDARD
BEGIN:DAYLIGHT
TZOFFSETFROM:-0500
TZOFFSETTO:-0400
TZNAME:EDT
DTSTART:20260308T070000
END:DAYLIGHT
BEGIN:STANDARD
TZOFFSETFROM:-0400
TZOFFSETTO:-0500
TZNAME:EST
DTSTART:20261101T060000
END:STANDARD
BEGIN:DAYLIGHT
TZOFFSETFROM:-0500
TZOFFSETTO:-0400
TZNAME:EDT
DTSTART:20270314T070000
END:DAYLIGHT
BEGIN:STANDARD
TZOFFSETFROM:-0400
TZOFFSETTO:-0500
TZNAME:EST
DTSTART:20271107T060000
END:STANDARD
END:VTIMEZONE
BEGIN:VEVENT
DTSTART;TZID=America/New_York:20260415T090000
DTEND;TZID=America/New_York:20260415T130000
DTSTAMP:20260420T005302
CREATED:20251111T192935Z
LAST-MODIFIED:20251111T192935Z
UID:10012892-1776243600-1776258000@swfl.life
SUMMARY:Lakes Park Farmers Market
DESCRIPTION:OPEN ON WEDNESDAYS!!! The Lakes Park Farmers Market is a true local outdoor market selling local produce\, fresh seafood\, native plants\, cut flowers\, artisan foods\, organics\, and more. Established in 2010 with only 20 vendors\, it is now one of the largest markets in Lee County with 50 vendors. Local Roots\, LLC\, owners of the market has teamed up with the Lakes Park Enrichment Foundation to help raise money and awareness for their Botanical Gardens. The market is open every Wednesday from October through April\, 9am – 1pm. We invite shoppers to stay and eat breakfast or lunch at a picnic table while listening to live music each Wednesday enjoying one of the most beautiful parks in Lee County.
URL:https://swfl.life/event/lakes-park-farmers-market/2026-04-15/
LOCATION:Lakes Park\, 7330 Gladiolus Drive\, Fort Myers\, FL
CATEGORIES:Farmer's Market
ATTACH;FMTTYPE=image/jpeg:https://swfl.life/wp-content/uploads/2025/11/474781167_1419370882698115_3884410819896291869_n.jpg
END:VEVENT
BEGIN:VEVENT
DTSTART;TZID=America/New_York:20260408T090000
DTEND;TZID=America/New_York:20260408T130000
DTSTAMP:20260420T005303
CREATED:20251111T192935Z
LAST-MODIFIED:20251111T192935Z
UID:10012891-1775638800-1775653200@swfl.life
SUMMARY:Lakes Park Farmers Market
DESCRIPTION:OPEN ON WEDNESDAYS!!! The Lakes Park Farmers Market is a true local outdoor market selling local produce\, fresh seafood\, native plants\, cut flowers\, artisan foods\, organics\, and more. Established in 2010 with only 20 vendors\, it is now one of the largest markets in Lee County with 50 vendors. Local Roots\, LLC\, owners of the market has teamed up with the Lakes Park Enrichment Foundation to help raise money and awareness for their Botanical Gardens. The market is open every Wednesday from October through April\, 9am – 1pm. We invite shoppers to stay and eat breakfast or lunch at a picnic table while listening to live music each Wednesday enjoying one of the most beautiful parks in Lee County.
URL:https://swfl.life/event/lakes-park-farmers-market/2026-04-08/
LOCATION:Lakes Park\, 7330 Gladiolus Drive\, Fort Myers\, FL
CATEGORIES:Farmer's Market
ATTACH;FMTTYPE=image/jpeg:https://swfl.life/wp-content/uploads/2025/11/474781167_1419370882698115_3884410819896291869_n.jpg
END:VEVENT
BEGIN:VEVENT
DTSTART;TZID=America/New_York:20260401T090000
DTEND;TZID=America/New_York:20260401T130000
DTSTAMP:20260420T005303
CREATED:20251111T192935Z
LAST-MODIFIED:20251111T192935Z
UID:10012890-1775034000-1775048400@swfl.life
SUMMARY:Lakes Park Farmers Market
DESCRIPTION:OPEN ON WEDNESDAYS!!! The Lakes Park Farmers Market is a true local outdoor market selling local produce\, fresh seafood\, native plants\, cut flowers\, artisan foods\, organics\, and more. Established in 2010 with only 20 vendors\, it is now one of the largest markets in Lee County with 50 vendors. Local Roots\, LLC\, owners of the market has teamed up with the Lakes Park Enrichment Foundation to help raise money and awareness for their Botanical Gardens. The market is open every Wednesday from October through April\, 9am – 1pm. We invite shoppers to stay and eat breakfast or lunch at a picnic table while listening to live music each Wednesday enjoying one of the most beautiful parks in Lee County.
URL:https://swfl.life/event/lakes-park-farmers-market/2026-04-01/
LOCATION:Lakes Park\, 7330 Gladiolus Drive\, Fort Myers\, FL
CATEGORIES:Farmer's Market
ATTACH;FMTTYPE=image/jpeg:https://swfl.life/wp-content/uploads/2025/11/474781167_1419370882698115_3884410819896291869_n.jpg
END:VEVENT
BEGIN:VEVENT
DTSTART;TZID=America/New_York:20260325T090000
DTEND;TZID=America/New_York:20260325T130000
DTSTAMP:20260420T005303
CREATED:20251111T192935Z
LAST-MODIFIED:20251111T192935Z
UID:10012889-1774429200-1774443600@swfl.life
SUMMARY:Lakes Park Farmers Market
DESCRIPTION:OPEN ON WEDNESDAYS!!! The Lakes Park Farmers Market is a true local outdoor market selling local produce\, fresh seafood\, native plants\, cut flowers\, artisan foods\, organics\, and more. Established in 2010 with only 20 vendors\, it is now one of the largest markets in Lee County with 50 vendors. Local Roots\, LLC\, owners of the market has teamed up with the Lakes Park Enrichment Foundation to help raise money and awareness for their Botanical Gardens. The market is open every Wednesday from October through April\, 9am – 1pm. We invite shoppers to stay and eat breakfast or lunch at a picnic table while listening to live music each Wednesday enjoying one of the most beautiful parks in Lee County.
URL:https://swfl.life/event/lakes-park-farmers-market/2026-03-25/
LOCATION:Lakes Park\, 7330 Gladiolus Drive\, Fort Myers\, FL
CATEGORIES:Farmer's Market
ATTACH;FMTTYPE=image/jpeg:https://swfl.life/wp-content/uploads/2025/11/474781167_1419370882698115_3884410819896291869_n.jpg
END:VEVENT
BEGIN:VEVENT
DTSTART;TZID=America/New_York:20260318T090000
DTEND;TZID=America/New_York:20260318T130000
DTSTAMP:20260420T005303
CREATED:20251111T192935Z
LAST-MODIFIED:20251111T192935Z
UID:10012888-1773824400-1773838800@swfl.life
SUMMARY:Lakes Park Farmers Market
DESCRIPTION:OPEN ON WEDNESDAYS!!! The Lakes Park Farmers Market is a true local outdoor market selling local produce\, fresh seafood\, native plants\, cut flowers\, artisan foods\, organics\, and more. Established in 2010 with only 20 vendors\, it is now one of the largest markets in Lee County with 50 vendors. Local Roots\, LLC\, owners of the market has teamed up with the Lakes Park Enrichment Foundation to help raise money and awareness for their Botanical Gardens. The market is open every Wednesday from October through April\, 9am – 1pm. We invite shoppers to stay and eat breakfast or lunch at a picnic table while listening to live music each Wednesday enjoying one of the most beautiful parks in Lee County.
URL:https://swfl.life/event/lakes-park-farmers-market/2026-03-18/
LOCATION:Lakes Park\, 7330 Gladiolus Drive\, Fort Myers\, FL
CATEGORIES:Farmer's Market
ATTACH;FMTTYPE=image/jpeg:https://swfl.life/wp-content/uploads/2025/11/474781167_1419370882698115_3884410819896291869_n.jpg
END:VEVENT
BEGIN:VEVENT
DTSTART;TZID=America/New_York:20260311T090000
DTEND;TZID=America/New_York:20260311T130000
DTSTAMP:20260420T005303
CREATED:20251111T192935Z
LAST-MODIFIED:20251111T192935Z
UID:10012887-1773219600-1773234000@swfl.life
SUMMARY:Lakes Park Farmers Market
DESCRIPTION:OPEN ON WEDNESDAYS!!! The Lakes Park Farmers Market is a true local outdoor market selling local produce\, fresh seafood\, native plants\, cut flowers\, artisan foods\, organics\, and more. Established in 2010 with only 20 vendors\, it is now one of the largest markets in Lee County with 50 vendors. Local Roots\, LLC\, owners of the market has teamed up with the Lakes Park Enrichment Foundation to help raise money and awareness for their Botanical Gardens. The market is open every Wednesday from October through April\, 9am – 1pm. We invite shoppers to stay and eat breakfast or lunch at a picnic table while listening to live music each Wednesday enjoying one of the most beautiful parks in Lee County.
URL:https://swfl.life/event/lakes-park-farmers-market/2026-03-11/
LOCATION:Lakes Park\, 7330 Gladiolus Drive\, Fort Myers\, FL
CATEGORIES:Farmer's Market
ATTACH;FMTTYPE=image/jpeg:https://swfl.life/wp-content/uploads/2025/11/474781167_1419370882698115_3884410819896291869_n.jpg
END:VEVENT
BEGIN:VEVENT
DTSTART;TZID=America/New_York:20260304T090000
DTEND;TZID=America/New_York:20260304T130000
DTSTAMP:20260420T005303
CREATED:20251111T192935Z
LAST-MODIFIED:20251111T192935Z
UID:10012886-1772614800-1772629200@swfl.life
SUMMARY:Lakes Park Farmers Market
DESCRIPTION:OPEN ON WEDNESDAYS!!! The Lakes Park Farmers Market is a true local outdoor market selling local produce\, fresh seafood\, native plants\, cut flowers\, artisan foods\, organics\, and more. Established in 2010 with only 20 vendors\, it is now one of the largest markets in Lee County with 50 vendors. Local Roots\, LLC\, owners of the market has teamed up with the Lakes Park Enrichment Foundation to help raise money and awareness for their Botanical Gardens. The market is open every Wednesday from October through April\, 9am – 1pm. We invite shoppers to stay and eat breakfast or lunch at a picnic table while listening to live music each Wednesday enjoying one of the most beautiful parks in Lee County.
URL:https://swfl.life/event/lakes-park-farmers-market/2026-03-04/
LOCATION:Lakes Park\, 7330 Gladiolus Drive\, Fort Myers\, FL
CATEGORIES:Farmer's Market
ATTACH;FMTTYPE=image/jpeg:https://swfl.life/wp-content/uploads/2025/11/474781167_1419370882698115_3884410819896291869_n.jpg
END:VEVENT
BEGIN:VEVENT
DTSTART;TZID=America/New_York:20260225T090000
DTEND;TZID=America/New_York:20260225T130000
DTSTAMP:20260420T005303
CREATED:20251111T192935Z
LAST-MODIFIED:20251111T192935Z
UID:10012885-1772010000-1772024400@swfl.life
SUMMARY:Lakes Park Farmers Market
DESCRIPTION:OPEN ON WEDNESDAYS!!! The Lakes Park Farmers Market is a true local outdoor market selling local produce\, fresh seafood\, native plants\, cut flowers\, artisan foods\, organics\, and more. Established in 2010 with only 20 vendors\, it is now one of the largest markets in Lee County with 50 vendors. Local Roots\, LLC\, owners of the market has teamed up with the Lakes Park Enrichment Foundation to help raise money and awareness for their Botanical Gardens. The market is open every Wednesday from October through April\, 9am – 1pm. We invite shoppers to stay and eat breakfast or lunch at a picnic table while listening to live music each Wednesday enjoying one of the most beautiful parks in Lee County.
URL:https://swfl.life/event/lakes-park-farmers-market/2026-02-25/
LOCATION:Lakes Park\, 7330 Gladiolus Drive\, Fort Myers\, FL
CATEGORIES:Farmer's Market
ATTACH;FMTTYPE=image/jpeg:https://swfl.life/wp-content/uploads/2025/11/474781167_1419370882698115_3884410819896291869_n.jpg
END:VEVENT
BEGIN:VEVENT
DTSTART;TZID=America/New_York:20260218T090000
DTEND;TZID=America/New_York:20260218T130000
DTSTAMP:20260420T005303
CREATED:20251111T192935Z
LAST-MODIFIED:20251111T192935Z
UID:10012884-1771405200-1771419600@swfl.life
SUMMARY:Lakes Park Farmers Market
DESCRIPTION:OPEN ON WEDNESDAYS!!! The Lakes Park Farmers Market is a true local outdoor market selling local produce\, fresh seafood\, native plants\, cut flowers\, artisan foods\, organics\, and more. Established in 2010 with only 20 vendors\, it is now one of the largest markets in Lee County with 50 vendors. Local Roots\, LLC\, owners of the market has teamed up with the Lakes Park Enrichment Foundation to help raise money and awareness for their Botanical Gardens. The market is open every Wednesday from October through April\, 9am – 1pm. We invite shoppers to stay and eat breakfast or lunch at a picnic table while listening to live music each Wednesday enjoying one of the most beautiful parks in Lee County.
URL:https://swfl.life/event/lakes-park-farmers-market/2026-02-18/
LOCATION:Lakes Park\, 7330 Gladiolus Drive\, Fort Myers\, FL
CATEGORIES:Farmer's Market
ATTACH;FMTTYPE=image/jpeg:https://swfl.life/wp-content/uploads/2025/11/474781167_1419370882698115_3884410819896291869_n.jpg
END:VEVENT
BEGIN:VEVENT
DTSTART;TZID=America/New_York:20260211T090000
DTEND;TZID=America/New_York:20260211T130000
DTSTAMP:20260420T005303
CREATED:20251111T192935Z
LAST-MODIFIED:20251111T192935Z
UID:10012883-1770800400-1770814800@swfl.life
SUMMARY:Lakes Park Farmers Market
DESCRIPTION:OPEN ON WEDNESDAYS!!! The Lakes Park Farmers Market is a true local outdoor market selling local produce\, fresh seafood\, native plants\, cut flowers\, artisan foods\, organics\, and more. Established in 2010 with only 20 vendors\, it is now one of the largest markets in Lee County with 50 vendors. Local Roots\, LLC\, owners of the market has teamed up with the Lakes Park Enrichment Foundation to help raise money and awareness for their Botanical Gardens. The market is open every Wednesday from October through April\, 9am – 1pm. We invite shoppers to stay and eat breakfast or lunch at a picnic table while listening to live music each Wednesday enjoying one of the most beautiful parks in Lee County.
URL:https://swfl.life/event/lakes-park-farmers-market/2026-02-11/
LOCATION:Lakes Park\, 7330 Gladiolus Drive\, Fort Myers\, FL
CATEGORIES:Farmer's Market
ATTACH;FMTTYPE=image/jpeg:https://swfl.life/wp-content/uploads/2025/11/474781167_1419370882698115_3884410819896291869_n.jpg
END:VEVENT
BEGIN:VEVENT
DTSTART;TZID=America/New_York:20260204T090000
DTEND;TZID=America/New_York:20260204T130000
DTSTAMP:20260420T005303
CREATED:20251111T192935Z
LAST-MODIFIED:20251111T192935Z
UID:10012882-1770195600-1770210000@swfl.life
SUMMARY:Lakes Park Farmers Market
DESCRIPTION:OPEN ON WEDNESDAYS!!! The Lakes Park Farmers Market is a true local outdoor market selling local produce\, fresh seafood\, native plants\, cut flowers\, artisan foods\, organics\, and more. Established in 2010 with only 20 vendors\, it is now one of the largest markets in Lee County with 50 vendors. Local Roots\, LLC\, owners of the market has teamed up with the Lakes Park Enrichment Foundation to help raise money and awareness for their Botanical Gardens. The market is open every Wednesday from October through April\, 9am – 1pm. We invite shoppers to stay and eat breakfast or lunch at a picnic table while listening to live music each Wednesday enjoying one of the most beautiful parks in Lee County.
URL:https://swfl.life/event/lakes-park-farmers-market/2026-02-04/
LOCATION:Lakes Park\, 7330 Gladiolus Drive\, Fort Myers\, FL
CATEGORIES:Farmer's Market
ATTACH;FMTTYPE=image/jpeg:https://swfl.life/wp-content/uploads/2025/11/474781167_1419370882698115_3884410819896291869_n.jpg
END:VEVENT
BEGIN:VEVENT
DTSTART;TZID=America/New_York:20260128T090000
DTEND;TZID=America/New_York:20260128T130000
DTSTAMP:20260420T005303
CREATED:20251111T192935Z
LAST-MODIFIED:20251111T192935Z
UID:10012881-1769590800-1769605200@swfl.life
SUMMARY:Lakes Park Farmers Market
DESCRIPTION:OPEN ON WEDNESDAYS!!! The Lakes Park Farmers Market is a true local outdoor market selling local produce\, fresh seafood\, native plants\, cut flowers\, artisan foods\, organics\, and more. Established in 2010 with only 20 vendors\, it is now one of the largest markets in Lee County with 50 vendors. Local Roots\, LLC\, owners of the market has teamed up with the Lakes Park Enrichment Foundation to help raise money and awareness for their Botanical Gardens. The market is open every Wednesday from October through April\, 9am – 1pm. We invite shoppers to stay and eat breakfast or lunch at a picnic table while listening to live music each Wednesday enjoying one of the most beautiful parks in Lee County.
URL:https://swfl.life/event/lakes-park-farmers-market/2026-01-28/
LOCATION:Lakes Park\, 7330 Gladiolus Drive\, Fort Myers\, FL
CATEGORIES:Farmer's Market
ATTACH;FMTTYPE=image/jpeg:https://swfl.life/wp-content/uploads/2025/11/474781167_1419370882698115_3884410819896291869_n.jpg
END:VEVENT
BEGIN:VEVENT
DTSTART;TZID=America/New_York:20260121T090000
DTEND;TZID=America/New_York:20260121T130000
DTSTAMP:20260420T005303
CREATED:20251111T192935Z
LAST-MODIFIED:20251111T192935Z
UID:10012880-1768986000-1769000400@swfl.life
SUMMARY:Lakes Park Farmers Market
DESCRIPTION:OPEN ON WEDNESDAYS!!! The Lakes Park Farmers Market is a true local outdoor market selling local produce\, fresh seafood\, native plants\, cut flowers\, artisan foods\, organics\, and more. Established in 2010 with only 20 vendors\, it is now one of the largest markets in Lee County with 50 vendors. Local Roots\, LLC\, owners of the market has teamed up with the Lakes Park Enrichment Foundation to help raise money and awareness for their Botanical Gardens. The market is open every Wednesday from October through April\, 9am – 1pm. We invite shoppers to stay and eat breakfast or lunch at a picnic table while listening to live music each Wednesday enjoying one of the most beautiful parks in Lee County.
URL:https://swfl.life/event/lakes-park-farmers-market/2026-01-21/
LOCATION:Lakes Park\, 7330 Gladiolus Drive\, Fort Myers\, FL
CATEGORIES:Farmer's Market
ATTACH;FMTTYPE=image/jpeg:https://swfl.life/wp-content/uploads/2025/11/474781167_1419370882698115_3884410819896291869_n.jpg
END:VEVENT
BEGIN:VEVENT
DTSTART;TZID=America/New_York:20260114T090000
DTEND;TZID=America/New_York:20260114T130000
DTSTAMP:20260420T005303
CREATED:20251111T192935Z
LAST-MODIFIED:20251111T192935Z
UID:10012879-1768381200-1768395600@swfl.life
SUMMARY:Lakes Park Farmers Market
DESCRIPTION:OPEN ON WEDNESDAYS!!! The Lakes Park Farmers Market is a true local outdoor market selling local produce\, fresh seafood\, native plants\, cut flowers\, artisan foods\, organics\, and more. Established in 2010 with only 20 vendors\, it is now one of the largest markets in Lee County with 50 vendors. Local Roots\, LLC\, owners of the market has teamed up with the Lakes Park Enrichment Foundation to help raise money and awareness for their Botanical Gardens. The market is open every Wednesday from October through April\, 9am – 1pm. We invite shoppers to stay and eat breakfast or lunch at a picnic table while listening to live music each Wednesday enjoying one of the most beautiful parks in Lee County.
URL:https://swfl.life/event/lakes-park-farmers-market/2026-01-14/
LOCATION:Lakes Park\, 7330 Gladiolus Drive\, Fort Myers\, FL
CATEGORIES:Farmer's Market
ATTACH;FMTTYPE=image/jpeg:https://swfl.life/wp-content/uploads/2025/11/474781167_1419370882698115_3884410819896291869_n.jpg
END:VEVENT
BEGIN:VEVENT
DTSTART;TZID=America/New_York:20260107T090000
DTEND;TZID=America/New_York:20260107T130000
DTSTAMP:20260420T005303
CREATED:20251111T192935Z
LAST-MODIFIED:20251111T192935Z
UID:10012878-1767776400-1767790800@swfl.life
SUMMARY:Lakes Park Farmers Market
DESCRIPTION:OPEN ON WEDNESDAYS!!! The Lakes Park Farmers Market is a true local outdoor market selling local produce\, fresh seafood\, native plants\, cut flowers\, artisan foods\, organics\, and more. Established in 2010 with only 20 vendors\, it is now one of the largest markets in Lee County with 50 vendors. Local Roots\, LLC\, owners of the market has teamed up with the Lakes Park Enrichment Foundation to help raise money and awareness for their Botanical Gardens. The market is open every Wednesday from October through April\, 9am – 1pm. We invite shoppers to stay and eat breakfast or lunch at a picnic table while listening to live music each Wednesday enjoying one of the most beautiful parks in Lee County.
URL:https://swfl.life/event/lakes-park-farmers-market/2026-01-07/
LOCATION:Lakes Park\, 7330 Gladiolus Drive\, Fort Myers\, FL
CATEGORIES:Farmer's Market
ATTACH;FMTTYPE=image/jpeg:https://swfl.life/wp-content/uploads/2025/11/474781167_1419370882698115_3884410819896291869_n.jpg
END:VEVENT
BEGIN:VEVENT
DTSTART;TZID=America/New_York:20251231T090000
DTEND;TZID=America/New_York:20251231T130000
DTSTAMP:20260420T005303
CREATED:20251111T192935Z
LAST-MODIFIED:20251111T192935Z
UID:10012877-1767171600-1767186000@swfl.life
SUMMARY:Lakes Park Farmers Market
DESCRIPTION:OPEN ON WEDNESDAYS!!! The Lakes Park Farmers Market is a true local outdoor market selling local produce\, fresh seafood\, native plants\, cut flowers\, artisan foods\, organics\, and more. Established in 2010 with only 20 vendors\, it is now one of the largest markets in Lee County with 50 vendors. Local Roots\, LLC\, owners of the market has teamed up with the Lakes Park Enrichment Foundation to help raise money and awareness for their Botanical Gardens. The market is open every Wednesday from October through April\, 9am – 1pm. We invite shoppers to stay and eat breakfast or lunch at a picnic table while listening to live music each Wednesday enjoying one of the most beautiful parks in Lee County.
URL:https://swfl.life/event/lakes-park-farmers-market/2025-12-31/
LOCATION:Lakes Park\, 7330 Gladiolus Drive\, Fort Myers\, FL
CATEGORIES:Farmer's Market
ATTACH;FMTTYPE=image/jpeg:https://swfl.life/wp-content/uploads/2025/11/474781167_1419370882698115_3884410819896291869_n.jpg
END:VEVENT
END:VCALENDAR