BEGIN:VCALENDAR
VERSION:2.0
PRODID:-//SWFL Life - ECPv6.15.20//NONSGML v1.0//EN
CALSCALE:GREGORIAN
METHOD:PUBLISH
X-WR-CALNAME:SWFL Life
X-ORIGINAL-URL:https://swfl.life
X-WR-CALDESC:Events for SWFL Life
REFRESH-INTERVAL;VALUE=DURATION:PT1H
X-Robots-Tag:noindex
X-PUBLISHED-TTL:PT1H
BEGIN:VTIMEZONE
TZID:America/New_York
BEGIN:DAYLIGHT
TZOFFSETFROM:-0500
TZOFFSETTO:-0400
TZNAME:EDT
DTSTART:20250309T070000
END:DAYLIGHT
BEGIN:STANDARD
TZOFFSETFROM:-0400
TZOFFSETTO:-0500
TZNAME:EST
DTSTART:20251102T060000
END:STANDARD
BEGIN:DAYLIGHT
TZOFFSETFROM:-0500
TZOFFSETTO:-0400
TZNAME:EDT
DTSTART:20260308T070000
END:DAYLIGHT
BEGIN:STANDARD
TZOFFSETFROM:-0400
TZOFFSETTO:-0500
TZNAME:EST
DTSTART:20261101T060000
END:STANDARD
BEGIN:DAYLIGHT
TZOFFSETFROM:-0500
TZOFFSETTO:-0400
TZNAME:EDT
DTSTART:20270314T070000
END:DAYLIGHT
BEGIN:STANDARD
TZOFFSETFROM:-0400
TZOFFSETTO:-0500
TZNAME:EST
DTSTART:20271107T060000
END:STANDARD
END:VTIMEZONE
BEGIN:VEVENT
DTSTART;TZID=America/New_York:20260214T110000
DTEND;TZID=America/New_York:20260214T150000
DTSTAMP:20260420T085108
CREATED:20260212T142733Z
LAST-MODIFIED:20260212T142733Z
UID:10013260-1771066800-1771081200@swfl.life
SUMMARY:FMO Sweetheart Run - Junkanoo Below Deck
DESCRIPTION:Junkanoo Below Deck will be hosting Fort Myers Offshore on their outdoor bar and patio area located directly at the docks on the beautiful back bay of Fort Myers Beach. Sponsored by Performance Boat Center\, the Sweetheart Run directly supports the Fort Myers Offshore scholarship mission\, with events like this helping fund educational opportunities for local students. This fun run is free of charge for current paid FMO members.\nRegistration: This event is FREE for paid members. Please use the link below to register so the restaurant can properly prepare for our group. https://ftmyersoffshore.com/event-5/\nMembership Renewal:If you have not yet renewed your 2025 / 2026 FMO membership\, now is a great time to do so. All memberships are on an annual FMO schedule so if you have not renewed you membership since this past summer you need to do so. Please use the link below to renew your charitable membership. https://ftmyersoffshore.com/membership/\nStarting Procedure:STARTING PROCEDURE / ROUTE:Color-Group Virtual Start FormatTo enhance safety and reduce congestion at the start of the run\, Fort Myers Offshore will utilize a color-group virtual start procedure led by designated safety boats. This format eliminates clustered starts while maintaining an organized and enjoyable departure.________________________________________Group Assignments• Each participating boat will be assigned a departure group color:o Red- CATSo Green- V BottomsGroup Staging• Each color group will stage at a predetermined gathering area.• Each group will have a designated lead / safety boat displaying that group’s colored flag. This is the area you should gather and mill waiting for your groups virtual starting time.• Boats should arrive early\, idle safely\, and stage calmly within their assigned area. A map of your area between the Sanibel Causeway and the lighthouse will be sent to each registered captain.\nVirtual Start WindowsEach group will depart during a virtual start window:• Red Group: 10:55 AM• Green Group: 11 AMThese times are intended to space groups naturally and prevent overlap.________________________________________Departure Procedure• At the assigned start time:o The lead / safety boat will lower its colored flago The lead boat will casually and smoothly get on planeo Boats in that color group may follow at their own pace• There will be:o  No flag dropso  No pacing boatso  No aggressive accelerationThe instruction is simple: When your lead boat goes\, you go.________________________________________Operational Rules• No racing\, passing\, or aggressive maneuvering during departure• Captains are responsible for:o Passenger readinesso Safe spacingo Running at a comfortable and controlled speed• Alcohol consumption by captains prior to or during the run is strictly prohibited\nFMO Fun Runs are about camaraderie and charity—not speed.Your responsibility is to your passengers\, fellow boaters\, The Club\, and the community.\n\nRoute Description:The run will follow a coastal course south along Fort Myers Beach past the former pier location. After passing the pier\, boats should proceed on a southwesterly course to create distance from the shoreline\, as the extreme southern end of the beach near Big Carlos Pass can be shallow. Once through Big Carlos Pass the route will turn north along the back bay of Fort Myers Beach. Please note that the area previously marked as a 25 MPH zone from the start of the back bay condominiums past the Fish Tale Marina canal has reverted to NO WAKE. After this section the channel returns to 25 MPH and consists of well marked S curves. It is recommended that boats proceed through this section in single file while on plane. At the end of the S curves the bay opens back up and transitions to an idle zone again\, with Bayfront Bistro located ahead on the port side.\nDockage:Junkanoo Below Deck and the adjacent Snook Bight Marina have reserved floating dock space and several slips for FMO boats. A dedicated docking map will be posted a few days prior to the event.\nFuel and Distance:The distance from the Sanibel Bridge to Bayfront Bistro is approximately 15 miles including idle zones. All boats should depart with sufficient fuel\, particularly those requiring high octane fuel that may be difficult to source. Ninety octane fuel is available at Snook Bight Marina where we will be docked.\nFood:Meal service is to be determined. We will either order from the full menu or utilize a dedicated FMO event menu.\nWaypoints:Sanibel Bridge N 26 29.00 W 82 00.88. Big Carlos Pass N 26 24.261 W 081 52.855.\nSafety: Each captain is responsible for operating their vessel safely and for the safety of their crew. The Intracoastal Waterway can be a high traffic area. Please give other vessels a wide berth and adhere strictly to the rules of the road.\nAs always\, no alcohol for captains. The event officially concludes upon arrival at our lunch destination and participants may depart at their discretion.\nContact Information:Tim Hill cell 630 363 1986. Cyndee Hill cell 239 238 0777Email fortmyersoffshore@gmail.com
URL:https://swfl.life/event/fmo-sweetheart-run-junkanoo-below-deck/
LOCATION:Junkanoo Below Deck\, 4761 Estero Blvd\, Fort Myers Beach\, FL
ATTACH;FMTTYPE=image/jpeg:https://swfl.life/wp-content/uploads/2026/02/628397632_122114533389180222_1372618696865070764_n.jpg
END:VEVENT
END:VCALENDAR