BEGIN:VCALENDAR
VERSION:2.0
PRODID:-//SWFL Life - ECPv6.15.20//NONSGML v1.0//EN
CALSCALE:GREGORIAN
METHOD:PUBLISH
X-ORIGINAL-URL:https://swfl.life
X-WR-CALDESC:Events for SWFL Life
REFRESH-INTERVAL;VALUE=DURATION:PT1H
X-Robots-Tag:noindex
X-PUBLISHED-TTL:PT1H
BEGIN:VTIMEZONE
TZID:America/New_York
BEGIN:DAYLIGHT
TZOFFSETFROM:-0500
TZOFFSETTO:-0400
TZNAME:EDT
DTSTART:20250309T070000
END:DAYLIGHT
BEGIN:STANDARD
TZOFFSETFROM:-0400
TZOFFSETTO:-0500
TZNAME:EST
DTSTART:20251102T060000
END:STANDARD
BEGIN:DAYLIGHT
TZOFFSETFROM:-0500
TZOFFSETTO:-0400
TZNAME:EDT
DTSTART:20260308T070000
END:DAYLIGHT
BEGIN:STANDARD
TZOFFSETFROM:-0400
TZOFFSETTO:-0500
TZNAME:EST
DTSTART:20261101T060000
END:STANDARD
BEGIN:DAYLIGHT
TZOFFSETFROM:-0500
TZOFFSETTO:-0400
TZNAME:EDT
DTSTART:20270314T070000
END:DAYLIGHT
BEGIN:STANDARD
TZOFFSETFROM:-0400
TZOFFSETTO:-0500
TZNAME:EST
DTSTART:20271107T060000
END:STANDARD
END:VTIMEZONE
BEGIN:VEVENT
DTSTART;TZID=America/New_York:20260214T100000
DTEND;TZID=America/New_York:20260215T170000
DTSTAMP:20260424T110544
CREATED:20260212T135710Z
LAST-MODIFIED:20260212T135710Z
UID:10013259-1771063200-1771174800@swfl.life
SUMMARY:Coconut Point Art Festival - Estero\, FL
DESCRIPTION:Get ready for a truly unforgettable experience at the Coconut Point Art Festival\, also known as “The Big One”!\nTransforming the already stunning Coconut Point into a paradise for art lovers\, this prestigious showcase boasts over 200 exhibitors displaying life-size sculptures\, breathtaking paintings\, unique jewelry\, stunning photography\, and much more. Don’t miss your chance to witness the masters at work and discover the inspiration behind every piece.\nNot only is Coconut Point a visually stunning community surrounded by acres of lakes and boardwalks\, it’s also a bustling hub for shopping\, dining\, working\, gathering\, and living. With over 100 stores and 25 restaurants\, there’s never a dull moment in this vibrant destination.\nMark your calendars and take your Valentine to the show for a weekend of unparalleled artistry\, creativity\, and inspiration at “The Big One” – Coconut Point Art Festival!\nShow dates: February 14 and 15Meet the Artist: 10 am to 5 pm both daysCost: FreeWhere: Outdoors at Coconut Point Mall
URL:https://swfl.life/event/coconut-point-art-festival-estero-fl/
LOCATION:Coconut Point\, 23106 Fashion Drive\, Estero\, FL
ATTACH;FMTTYPE=image/jpeg:https://swfl.life/wp-content/uploads/2026/02/629550667_1400636948741800_689938259415143595_n.jpg
END:VEVENT
END:VCALENDAR