BEGIN:VCALENDAR
VERSION:2.0
PRODID:-//SWFL Life - ECPv6.15.20//NONSGML v1.0//EN
CALSCALE:GREGORIAN
METHOD:PUBLISH
X-WR-CALNAME:SWFL Life
X-ORIGINAL-URL:https://swfl.life
X-WR-CALDESC:Events for SWFL Life
REFRESH-INTERVAL;VALUE=DURATION:PT1H
X-Robots-Tag:noindex
X-PUBLISHED-TTL:PT1H
BEGIN:VTIMEZONE
TZID:America/New_York
BEGIN:DAYLIGHT
TZOFFSETFROM:-0500
TZOFFSETTO:-0400
TZNAME:EDT
DTSTART:20250309T070000
END:DAYLIGHT
BEGIN:STANDARD
TZOFFSETFROM:-0400
TZOFFSETTO:-0500
TZNAME:EST
DTSTART:20251102T060000
END:STANDARD
BEGIN:DAYLIGHT
TZOFFSETFROM:-0500
TZOFFSETTO:-0400
TZNAME:EDT
DTSTART:20260308T070000
END:DAYLIGHT
BEGIN:STANDARD
TZOFFSETFROM:-0400
TZOFFSETTO:-0500
TZNAME:EST
DTSTART:20261101T060000
END:STANDARD
BEGIN:DAYLIGHT
TZOFFSETFROM:-0500
TZOFFSETTO:-0400
TZNAME:EDT
DTSTART:20270314T070000
END:DAYLIGHT
BEGIN:STANDARD
TZOFFSETFROM:-0400
TZOFFSETTO:-0500
TZNAME:EST
DTSTART:20271107T060000
END:STANDARD
END:VTIMEZONE
BEGIN:VEVENT
DTSTART;TZID=America/New_York:20260207T080000
DTEND;TZID=America/New_York:20260207T120000
DTSTAMP:20260422T114449
CREATED:20260205T111919Z
LAST-MODIFIED:20260205T111919Z
UID:10013237-1770451200-1770465600@swfl.life
SUMMARY:10th Annual Reel in the Sunshine Fishing Expo
DESCRIPTION:SAVE THE DATE! Join us for our 10th Annual Reel in the Sunshine FREE Fishing Expo with top fishing vendors\, deals\, great giveaways\, fantastic fishing seminars and guest speakers\, and a $5 charity grilled lunch to benefit Captains for Clean Water on Saturday\, February 7th\, 2026\, at our Bonita Springs store from 8am – 12pm.\nGuest Speakers:9:30am Capt Justin Menendez (NLBN)10:30am Capt. Mike Anderson (Quantum)11:30am Captains for Clean Water
URL:https://swfl.life/event/10th-annual-reel-in-the-sunshine-fishing-expo/
LOCATION:Ace Hardware Bonita Springs\, 39 Bonita Beach Rd. SE\, Bonita Springs\, FL
ATTACH;FMTTYPE=image/jpeg:https://swfl.life/wp-content/uploads/2026/02/593453225_1425462166251970_1564683218097837864_n.jpg
END:VEVENT
END:VCALENDAR