BEGIN:VCALENDAR
VERSION:2.0
PRODID:-//SWFL Life - ECPv6.15.20//NONSGML v1.0//EN
CALSCALE:GREGORIAN
METHOD:PUBLISH
X-ORIGINAL-URL:https://swfl.life
X-WR-CALDESC:Events for SWFL Life
REFRESH-INTERVAL;VALUE=DURATION:PT1H
X-Robots-Tag:noindex
X-PUBLISHED-TTL:PT1H
BEGIN:VTIMEZONE
TZID:America/New_York
BEGIN:DAYLIGHT
TZOFFSETFROM:-0500
TZOFFSETTO:-0400
TZNAME:EDT
DTSTART:20240310T070000
END:DAYLIGHT
BEGIN:STANDARD
TZOFFSETFROM:-0400
TZOFFSETTO:-0500
TZNAME:EST
DTSTART:20241103T060000
END:STANDARD
BEGIN:DAYLIGHT
TZOFFSETFROM:-0500
TZOFFSETTO:-0400
TZNAME:EDT
DTSTART:20250309T070000
END:DAYLIGHT
BEGIN:STANDARD
TZOFFSETFROM:-0400
TZOFFSETTO:-0500
TZNAME:EST
DTSTART:20251102T060000
END:STANDARD
BEGIN:DAYLIGHT
TZOFFSETFROM:-0500
TZOFFSETTO:-0400
TZNAME:EDT
DTSTART:20260308T070000
END:DAYLIGHT
BEGIN:STANDARD
TZOFFSETFROM:-0400
TZOFFSETTO:-0500
TZNAME:EST
DTSTART:20261101T060000
END:STANDARD
BEGIN:DAYLIGHT
TZOFFSETFROM:-0500
TZOFFSETTO:-0400
TZNAME:EDT
DTSTART:20270314T070000
END:DAYLIGHT
BEGIN:STANDARD
TZOFFSETFROM:-0400
TZOFFSETTO:-0500
TZNAME:EST
DTSTART:20271107T060000
END:STANDARD
END:VTIMEZONE
BEGIN:VEVENT
DTSTART;TZID=America/New_York:20260412T090000
DTEND;TZID=America/New_York:20260412T140000
DTSTAMP:20260421T090800
CREATED:20251030T104434Z
LAST-MODIFIED:20251111T172553Z
UID:10012532-1775984400-1776002400@swfl.life
SUMMARY:Bonita Sunday Farmers Market
DESCRIPTION:Open to the public farmers market with local vendors and food.4061 Bonita Beach Rd Sundays 9-2Shopping Shenanigans is the only coordinator\, vendors sign up thru our website and your portal.ShoppingShenanigans.com
URL:https://swfl.life/event/bonita-sunday-farmers-market/2026-04-12/
LOCATION:4061 Bonita Beach Rd\, 4061 Bonita Beach Rd\, Bonita Springs\, FL
CATEGORIES:Farmer's Market
ATTACH;FMTTYPE=image/jpeg:https://swfl.life/wp-content/uploads/2025/10/550319583_770037292693804_3400108222801586435_n.jpg
END:VEVENT
BEGIN:VEVENT
DTSTART;TZID=America/New_York:20260405T090000
DTEND;TZID=America/New_York:20260405T140000
DTSTAMP:20260421T090800
CREATED:20251030T104434Z
LAST-MODIFIED:20251111T172553Z
UID:10012531-1775379600-1775397600@swfl.life
SUMMARY:Bonita Sunday Farmers Market
DESCRIPTION:Open to the public farmers market with local vendors and food.4061 Bonita Beach Rd Sundays 9-2Shopping Shenanigans is the only coordinator\, vendors sign up thru our website and your portal.ShoppingShenanigans.com
URL:https://swfl.life/event/bonita-sunday-farmers-market/2026-04-05/
LOCATION:4061 Bonita Beach Rd\, 4061 Bonita Beach Rd\, Bonita Springs\, FL
CATEGORIES:Farmer's Market
ATTACH;FMTTYPE=image/jpeg:https://swfl.life/wp-content/uploads/2025/10/550319583_770037292693804_3400108222801586435_n.jpg
END:VEVENT
BEGIN:VEVENT
DTSTART;TZID=America/New_York:20260329T090000
DTEND;TZID=America/New_York:20260329T140000
DTSTAMP:20260421T090800
CREATED:20251030T104434Z
LAST-MODIFIED:20251111T172553Z
UID:10012530-1774774800-1774792800@swfl.life
SUMMARY:Bonita Sunday Farmers Market
DESCRIPTION:Open to the public farmers market with local vendors and food.4061 Bonita Beach Rd Sundays 9-2Shopping Shenanigans is the only coordinator\, vendors sign up thru our website and your portal.ShoppingShenanigans.com
URL:https://swfl.life/event/bonita-sunday-farmers-market/2026-03-29/
LOCATION:4061 Bonita Beach Rd\, 4061 Bonita Beach Rd\, Bonita Springs\, FL
CATEGORIES:Farmer's Market
ATTACH;FMTTYPE=image/jpeg:https://swfl.life/wp-content/uploads/2025/10/550319583_770037292693804_3400108222801586435_n.jpg
END:VEVENT
BEGIN:VEVENT
DTSTART;TZID=America/New_York:20260322T090000
DTEND;TZID=America/New_York:20260322T140000
DTSTAMP:20260421T090800
CREATED:20251030T104434Z
LAST-MODIFIED:20251111T172553Z
UID:10012529-1774170000-1774188000@swfl.life
SUMMARY:Bonita Sunday Farmers Market
DESCRIPTION:Open to the public farmers market with local vendors and food.4061 Bonita Beach Rd Sundays 9-2Shopping Shenanigans is the only coordinator\, vendors sign up thru our website and your portal.ShoppingShenanigans.com
URL:https://swfl.life/event/bonita-sunday-farmers-market/2026-03-22/
LOCATION:4061 Bonita Beach Rd\, 4061 Bonita Beach Rd\, Bonita Springs\, FL
CATEGORIES:Farmer's Market
ATTACH;FMTTYPE=image/jpeg:https://swfl.life/wp-content/uploads/2025/10/550319583_770037292693804_3400108222801586435_n.jpg
END:VEVENT
BEGIN:VEVENT
DTSTART;TZID=America/New_York:20260315T090000
DTEND;TZID=America/New_York:20260315T140000
DTSTAMP:20260421T090800
CREATED:20251030T104434Z
LAST-MODIFIED:20251111T172553Z
UID:10012528-1773565200-1773583200@swfl.life
SUMMARY:Bonita Sunday Farmers Market
DESCRIPTION:Open to the public farmers market with local vendors and food.4061 Bonita Beach Rd Sundays 9-2Shopping Shenanigans is the only coordinator\, vendors sign up thru our website and your portal.ShoppingShenanigans.com
URL:https://swfl.life/event/bonita-sunday-farmers-market/2026-03-15/
LOCATION:4061 Bonita Beach Rd\, 4061 Bonita Beach Rd\, Bonita Springs\, FL
CATEGORIES:Farmer's Market
ATTACH;FMTTYPE=image/jpeg:https://swfl.life/wp-content/uploads/2025/10/550319583_770037292693804_3400108222801586435_n.jpg
END:VEVENT
BEGIN:VEVENT
DTSTART;TZID=America/New_York:20260308T090000
DTEND;TZID=America/New_York:20260308T140000
DTSTAMP:20260421T090800
CREATED:20251030T104434Z
LAST-MODIFIED:20251111T172553Z
UID:10012527-1772960400-1772978400@swfl.life
SUMMARY:Bonita Sunday Farmers Market
DESCRIPTION:Open to the public farmers market with local vendors and food.4061 Bonita Beach Rd Sundays 9-2Shopping Shenanigans is the only coordinator\, vendors sign up thru our website and your portal.ShoppingShenanigans.com
URL:https://swfl.life/event/bonita-sunday-farmers-market/2026-03-08/
LOCATION:4061 Bonita Beach Rd\, 4061 Bonita Beach Rd\, Bonita Springs\, FL
CATEGORIES:Farmer's Market
ATTACH;FMTTYPE=image/jpeg:https://swfl.life/wp-content/uploads/2025/10/550319583_770037292693804_3400108222801586435_n.jpg
END:VEVENT
BEGIN:VEVENT
DTSTART;TZID=America/New_York:20260301T090000
DTEND;TZID=America/New_York:20260301T140000
DTSTAMP:20260421T090800
CREATED:20251030T104434Z
LAST-MODIFIED:20251111T172553Z
UID:10012526-1772355600-1772373600@swfl.life
SUMMARY:Bonita Sunday Farmers Market
DESCRIPTION:Open to the public farmers market with local vendors and food.4061 Bonita Beach Rd Sundays 9-2Shopping Shenanigans is the only coordinator\, vendors sign up thru our website and your portal.ShoppingShenanigans.com
URL:https://swfl.life/event/bonita-sunday-farmers-market/2026-03-01/
LOCATION:4061 Bonita Beach Rd\, 4061 Bonita Beach Rd\, Bonita Springs\, FL
CATEGORIES:Farmer's Market
ATTACH;FMTTYPE=image/jpeg:https://swfl.life/wp-content/uploads/2025/10/550319583_770037292693804_3400108222801586435_n.jpg
END:VEVENT
BEGIN:VEVENT
DTSTART;TZID=America/New_York:20260222T090000
DTEND;TZID=America/New_York:20260222T140000
DTSTAMP:20260421T090800
CREATED:20251030T104434Z
LAST-MODIFIED:20251111T172553Z
UID:10012525-1771750800-1771768800@swfl.life
SUMMARY:Bonita Sunday Farmers Market
DESCRIPTION:Open to the public farmers market with local vendors and food.4061 Bonita Beach Rd Sundays 9-2Shopping Shenanigans is the only coordinator\, vendors sign up thru our website and your portal.ShoppingShenanigans.com
URL:https://swfl.life/event/bonita-sunday-farmers-market/2026-02-22/
LOCATION:4061 Bonita Beach Rd\, 4061 Bonita Beach Rd\, Bonita Springs\, FL
CATEGORIES:Farmer's Market
ATTACH;FMTTYPE=image/jpeg:https://swfl.life/wp-content/uploads/2025/10/550319583_770037292693804_3400108222801586435_n.jpg
END:VEVENT
BEGIN:VEVENT
DTSTART;TZID=America/New_York:20260215T090000
DTEND;TZID=America/New_York:20260215T140000
DTSTAMP:20260421T090800
CREATED:20251030T104434Z
LAST-MODIFIED:20251111T172553Z
UID:10012524-1771146000-1771164000@swfl.life
SUMMARY:Bonita Sunday Farmers Market
DESCRIPTION:Open to the public farmers market with local vendors and food.4061 Bonita Beach Rd Sundays 9-2Shopping Shenanigans is the only coordinator\, vendors sign up thru our website and your portal.ShoppingShenanigans.com
URL:https://swfl.life/event/bonita-sunday-farmers-market/2026-02-15/
LOCATION:4061 Bonita Beach Rd\, 4061 Bonita Beach Rd\, Bonita Springs\, FL
CATEGORIES:Farmer's Market
ATTACH;FMTTYPE=image/jpeg:https://swfl.life/wp-content/uploads/2025/10/550319583_770037292693804_3400108222801586435_n.jpg
END:VEVENT
BEGIN:VEVENT
DTSTART;TZID=America/New_York:20260208T090000
DTEND;TZID=America/New_York:20260208T140000
DTSTAMP:20260421T090800
CREATED:20251030T104434Z
LAST-MODIFIED:20251111T172553Z
UID:10012523-1770541200-1770559200@swfl.life
SUMMARY:Bonita Sunday Farmers Market
DESCRIPTION:Open to the public farmers market with local vendors and food.4061 Bonita Beach Rd Sundays 9-2Shopping Shenanigans is the only coordinator\, vendors sign up thru our website and your portal.ShoppingShenanigans.com
URL:https://swfl.life/event/bonita-sunday-farmers-market/2026-02-08/
LOCATION:4061 Bonita Beach Rd\, 4061 Bonita Beach Rd\, Bonita Springs\, FL
CATEGORIES:Farmer's Market
ATTACH;FMTTYPE=image/jpeg:https://swfl.life/wp-content/uploads/2025/10/550319583_770037292693804_3400108222801586435_n.jpg
END:VEVENT
BEGIN:VEVENT
DTSTART;TZID=America/New_York:20260201T090000
DTEND;TZID=America/New_York:20260201T140000
DTSTAMP:20260421T090800
CREATED:20251030T104434Z
LAST-MODIFIED:20251111T172553Z
UID:10012522-1769936400-1769954400@swfl.life
SUMMARY:Bonita Sunday Farmers Market
DESCRIPTION:Open to the public farmers market with local vendors and food.4061 Bonita Beach Rd Sundays 9-2Shopping Shenanigans is the only coordinator\, vendors sign up thru our website and your portal.ShoppingShenanigans.com
URL:https://swfl.life/event/bonita-sunday-farmers-market/2026-02-01/
LOCATION:4061 Bonita Beach Rd\, 4061 Bonita Beach Rd\, Bonita Springs\, FL
CATEGORIES:Farmer's Market
ATTACH;FMTTYPE=image/jpeg:https://swfl.life/wp-content/uploads/2025/10/550319583_770037292693804_3400108222801586435_n.jpg
END:VEVENT
BEGIN:VEVENT
DTSTART;TZID=America/New_York:20260125T090000
DTEND;TZID=America/New_York:20260125T140000
DTSTAMP:20260421T090800
CREATED:20251030T104434Z
LAST-MODIFIED:20251111T172553Z
UID:10012521-1769331600-1769349600@swfl.life
SUMMARY:Bonita Sunday Farmers Market
DESCRIPTION:Open to the public farmers market with local vendors and food.4061 Bonita Beach Rd Sundays 9-2Shopping Shenanigans is the only coordinator\, vendors sign up thru our website and your portal.ShoppingShenanigans.com
URL:https://swfl.life/event/bonita-sunday-farmers-market/2026-01-25/
LOCATION:4061 Bonita Beach Rd\, 4061 Bonita Beach Rd\, Bonita Springs\, FL
CATEGORIES:Farmer's Market
ATTACH;FMTTYPE=image/jpeg:https://swfl.life/wp-content/uploads/2025/10/550319583_770037292693804_3400108222801586435_n.jpg
END:VEVENT
BEGIN:VEVENT
DTSTART;TZID=America/New_York:20260118T090000
DTEND;TZID=America/New_York:20260118T140000
DTSTAMP:20260421T090800
CREATED:20251030T104434Z
LAST-MODIFIED:20251111T172553Z
UID:10012520-1768726800-1768744800@swfl.life
SUMMARY:Bonita Sunday Farmers Market
DESCRIPTION:Open to the public farmers market with local vendors and food.4061 Bonita Beach Rd Sundays 9-2Shopping Shenanigans is the only coordinator\, vendors sign up thru our website and your portal.ShoppingShenanigans.com
URL:https://swfl.life/event/bonita-sunday-farmers-market/2026-01-18/
LOCATION:4061 Bonita Beach Rd\, 4061 Bonita Beach Rd\, Bonita Springs\, FL
CATEGORIES:Farmer's Market
ATTACH;FMTTYPE=image/jpeg:https://swfl.life/wp-content/uploads/2025/10/550319583_770037292693804_3400108222801586435_n.jpg
END:VEVENT
BEGIN:VEVENT
DTSTART;TZID=America/New_York:20260111T090000
DTEND;TZID=America/New_York:20260111T140000
DTSTAMP:20260421T090800
CREATED:20251030T104434Z
LAST-MODIFIED:20251111T172553Z
UID:10012519-1768122000-1768140000@swfl.life
SUMMARY:Bonita Sunday Farmers Market
DESCRIPTION:Open to the public farmers market with local vendors and food.4061 Bonita Beach Rd Sundays 9-2Shopping Shenanigans is the only coordinator\, vendors sign up thru our website and your portal.ShoppingShenanigans.com
URL:https://swfl.life/event/bonita-sunday-farmers-market/2026-01-11/
LOCATION:4061 Bonita Beach Rd\, 4061 Bonita Beach Rd\, Bonita Springs\, FL
CATEGORIES:Farmer's Market
ATTACH;FMTTYPE=image/jpeg:https://swfl.life/wp-content/uploads/2025/10/550319583_770037292693804_3400108222801586435_n.jpg
END:VEVENT
BEGIN:VEVENT
DTSTART;TZID=America/New_York:20260104T090000
DTEND;TZID=America/New_York:20260104T140000
DTSTAMP:20260421T090800
CREATED:20251030T104434Z
LAST-MODIFIED:20251111T172553Z
UID:10012518-1767517200-1767535200@swfl.life
SUMMARY:Bonita Sunday Farmers Market
DESCRIPTION:Open to the public farmers market with local vendors and food.4061 Bonita Beach Rd Sundays 9-2Shopping Shenanigans is the only coordinator\, vendors sign up thru our website and your portal.ShoppingShenanigans.com
URL:https://swfl.life/event/bonita-sunday-farmers-market/2026-01-04/
LOCATION:4061 Bonita Beach Rd\, 4061 Bonita Beach Rd\, Bonita Springs\, FL
CATEGORIES:Farmer's Market
ATTACH;FMTTYPE=image/jpeg:https://swfl.life/wp-content/uploads/2025/10/550319583_770037292693804_3400108222801586435_n.jpg
END:VEVENT
BEGIN:VEVENT
DTSTART;TZID=America/New_York:20251228T090000
DTEND;TZID=America/New_York:20251228T140000
DTSTAMP:20260421T090800
CREATED:20251030T104434Z
LAST-MODIFIED:20251111T172553Z
UID:10012517-1766912400-1766930400@swfl.life
SUMMARY:Bonita Sunday Farmers Market
DESCRIPTION:Open to the public farmers market with local vendors and food.4061 Bonita Beach Rd Sundays 9-2Shopping Shenanigans is the only coordinator\, vendors sign up thru our website and your portal.ShoppingShenanigans.com
URL:https://swfl.life/event/bonita-sunday-farmers-market/2025-12-28/
LOCATION:4061 Bonita Beach Rd\, 4061 Bonita Beach Rd\, Bonita Springs\, FL
CATEGORIES:Farmer's Market
ATTACH;FMTTYPE=image/jpeg:https://swfl.life/wp-content/uploads/2025/10/550319583_770037292693804_3400108222801586435_n.jpg
END:VEVENT
END:VCALENDAR