BEGIN:VCALENDAR
VERSION:2.0
PRODID:-//SWFL Life - ECPv6.15.20//NONSGML v1.0//EN
CALSCALE:GREGORIAN
METHOD:PUBLISH
X-WR-CALNAME:SWFL Life
X-ORIGINAL-URL:https://swfl.life
X-WR-CALDESC:Events for SWFL Life
REFRESH-INTERVAL;VALUE=DURATION:PT1H
X-Robots-Tag:noindex
X-PUBLISHED-TTL:PT1H
BEGIN:VTIMEZONE
TZID:America/New_York
BEGIN:DAYLIGHT
TZOFFSETFROM:-0500
TZOFFSETTO:-0400
TZNAME:EDT
DTSTART:20250309T070000
END:DAYLIGHT
BEGIN:STANDARD
TZOFFSETFROM:-0400
TZOFFSETTO:-0500
TZNAME:EST
DTSTART:20251102T060000
END:STANDARD
BEGIN:DAYLIGHT
TZOFFSETFROM:-0500
TZOFFSETTO:-0400
TZNAME:EDT
DTSTART:20260308T070000
END:DAYLIGHT
BEGIN:STANDARD
TZOFFSETFROM:-0400
TZOFFSETTO:-0500
TZNAME:EST
DTSTART:20261101T060000
END:STANDARD
BEGIN:DAYLIGHT
TZOFFSETFROM:-0500
TZOFFSETTO:-0400
TZNAME:EDT
DTSTART:20270314T070000
END:DAYLIGHT
BEGIN:STANDARD
TZOFFSETFROM:-0400
TZOFFSETTO:-0500
TZNAME:EST
DTSTART:20271107T060000
END:STANDARD
END:VTIMEZONE
BEGIN:VEVENT
DTSTART;TZID=America/New_York:20260426T083000
DTEND;TZID=America/New_York:20260426T123000
DTSTAMP:20260420T104154
CREATED:20260305T141217Z
LAST-MODIFIED:20260325T152427Z
UID:10013781-1777192200-1777206600@swfl.life
SUMMARY:Sunday Service at Hope City Church - Bonita Campus
DESCRIPTION:THREE separate services EVERY  Sunday: \n\n8:30-9:30am\n10:00-11:00am\n11:30am-12:30pm\n\nWe’d love to see you there! ✝️
URL:https://swfl.life/event/sunday-service-at-hope-city-church-bonita-campus/2026-04-26/
LOCATION:Hope City Church – Bonita Campus\, 12871 Trade Way Drive\, Bonita Springs\, FL
ATTACH;FMTTYPE=image/jpeg:https://swfl.life/wp-content/uploads/2026/03/492356427_992781549726577_7385645517513433516_n.jpg
END:VEVENT
BEGIN:VEVENT
DTSTART;TZID=America/New_York:20260503T083000
DTEND;TZID=America/New_York:20260503T123000
DTSTAMP:20260420T104154
CREATED:20260305T141217Z
LAST-MODIFIED:20260325T152427Z
UID:10013782-1777797000-1777811400@swfl.life
SUMMARY:Sunday Service at Hope City Church - Bonita Campus
DESCRIPTION:THREE separate services EVERY  Sunday: \n\n8:30-9:30am\n10:00-11:00am\n11:30am-12:30pm\n\nWe’d love to see you there! ✝️
URL:https://swfl.life/event/sunday-service-at-hope-city-church-bonita-campus/2026-05-03/
LOCATION:Hope City Church – Bonita Campus\, 12871 Trade Way Drive\, Bonita Springs\, FL
ATTACH;FMTTYPE=image/jpeg:https://swfl.life/wp-content/uploads/2026/03/492356427_992781549726577_7385645517513433516_n.jpg
END:VEVENT
BEGIN:VEVENT
DTSTART;TZID=America/New_York:20260510T083000
DTEND;TZID=America/New_York:20260510T123000
DTSTAMP:20260420T104154
CREATED:20260305T141217Z
LAST-MODIFIED:20260325T152427Z
UID:10013783-1778401800-1778416200@swfl.life
SUMMARY:Sunday Service at Hope City Church - Bonita Campus
DESCRIPTION:THREE separate services EVERY  Sunday: \n\n8:30-9:30am\n10:00-11:00am\n11:30am-12:30pm\n\nWe’d love to see you there! ✝️
URL:https://swfl.life/event/sunday-service-at-hope-city-church-bonita-campus/2026-05-10/
LOCATION:Hope City Church – Bonita Campus\, 12871 Trade Way Drive\, Bonita Springs\, FL
ATTACH;FMTTYPE=image/jpeg:https://swfl.life/wp-content/uploads/2026/03/492356427_992781549726577_7385645517513433516_n.jpg
END:VEVENT
BEGIN:VEVENT
DTSTART;TZID=America/New_York:20260517T083000
DTEND;TZID=America/New_York:20260517T123000
DTSTAMP:20260420T104154
CREATED:20260305T141217Z
LAST-MODIFIED:20260325T152427Z
UID:10013784-1779006600-1779021000@swfl.life
SUMMARY:Sunday Service at Hope City Church - Bonita Campus
DESCRIPTION:THREE separate services EVERY  Sunday: \n\n8:30-9:30am\n10:00-11:00am\n11:30am-12:30pm\n\nWe’d love to see you there! ✝️
URL:https://swfl.life/event/sunday-service-at-hope-city-church-bonita-campus/2026-05-17/
LOCATION:Hope City Church – Bonita Campus\, 12871 Trade Way Drive\, Bonita Springs\, FL
ATTACH;FMTTYPE=image/jpeg:https://swfl.life/wp-content/uploads/2026/03/492356427_992781549726577_7385645517513433516_n.jpg
END:VEVENT
BEGIN:VEVENT
DTSTART;TZID=America/New_York:20260524T083000
DTEND;TZID=America/New_York:20260524T123000
DTSTAMP:20260420T104154
CREATED:20260305T141217Z
LAST-MODIFIED:20260325T152427Z
UID:10013785-1779611400-1779625800@swfl.life
SUMMARY:Sunday Service at Hope City Church - Bonita Campus
DESCRIPTION:THREE separate services EVERY  Sunday: \n\n8:30-9:30am\n10:00-11:00am\n11:30am-12:30pm\n\nWe’d love to see you there! ✝️
URL:https://swfl.life/event/sunday-service-at-hope-city-church-bonita-campus/2026-05-24/
LOCATION:Hope City Church – Bonita Campus\, 12871 Trade Way Drive\, Bonita Springs\, FL
ATTACH;FMTTYPE=image/jpeg:https://swfl.life/wp-content/uploads/2026/03/492356427_992781549726577_7385645517513433516_n.jpg
END:VEVENT
BEGIN:VEVENT
DTSTART;TZID=America/New_York:20260531T083000
DTEND;TZID=America/New_York:20260531T123000
DTSTAMP:20260420T104154
CREATED:20260305T141217Z
LAST-MODIFIED:20260325T152427Z
UID:10013786-1780216200-1780230600@swfl.life
SUMMARY:Sunday Service at Hope City Church - Bonita Campus
DESCRIPTION:THREE separate services EVERY  Sunday: \n\n8:30-9:30am\n10:00-11:00am\n11:30am-12:30pm\n\nWe’d love to see you there! ✝️
URL:https://swfl.life/event/sunday-service-at-hope-city-church-bonita-campus/2026-05-31/
LOCATION:Hope City Church – Bonita Campus\, 12871 Trade Way Drive\, Bonita Springs\, FL
ATTACH;FMTTYPE=image/jpeg:https://swfl.life/wp-content/uploads/2026/03/492356427_992781549726577_7385645517513433516_n.jpg
END:VEVENT
BEGIN:VEVENT
DTSTART;TZID=America/New_York:20260607T083000
DTEND;TZID=America/New_York:20260607T123000
DTSTAMP:20260420T104154
CREATED:20260305T141217Z
LAST-MODIFIED:20260325T152427Z
UID:10013787-1780821000-1780835400@swfl.life
SUMMARY:Sunday Service at Hope City Church - Bonita Campus
DESCRIPTION:THREE separate services EVERY  Sunday: \n\n8:30-9:30am\n10:00-11:00am\n11:30am-12:30pm\n\nWe’d love to see you there! ✝️
URL:https://swfl.life/event/sunday-service-at-hope-city-church-bonita-campus/2026-06-07/
LOCATION:Hope City Church – Bonita Campus\, 12871 Trade Way Drive\, Bonita Springs\, FL
ATTACH;FMTTYPE=image/jpeg:https://swfl.life/wp-content/uploads/2026/03/492356427_992781549726577_7385645517513433516_n.jpg
END:VEVENT
BEGIN:VEVENT
DTSTART;TZID=America/New_York:20260614T083000
DTEND;TZID=America/New_York:20260614T123000
DTSTAMP:20260420T104154
CREATED:20260305T141217Z
LAST-MODIFIED:20260325T152427Z
UID:10013788-1781425800-1781440200@swfl.life
SUMMARY:Sunday Service at Hope City Church - Bonita Campus
DESCRIPTION:THREE separate services EVERY  Sunday: \n\n8:30-9:30am\n10:00-11:00am\n11:30am-12:30pm\n\nWe’d love to see you there! ✝️
URL:https://swfl.life/event/sunday-service-at-hope-city-church-bonita-campus/2026-06-14/
LOCATION:Hope City Church – Bonita Campus\, 12871 Trade Way Drive\, Bonita Springs\, FL
ATTACH;FMTTYPE=image/jpeg:https://swfl.life/wp-content/uploads/2026/03/492356427_992781549726577_7385645517513433516_n.jpg
END:VEVENT
BEGIN:VEVENT
DTSTART;TZID=America/New_York:20260621T083000
DTEND;TZID=America/New_York:20260621T123000
DTSTAMP:20260420T104154
CREATED:20260305T141217Z
LAST-MODIFIED:20260325T152427Z
UID:10013789-1782030600-1782045000@swfl.life
SUMMARY:Sunday Service at Hope City Church - Bonita Campus
DESCRIPTION:THREE separate services EVERY  Sunday: \n\n8:30-9:30am\n10:00-11:00am\n11:30am-12:30pm\n\nWe’d love to see you there! ✝️
URL:https://swfl.life/event/sunday-service-at-hope-city-church-bonita-campus/2026-06-21/
LOCATION:Hope City Church – Bonita Campus\, 12871 Trade Way Drive\, Bonita Springs\, FL
ATTACH;FMTTYPE=image/jpeg:https://swfl.life/wp-content/uploads/2026/03/492356427_992781549726577_7385645517513433516_n.jpg
END:VEVENT
BEGIN:VEVENT
DTSTART;TZID=America/New_York:20260628T083000
DTEND;TZID=America/New_York:20260628T123000
DTSTAMP:20260420T104154
CREATED:20260305T141217Z
LAST-MODIFIED:20260325T152427Z
UID:10013790-1782635400-1782649800@swfl.life
SUMMARY:Sunday Service at Hope City Church - Bonita Campus
DESCRIPTION:THREE separate services EVERY  Sunday: \n\n8:30-9:30am\n10:00-11:00am\n11:30am-12:30pm\n\nWe’d love to see you there! ✝️
URL:https://swfl.life/event/sunday-service-at-hope-city-church-bonita-campus/2026-06-28/
LOCATION:Hope City Church – Bonita Campus\, 12871 Trade Way Drive\, Bonita Springs\, FL
ATTACH;FMTTYPE=image/jpeg:https://swfl.life/wp-content/uploads/2026/03/492356427_992781549726577_7385645517513433516_n.jpg
END:VEVENT
BEGIN:VEVENT
DTSTART;TZID=America/New_York:20260705T083000
DTEND;TZID=America/New_York:20260705T123000
DTSTAMP:20260420T104154
CREATED:20260305T141217Z
LAST-MODIFIED:20260325T152427Z
UID:10013791-1783240200-1783254600@swfl.life
SUMMARY:Sunday Service at Hope City Church - Bonita Campus
DESCRIPTION:THREE separate services EVERY  Sunday: \n\n8:30-9:30am\n10:00-11:00am\n11:30am-12:30pm\n\nWe’d love to see you there! ✝️
URL:https://swfl.life/event/sunday-service-at-hope-city-church-bonita-campus/2026-07-05/
LOCATION:Hope City Church – Bonita Campus\, 12871 Trade Way Drive\, Bonita Springs\, FL
ATTACH;FMTTYPE=image/jpeg:https://swfl.life/wp-content/uploads/2026/03/492356427_992781549726577_7385645517513433516_n.jpg
END:VEVENT
BEGIN:VEVENT
DTSTART;TZID=America/New_York:20260712T083000
DTEND;TZID=America/New_York:20260712T123000
DTSTAMP:20260420T104154
CREATED:20260305T141217Z
LAST-MODIFIED:20260325T152427Z
UID:10013792-1783845000-1783859400@swfl.life
SUMMARY:Sunday Service at Hope City Church - Bonita Campus
DESCRIPTION:THREE separate services EVERY  Sunday: \n\n8:30-9:30am\n10:00-11:00am\n11:30am-12:30pm\n\nWe’d love to see you there! ✝️
URL:https://swfl.life/event/sunday-service-at-hope-city-church-bonita-campus/2026-07-12/
LOCATION:Hope City Church – Bonita Campus\, 12871 Trade Way Drive\, Bonita Springs\, FL
ATTACH;FMTTYPE=image/jpeg:https://swfl.life/wp-content/uploads/2026/03/492356427_992781549726577_7385645517513433516_n.jpg
END:VEVENT
BEGIN:VEVENT
DTSTART;TZID=America/New_York:20260719T083000
DTEND;TZID=America/New_York:20260719T123000
DTSTAMP:20260420T104154
CREATED:20260305T141217Z
LAST-MODIFIED:20260325T152427Z
UID:10013793-1784449800-1784464200@swfl.life
SUMMARY:Sunday Service at Hope City Church - Bonita Campus
DESCRIPTION:THREE separate services EVERY  Sunday: \n\n8:30-9:30am\n10:00-11:00am\n11:30am-12:30pm\n\nWe’d love to see you there! ✝️
URL:https://swfl.life/event/sunday-service-at-hope-city-church-bonita-campus/2026-07-19/
LOCATION:Hope City Church – Bonita Campus\, 12871 Trade Way Drive\, Bonita Springs\, FL
ATTACH;FMTTYPE=image/jpeg:https://swfl.life/wp-content/uploads/2026/03/492356427_992781549726577_7385645517513433516_n.jpg
END:VEVENT
BEGIN:VEVENT
DTSTART;TZID=America/New_York:20260726T083000
DTEND;TZID=America/New_York:20260726T123000
DTSTAMP:20260420T104154
CREATED:20260305T141217Z
LAST-MODIFIED:20260325T152427Z
UID:10013794-1785054600-1785069000@swfl.life
SUMMARY:Sunday Service at Hope City Church - Bonita Campus
DESCRIPTION:THREE separate services EVERY  Sunday: \n\n8:30-9:30am\n10:00-11:00am\n11:30am-12:30pm\n\nWe’d love to see you there! ✝️
URL:https://swfl.life/event/sunday-service-at-hope-city-church-bonita-campus/2026-07-26/
LOCATION:Hope City Church – Bonita Campus\, 12871 Trade Way Drive\, Bonita Springs\, FL
ATTACH;FMTTYPE=image/jpeg:https://swfl.life/wp-content/uploads/2026/03/492356427_992781549726577_7385645517513433516_n.jpg
END:VEVENT
BEGIN:VEVENT
DTSTART;TZID=America/New_York:20260802T083000
DTEND;TZID=America/New_York:20260802T123000
DTSTAMP:20260420T104154
CREATED:20260305T141217Z
LAST-MODIFIED:20260325T152427Z
UID:10013795-1785659400-1785673800@swfl.life
SUMMARY:Sunday Service at Hope City Church - Bonita Campus
DESCRIPTION:THREE separate services EVERY  Sunday: \n\n8:30-9:30am\n10:00-11:00am\n11:30am-12:30pm\n\nWe’d love to see you there! ✝️
URL:https://swfl.life/event/sunday-service-at-hope-city-church-bonita-campus/2026-08-02/
LOCATION:Hope City Church – Bonita Campus\, 12871 Trade Way Drive\, Bonita Springs\, FL
ATTACH;FMTTYPE=image/jpeg:https://swfl.life/wp-content/uploads/2026/03/492356427_992781549726577_7385645517513433516_n.jpg
END:VEVENT
BEGIN:VEVENT
DTSTART;TZID=America/New_York:20260809T083000
DTEND;TZID=America/New_York:20260809T123000
DTSTAMP:20260420T104154
CREATED:20260305T141217Z
LAST-MODIFIED:20260325T152427Z
UID:10013796-1786264200-1786278600@swfl.life
SUMMARY:Sunday Service at Hope City Church - Bonita Campus
DESCRIPTION:THREE separate services EVERY  Sunday: \n\n8:30-9:30am\n10:00-11:00am\n11:30am-12:30pm\n\nWe’d love to see you there! ✝️
URL:https://swfl.life/event/sunday-service-at-hope-city-church-bonita-campus/2026-08-09/
LOCATION:Hope City Church – Bonita Campus\, 12871 Trade Way Drive\, Bonita Springs\, FL
ATTACH;FMTTYPE=image/jpeg:https://swfl.life/wp-content/uploads/2026/03/492356427_992781549726577_7385645517513433516_n.jpg
END:VEVENT
BEGIN:VEVENT
DTSTART;TZID=America/New_York:20260816T083000
DTEND;TZID=America/New_York:20260816T123000
DTSTAMP:20260420T104154
CREATED:20260305T141217Z
LAST-MODIFIED:20260325T152427Z
UID:10013797-1786869000-1786883400@swfl.life
SUMMARY:Sunday Service at Hope City Church - Bonita Campus
DESCRIPTION:THREE separate services EVERY  Sunday: \n\n8:30-9:30am\n10:00-11:00am\n11:30am-12:30pm\n\nWe’d love to see you there! ✝️
URL:https://swfl.life/event/sunday-service-at-hope-city-church-bonita-campus/2026-08-16/
LOCATION:Hope City Church – Bonita Campus\, 12871 Trade Way Drive\, Bonita Springs\, FL
ATTACH;FMTTYPE=image/jpeg:https://swfl.life/wp-content/uploads/2026/03/492356427_992781549726577_7385645517513433516_n.jpg
END:VEVENT
BEGIN:VEVENT
DTSTART;TZID=America/New_York:20260823T083000
DTEND;TZID=America/New_York:20260823T123000
DTSTAMP:20260420T104154
CREATED:20260305T141217Z
LAST-MODIFIED:20260325T152427Z
UID:10013798-1787473800-1787488200@swfl.life
SUMMARY:Sunday Service at Hope City Church - Bonita Campus
DESCRIPTION:THREE separate services EVERY  Sunday: \n\n8:30-9:30am\n10:00-11:00am\n11:30am-12:30pm\n\nWe’d love to see you there! ✝️
URL:https://swfl.life/event/sunday-service-at-hope-city-church-bonita-campus/2026-08-23/
LOCATION:Hope City Church – Bonita Campus\, 12871 Trade Way Drive\, Bonita Springs\, FL
ATTACH;FMTTYPE=image/jpeg:https://swfl.life/wp-content/uploads/2026/03/492356427_992781549726577_7385645517513433516_n.jpg
END:VEVENT
BEGIN:VEVENT
DTSTART;TZID=America/New_York:20260830T083000
DTEND;TZID=America/New_York:20260830T123000
DTSTAMP:20260420T104154
CREATED:20260305T141217Z
LAST-MODIFIED:20260325T152427Z
UID:10013799-1788078600-1788093000@swfl.life
SUMMARY:Sunday Service at Hope City Church - Bonita Campus
DESCRIPTION:THREE separate services EVERY  Sunday: \n\n8:30-9:30am\n10:00-11:00am\n11:30am-12:30pm\n\nWe’d love to see you there! ✝️
URL:https://swfl.life/event/sunday-service-at-hope-city-church-bonita-campus/2026-08-30/
LOCATION:Hope City Church – Bonita Campus\, 12871 Trade Way Drive\, Bonita Springs\, FL
ATTACH;FMTTYPE=image/jpeg:https://swfl.life/wp-content/uploads/2026/03/492356427_992781549726577_7385645517513433516_n.jpg
END:VEVENT
BEGIN:VEVENT
DTSTART;TZID=America/New_York:20260906T083000
DTEND;TZID=America/New_York:20260906T123000
DTSTAMP:20260420T104154
CREATED:20260305T141217Z
LAST-MODIFIED:20260325T152427Z
UID:10013800-1788683400-1788697800@swfl.life
SUMMARY:Sunday Service at Hope City Church - Bonita Campus
DESCRIPTION:THREE separate services EVERY  Sunday: \n\n8:30-9:30am\n10:00-11:00am\n11:30am-12:30pm\n\nWe’d love to see you there! ✝️
URL:https://swfl.life/event/sunday-service-at-hope-city-church-bonita-campus/2026-09-06/
LOCATION:Hope City Church – Bonita Campus\, 12871 Trade Way Drive\, Bonita Springs\, FL
ATTACH;FMTTYPE=image/jpeg:https://swfl.life/wp-content/uploads/2026/03/492356427_992781549726577_7385645517513433516_n.jpg
END:VEVENT
BEGIN:VEVENT
DTSTART;TZID=America/New_York:20260913T083000
DTEND;TZID=America/New_York:20260913T123000
DTSTAMP:20260420T104155
CREATED:20260305T141217Z
LAST-MODIFIED:20260325T152427Z
UID:10013801-1789288200-1789302600@swfl.life
SUMMARY:Sunday Service at Hope City Church - Bonita Campus
DESCRIPTION:THREE separate services EVERY  Sunday: \n\n8:30-9:30am\n10:00-11:00am\n11:30am-12:30pm\n\nWe’d love to see you there! ✝️
URL:https://swfl.life/event/sunday-service-at-hope-city-church-bonita-campus/2026-09-13/
LOCATION:Hope City Church – Bonita Campus\, 12871 Trade Way Drive\, Bonita Springs\, FL
ATTACH;FMTTYPE=image/jpeg:https://swfl.life/wp-content/uploads/2026/03/492356427_992781549726577_7385645517513433516_n.jpg
END:VEVENT
BEGIN:VEVENT
DTSTART;TZID=America/New_York:20260920T083000
DTEND;TZID=America/New_York:20260920T123000
DTSTAMP:20260420T104155
CREATED:20260305T141217Z
LAST-MODIFIED:20260325T152427Z
UID:10013802-1789893000-1789907400@swfl.life
SUMMARY:Sunday Service at Hope City Church - Bonita Campus
DESCRIPTION:THREE separate services EVERY  Sunday: \n\n8:30-9:30am\n10:00-11:00am\n11:30am-12:30pm\n\nWe’d love to see you there! ✝️
URL:https://swfl.life/event/sunday-service-at-hope-city-church-bonita-campus/2026-09-20/
LOCATION:Hope City Church – Bonita Campus\, 12871 Trade Way Drive\, Bonita Springs\, FL
ATTACH;FMTTYPE=image/jpeg:https://swfl.life/wp-content/uploads/2026/03/492356427_992781549726577_7385645517513433516_n.jpg
END:VEVENT
BEGIN:VEVENT
DTSTART;TZID=America/New_York:20260927T083000
DTEND;TZID=America/New_York:20260927T123000
DTSTAMP:20260420T104155
CREATED:20260305T141217Z
LAST-MODIFIED:20260325T152427Z
UID:10013803-1790497800-1790512200@swfl.life
SUMMARY:Sunday Service at Hope City Church - Bonita Campus
DESCRIPTION:THREE separate services EVERY  Sunday: \n\n8:30-9:30am\n10:00-11:00am\n11:30am-12:30pm\n\nWe’d love to see you there! ✝️
URL:https://swfl.life/event/sunday-service-at-hope-city-church-bonita-campus/2026-09-27/
LOCATION:Hope City Church – Bonita Campus\, 12871 Trade Way Drive\, Bonita Springs\, FL
ATTACH;FMTTYPE=image/jpeg:https://swfl.life/wp-content/uploads/2026/03/492356427_992781549726577_7385645517513433516_n.jpg
END:VEVENT
BEGIN:VEVENT
DTSTART;TZID=America/New_York:20261004T083000
DTEND;TZID=America/New_York:20261004T123000
DTSTAMP:20260420T104155
CREATED:20260305T141217Z
LAST-MODIFIED:20260325T152427Z
UID:10013804-1791102600-1791117000@swfl.life
SUMMARY:Sunday Service at Hope City Church - Bonita Campus
DESCRIPTION:THREE separate services EVERY  Sunday: \n\n8:30-9:30am\n10:00-11:00am\n11:30am-12:30pm\n\nWe’d love to see you there! ✝️
URL:https://swfl.life/event/sunday-service-at-hope-city-church-bonita-campus/2026-10-04/
LOCATION:Hope City Church – Bonita Campus\, 12871 Trade Way Drive\, Bonita Springs\, FL
ATTACH;FMTTYPE=image/jpeg:https://swfl.life/wp-content/uploads/2026/03/492356427_992781549726577_7385645517513433516_n.jpg
END:VEVENT
BEGIN:VEVENT
DTSTART;TZID=America/New_York:20261011T083000
DTEND;TZID=America/New_York:20261011T123000
DTSTAMP:20260420T104155
CREATED:20260305T141217Z
LAST-MODIFIED:20260325T152427Z
UID:10013805-1791707400-1791721800@swfl.life
SUMMARY:Sunday Service at Hope City Church - Bonita Campus
DESCRIPTION:THREE separate services EVERY  Sunday: \n\n8:30-9:30am\n10:00-11:00am\n11:30am-12:30pm\n\nWe’d love to see you there! ✝️
URL:https://swfl.life/event/sunday-service-at-hope-city-church-bonita-campus/2026-10-11/
LOCATION:Hope City Church – Bonita Campus\, 12871 Trade Way Drive\, Bonita Springs\, FL
ATTACH;FMTTYPE=image/jpeg:https://swfl.life/wp-content/uploads/2026/03/492356427_992781549726577_7385645517513433516_n.jpg
END:VEVENT
BEGIN:VEVENT
DTSTART;TZID=America/New_York:20261018T083000
DTEND;TZID=America/New_York:20261018T123000
DTSTAMP:20260420T104155
CREATED:20260305T141217Z
LAST-MODIFIED:20260325T152427Z
UID:10013806-1792312200-1792326600@swfl.life
SUMMARY:Sunday Service at Hope City Church - Bonita Campus
DESCRIPTION:THREE separate services EVERY  Sunday: \n\n8:30-9:30am\n10:00-11:00am\n11:30am-12:30pm\n\nWe’d love to see you there! ✝️
URL:https://swfl.life/event/sunday-service-at-hope-city-church-bonita-campus/2026-10-18/
LOCATION:Hope City Church – Bonita Campus\, 12871 Trade Way Drive\, Bonita Springs\, FL
ATTACH;FMTTYPE=image/jpeg:https://swfl.life/wp-content/uploads/2026/03/492356427_992781549726577_7385645517513433516_n.jpg
END:VEVENT
BEGIN:VEVENT
DTSTART;TZID=America/New_York:20261025T083000
DTEND;TZID=America/New_York:20261025T123000
DTSTAMP:20260420T104155
CREATED:20260305T141217Z
LAST-MODIFIED:20260325T152427Z
UID:10013807-1792917000-1792931400@swfl.life
SUMMARY:Sunday Service at Hope City Church - Bonita Campus
DESCRIPTION:THREE separate services EVERY  Sunday: \n\n8:30-9:30am\n10:00-11:00am\n11:30am-12:30pm\n\nWe’d love to see you there! ✝️
URL:https://swfl.life/event/sunday-service-at-hope-city-church-bonita-campus/2026-10-25/
LOCATION:Hope City Church – Bonita Campus\, 12871 Trade Way Drive\, Bonita Springs\, FL
ATTACH;FMTTYPE=image/jpeg:https://swfl.life/wp-content/uploads/2026/03/492356427_992781549726577_7385645517513433516_n.jpg
END:VEVENT
BEGIN:VEVENT
DTSTART;TZID=America/New_York:20261101T083000
DTEND;TZID=America/New_York:20261101T123000
DTSTAMP:20260420T104155
CREATED:20260305T141217Z
LAST-MODIFIED:20260325T152427Z
UID:10013808-1793521800-1793536200@swfl.life
SUMMARY:Sunday Service at Hope City Church - Bonita Campus
DESCRIPTION:THREE separate services EVERY  Sunday: \n\n8:30-9:30am\n10:00-11:00am\n11:30am-12:30pm\n\nWe’d love to see you there! ✝️
URL:https://swfl.life/event/sunday-service-at-hope-city-church-bonita-campus/2026-11-01/
LOCATION:Hope City Church – Bonita Campus\, 12871 Trade Way Drive\, Bonita Springs\, FL
ATTACH;FMTTYPE=image/jpeg:https://swfl.life/wp-content/uploads/2026/03/492356427_992781549726577_7385645517513433516_n.jpg
END:VEVENT
BEGIN:VEVENT
DTSTART;TZID=America/New_York:20261108T083000
DTEND;TZID=America/New_York:20261108T123000
DTSTAMP:20260420T104155
CREATED:20260305T141217Z
LAST-MODIFIED:20260325T152427Z
UID:10013809-1794126600-1794141000@swfl.life
SUMMARY:Sunday Service at Hope City Church - Bonita Campus
DESCRIPTION:THREE separate services EVERY  Sunday: \n\n8:30-9:30am\n10:00-11:00am\n11:30am-12:30pm\n\nWe’d love to see you there! ✝️
URL:https://swfl.life/event/sunday-service-at-hope-city-church-bonita-campus/2026-11-08/
LOCATION:Hope City Church – Bonita Campus\, 12871 Trade Way Drive\, Bonita Springs\, FL
ATTACH;FMTTYPE=image/jpeg:https://swfl.life/wp-content/uploads/2026/03/492356427_992781549726577_7385645517513433516_n.jpg
END:VEVENT
BEGIN:VEVENT
DTSTART;TZID=America/New_York:20261115T083000
DTEND;TZID=America/New_York:20261115T123000
DTSTAMP:20260420T104155
CREATED:20260305T141217Z
LAST-MODIFIED:20260325T152427Z
UID:10013810-1794731400-1794745800@swfl.life
SUMMARY:Sunday Service at Hope City Church - Bonita Campus
DESCRIPTION:THREE separate services EVERY  Sunday: \n\n8:30-9:30am\n10:00-11:00am\n11:30am-12:30pm\n\nWe’d love to see you there! ✝️
URL:https://swfl.life/event/sunday-service-at-hope-city-church-bonita-campus/2026-11-15/
LOCATION:Hope City Church – Bonita Campus\, 12871 Trade Way Drive\, Bonita Springs\, FL
ATTACH;FMTTYPE=image/jpeg:https://swfl.life/wp-content/uploads/2026/03/492356427_992781549726577_7385645517513433516_n.jpg
END:VEVENT
END:VCALENDAR