BEGIN:VCALENDAR
VERSION:2.0
PRODID:-//SWFL Life - ECPv6.15.20//NONSGML v1.0//EN
CALSCALE:GREGORIAN
METHOD:PUBLISH
X-WR-CALNAME:SWFL Life
X-ORIGINAL-URL:https://swfl.life
X-WR-CALDESC:Events for SWFL Life
REFRESH-INTERVAL;VALUE=DURATION:PT1H
X-Robots-Tag:noindex
X-PUBLISHED-TTL:PT1H
BEGIN:VTIMEZONE
TZID:America/New_York
BEGIN:DAYLIGHT
TZOFFSETFROM:-0500
TZOFFSETTO:-0400
TZNAME:EDT
DTSTART:20240310T070000
END:DAYLIGHT
BEGIN:STANDARD
TZOFFSETFROM:-0400
TZOFFSETTO:-0500
TZNAME:EST
DTSTART:20241103T060000
END:STANDARD
BEGIN:DAYLIGHT
TZOFFSETFROM:-0500
TZOFFSETTO:-0400
TZNAME:EDT
DTSTART:20250309T070000
END:DAYLIGHT
BEGIN:STANDARD
TZOFFSETFROM:-0400
TZOFFSETTO:-0500
TZNAME:EST
DTSTART:20251102T060000
END:STANDARD
BEGIN:DAYLIGHT
TZOFFSETFROM:-0500
TZOFFSETTO:-0400
TZNAME:EDT
DTSTART:20260308T070000
END:DAYLIGHT
BEGIN:STANDARD
TZOFFSETFROM:-0400
TZOFFSETTO:-0500
TZNAME:EST
DTSTART:20261101T060000
END:STANDARD
END:VTIMEZONE
BEGIN:VEVENT
DTSTART;TZID=America/New_York:20251228T180000
DTEND;TZID=America/New_York:20251228T203000
DTSTAMP:20260420T073832
CREATED:20260406T040848Z
LAST-MODIFIED:20260406T040848Z
UID:10014159-1766944800-1766953800@swfl.life
SUMMARY:Florida Everblades vs Reading Royals
DESCRIPTION:Sale Dates and Times:\nPublic Onsale : Mon\, 22 Sep 2025 at 10:00 AM
URL:https://swfl.life/event/florida-everblades-vs-reading-royals-136/
LOCATION:Hertz Arena\, 11000 Everblades Pkwy\, Estero\, FL\, United States
ATTACH;FMTTYPE=image/jpeg:https://swfl.life/wp-content/uploads/2025/12/551503370_1239289014906320_2883384463840698091_n.jpeg
END:VEVENT
BEGIN:VEVENT
DTSTART;TZID=America/New_York:20251228T180000
DTEND;TZID=America/New_York:20251228T203000
DTSTAMP:20260420T073832
CREATED:20260406T160839Z
LAST-MODIFIED:20260406T160839Z
UID:10014160-1766944800-1766953800@swfl.life
SUMMARY:Florida Everblades vs Reading Royals
DESCRIPTION:Sale Dates and Times:\nPublic Onsale : Mon\, 22 Sep 2025 at 10:00 AM
URL:https://swfl.life/event/florida-everblades-vs-reading-royals-137/
LOCATION:Hertz Arena\, 11000 Everblades Pkwy\, Estero\, FL\, United States
ATTACH;FMTTYPE=image/jpeg:https://swfl.life/wp-content/uploads/2025/12/551503370_1239289014906320_2883384463840698091_n.jpeg
END:VEVENT
BEGIN:VEVENT
DTSTART;TZID=America/New_York:20251228T180000
DTEND;TZID=America/New_York:20251228T203000
DTSTAMP:20260420T073832
CREATED:20260407T040843Z
LAST-MODIFIED:20260407T040843Z
UID:10014161-1766944800-1766953800@swfl.life
SUMMARY:Florida Everblades vs Reading Royals
DESCRIPTION:Sale Dates and Times:\nPublic Onsale : Mon\, 22 Sep 2025 at 10:00 AM
URL:https://swfl.life/event/florida-everblades-vs-reading-royals-138/
LOCATION:Hertz Arena\, 11000 Everblades Pkwy\, Estero\, FL\, United States
ATTACH;FMTTYPE=image/jpeg:https://swfl.life/wp-content/uploads/2025/12/551503370_1239289014906320_2883384463840698091_n.jpeg
END:VEVENT
BEGIN:VEVENT
DTSTART;TZID=America/New_York:20251228T180000
DTEND;TZID=America/New_York:20251228T203000
DTSTAMP:20260420T073832
CREATED:20260407T160847Z
LAST-MODIFIED:20260407T160847Z
UID:10014162-1766944800-1766953800@swfl.life
SUMMARY:Florida Everblades vs Reading Royals
DESCRIPTION:Sale Dates and Times:\nPublic Onsale : Mon\, 22 Sep 2025 at 10:00 AM
URL:https://swfl.life/event/florida-everblades-vs-reading-royals-139/
LOCATION:Hertz Arena\, 11000 Everblades Pkwy\, Estero\, FL\, United States
ATTACH;FMTTYPE=image/jpeg:https://swfl.life/wp-content/uploads/2025/12/551503370_1239289014906320_2883384463840698091_n.jpeg
END:VEVENT
BEGIN:VEVENT
DTSTART;TZID=America/New_York:20251228T180000
DTEND;TZID=America/New_York:20251228T203000
DTSTAMP:20260420T073832
CREATED:20260408T040841Z
LAST-MODIFIED:20260408T040841Z
UID:10014163-1766944800-1766953800@swfl.life
SUMMARY:Florida Everblades vs Reading Royals
DESCRIPTION:Sale Dates and Times:\nPublic Onsale : Mon\, 22 Sep 2025 at 10:00 AM
URL:https://swfl.life/event/florida-everblades-vs-reading-royals-140/
LOCATION:Hertz Arena\, 11000 Everblades Pkwy\, Estero\, FL\, United States
ATTACH;FMTTYPE=image/jpeg:https://swfl.life/wp-content/uploads/2025/12/551503370_1239289014906320_2883384463840698091_n.jpeg
END:VEVENT
BEGIN:VEVENT
DTSTART;TZID=America/New_York:20251228T180000
DTEND;TZID=America/New_York:20251228T203000
DTSTAMP:20260420T073832
CREATED:20260408T160839Z
LAST-MODIFIED:20260408T160839Z
UID:10014164-1766944800-1766953800@swfl.life
SUMMARY:Florida Everblades vs Reading Royals
DESCRIPTION:Sale Dates and Times:\nPublic Onsale : Mon\, 22 Sep 2025 at 10:00 AM
URL:https://swfl.life/event/florida-everblades-vs-reading-royals-141/
LOCATION:Hertz Arena\, 11000 Everblades Pkwy\, Estero\, FL\, United States
ATTACH;FMTTYPE=image/jpeg:https://swfl.life/wp-content/uploads/2025/12/551503370_1239289014906320_2883384463840698091_n.jpeg
END:VEVENT
BEGIN:VEVENT
DTSTART;TZID=America/New_York:20251228T180000
DTEND;TZID=America/New_York:20251228T203000
DTSTAMP:20260420T073832
CREATED:20260409T040854Z
LAST-MODIFIED:20260409T040854Z
UID:10014165-1766944800-1766953800@swfl.life
SUMMARY:Florida Everblades vs Reading Royals
DESCRIPTION:Sale Dates and Times:\nPublic Onsale : Mon\, 22 Sep 2025 at 10:00 AM
URL:https://swfl.life/event/florida-everblades-vs-reading-royals-142/
LOCATION:Hertz Arena\, 11000 Everblades Pkwy\, Estero\, FL\, United States
ATTACH;FMTTYPE=image/jpeg:https://swfl.life/wp-content/uploads/2025/12/551503370_1239289014906320_2883384463840698091_n.jpeg
END:VEVENT
BEGIN:VEVENT
DTSTART;TZID=America/New_York:20251228T180000
DTEND;TZID=America/New_York:20251228T203000
DTSTAMP:20260420T073832
CREATED:20260409T160843Z
LAST-MODIFIED:20260409T160843Z
UID:10014175-1766944800-1766953800@swfl.life
SUMMARY:Florida Everblades vs Reading Royals
DESCRIPTION:Sale Dates and Times:\nPublic Onsale : Mon\, 22 Sep 2025 at 10:00 AM
URL:https://swfl.life/event/florida-everblades-vs-reading-royals-143/
LOCATION:Hertz Arena\, 11000 Everblades Pkwy\, Estero\, FL\, United States
ATTACH;FMTTYPE=image/jpeg:https://swfl.life/wp-content/uploads/2025/12/551503370_1239289014906320_2883384463840698091_n.jpeg
END:VEVENT
BEGIN:VEVENT
DTSTART;TZID=America/New_York:20251228T180000
DTEND;TZID=America/New_York:20251228T203000
DTSTAMP:20260420T073832
CREATED:20260410T040842Z
LAST-MODIFIED:20260410T040842Z
UID:10014176-1766944800-1766953800@swfl.life
SUMMARY:Florida Everblades vs Reading Royals
DESCRIPTION:Sale Dates and Times:\nPublic Onsale : Mon\, 22 Sep 2025 at 10:00 AM
URL:https://swfl.life/event/florida-everblades-vs-reading-royals-144/
LOCATION:Hertz Arena\, 11000 Everblades Pkwy\, Estero\, FL\, United States
ATTACH;FMTTYPE=image/jpeg:https://swfl.life/wp-content/uploads/2025/12/551503370_1239289014906320_2883384463840698091_n.jpeg
END:VEVENT
BEGIN:VEVENT
DTSTART;TZID=America/New_York:20251228T180000
DTEND;TZID=America/New_York:20251228T203000
DTSTAMP:20260420T073832
CREATED:20260410T160843Z
LAST-MODIFIED:20260410T160843Z
UID:10014177-1766944800-1766953800@swfl.life
SUMMARY:Florida Everblades vs Reading Royals
DESCRIPTION:Sale Dates and Times:\nPublic Onsale : Mon\, 22 Sep 2025 at 10:00 AM
URL:https://swfl.life/event/florida-everblades-vs-reading-royals-145/
LOCATION:Hertz Arena\, 11000 Everblades Pkwy\, Estero\, FL\, United States
ATTACH;FMTTYPE=image/jpeg:https://swfl.life/wp-content/uploads/2025/12/551503370_1239289014906320_2883384463840698091_n.jpeg
END:VEVENT
BEGIN:VEVENT
DTSTART;TZID=America/New_York:20251228T180000
DTEND;TZID=America/New_York:20251228T203000
DTSTAMP:20260420T073832
CREATED:20260411T040841Z
LAST-MODIFIED:20260411T040841Z
UID:10014178-1766944800-1766953800@swfl.life
SUMMARY:Florida Everblades vs Reading Royals
DESCRIPTION:Sale Dates and Times:\nPublic Onsale : Mon\, 22 Sep 2025 at 10:00 AM
URL:https://swfl.life/event/florida-everblades-vs-reading-royals-146/
LOCATION:Hertz Arena\, 11000 Everblades Pkwy\, Estero\, FL\, United States
ATTACH;FMTTYPE=image/jpeg:https://swfl.life/wp-content/uploads/2025/12/551503370_1239289014906320_2883384463840698091_n.jpeg
END:VEVENT
BEGIN:VEVENT
DTSTART;TZID=America/New_York:20251228T180000
DTEND;TZID=America/New_York:20251228T203000
DTSTAMP:20260420T073832
CREATED:20260411T160844Z
LAST-MODIFIED:20260411T160844Z
UID:10014179-1766944800-1766953800@swfl.life
SUMMARY:Florida Everblades vs Reading Royals
DESCRIPTION:Sale Dates and Times:\nPublic Onsale : Mon\, 22 Sep 2025 at 10:00 AM
URL:https://swfl.life/event/florida-everblades-vs-reading-royals-147/
LOCATION:Hertz Arena\, 11000 Everblades Pkwy\, Estero\, FL\, United States
ATTACH;FMTTYPE=image/jpeg:https://swfl.life/wp-content/uploads/2025/12/551503370_1239289014906320_2883384463840698091_n.jpeg
END:VEVENT
BEGIN:VEVENT
DTSTART;TZID=America/New_York:20251228T180000
DTEND;TZID=America/New_York:20251228T203000
DTSTAMP:20260420T073832
CREATED:20260412T040846Z
LAST-MODIFIED:20260412T040846Z
UID:10014180-1766944800-1766953800@swfl.life
SUMMARY:Florida Everblades vs Reading Royals
DESCRIPTION:Sale Dates and Times:\nPublic Onsale : Mon\, 22 Sep 2025 at 10:00 AM
URL:https://swfl.life/event/florida-everblades-vs-reading-royals-148/
LOCATION:Hertz Arena\, 11000 Everblades Pkwy\, Estero\, FL\, United States
ATTACH;FMTTYPE=image/jpeg:https://swfl.life/wp-content/uploads/2025/12/551503370_1239289014906320_2883384463840698091_n.jpeg
END:VEVENT
BEGIN:VEVENT
DTSTART;TZID=America/New_York:20251228T180000
DTEND;TZID=America/New_York:20251228T203000
DTSTAMP:20260420T073832
CREATED:20260412T160841Z
LAST-MODIFIED:20260412T160841Z
UID:10014181-1766944800-1766953800@swfl.life
SUMMARY:Florida Everblades vs Reading Royals
DESCRIPTION:Sale Dates and Times:\nPublic Onsale : Mon\, 22 Sep 2025 at 10:00 AM
URL:https://swfl.life/event/florida-everblades-vs-reading-royals-149/
LOCATION:Hertz Arena\, 11000 Everblades Pkwy\, Estero\, FL\, United States
ATTACH;FMTTYPE=image/jpeg:https://swfl.life/wp-content/uploads/2025/12/551503370_1239289014906320_2883384463840698091_n.jpeg
END:VEVENT
BEGIN:VEVENT
DTSTART;TZID=America/New_York:20251228T180000
DTEND;TZID=America/New_York:20251228T203000
DTSTAMP:20260420T073832
CREATED:20260413T040841Z
LAST-MODIFIED:20260413T040841Z
UID:10014182-1766944800-1766953800@swfl.life
SUMMARY:Florida Everblades vs Reading Royals
DESCRIPTION:Sale Dates and Times:\nPublic Onsale : Mon\, 22 Sep 2025 at 10:00 AM
URL:https://swfl.life/event/florida-everblades-vs-reading-royals-150/
LOCATION:Hertz Arena\, 11000 Everblades Pkwy\, Estero\, FL\, United States
ATTACH;FMTTYPE=image/jpeg:https://swfl.life/wp-content/uploads/2025/12/551503370_1239289014906320_2883384463840698091_n.jpeg
END:VEVENT
BEGIN:VEVENT
DTSTART;TZID=America/New_York:20251228T180000
DTEND;TZID=America/New_York:20251228T203000
DTSTAMP:20260420T073832
CREATED:20260413T160902Z
LAST-MODIFIED:20260413T160902Z
UID:10014183-1766944800-1766953800@swfl.life
SUMMARY:Florida Everblades vs Reading Royals
DESCRIPTION:Sale Dates and Times:\nPublic Onsale : Mon\, 22 Sep 2025 at 10:00 AM
URL:https://swfl.life/event/florida-everblades-vs-reading-royals-151/
LOCATION:Hertz Arena\, 11000 Everblades Pkwy\, Estero\, FL\, United States
ATTACH;FMTTYPE=image/jpeg:https://swfl.life/wp-content/uploads/2025/12/551503370_1239289014906320_2883384463840698091_n.jpeg
END:VEVENT
BEGIN:VEVENT
DTSTART;TZID=America/New_York:20251228T180000
DTEND;TZID=America/New_York:20251228T203000
DTSTAMP:20260420T073832
CREATED:20260414T040901Z
LAST-MODIFIED:20260414T040901Z
UID:10014184-1766944800-1766953800@swfl.life
SUMMARY:Florida Everblades vs Reading Royals
DESCRIPTION:Sale Dates and Times:\nPublic Onsale : Mon\, 22 Sep 2025 at 10:00 AM
URL:https://swfl.life/event/florida-everblades-vs-reading-royals-152/
LOCATION:Hertz Arena\, 11000 Everblades Pkwy\, Estero\, FL\, United States
ATTACH;FMTTYPE=image/jpeg:https://swfl.life/wp-content/uploads/2025/12/551503370_1239289014906320_2883384463840698091_n.jpeg
END:VEVENT
BEGIN:VEVENT
DTSTART;TZID=America/New_York:20251228T180000
DTEND;TZID=America/New_York:20251228T203000
DTSTAMP:20260420T073832
CREATED:20260414T160903Z
LAST-MODIFIED:20260414T160903Z
UID:10014185-1766944800-1766953800@swfl.life
SUMMARY:Florida Everblades vs Reading Royals
DESCRIPTION:Sale Dates and Times:\nPublic Onsale : Mon\, 22 Sep 2025 at 10:00 AM
URL:https://swfl.life/event/florida-everblades-vs-reading-royals-153/
LOCATION:Hertz Arena\, 11000 Everblades Pkwy\, Estero\, FL\, United States
ATTACH;FMTTYPE=image/jpeg:https://swfl.life/wp-content/uploads/2025/12/551503370_1239289014906320_2883384463840698091_n.jpeg
END:VEVENT
BEGIN:VEVENT
DTSTART;TZID=America/New_York:20251228T180000
DTEND;TZID=America/New_York:20251228T203000
DTSTAMP:20260420T073832
CREATED:20260415T040845Z
LAST-MODIFIED:20260415T040845Z
UID:10014186-1766944800-1766953800@swfl.life
SUMMARY:Florida Everblades vs Reading Royals
DESCRIPTION:Sale Dates and Times:\nPublic Onsale : Mon\, 22 Sep 2025 at 10:00 AM
URL:https://swfl.life/event/florida-everblades-vs-reading-royals-154/
LOCATION:Hertz Arena\, 11000 Everblades Pkwy\, Estero\, FL\, United States
ATTACH;FMTTYPE=image/jpeg:https://swfl.life/wp-content/uploads/2025/12/551503370_1239289014906320_2883384463840698091_n.jpeg
END:VEVENT
BEGIN:VEVENT
DTSTART;TZID=America/New_York:20251228T180000
DTEND;TZID=America/New_York:20251228T203000
DTSTAMP:20260420T073832
CREATED:20260415T160917Z
LAST-MODIFIED:20260415T160917Z
UID:10014187-1766944800-1766953800@swfl.life
SUMMARY:Florida Everblades vs Reading Royals
DESCRIPTION:Sale Dates and Times:\nPublic Onsale : Mon\, 22 Sep 2025 at 10:00 AM
URL:https://swfl.life/event/florida-everblades-vs-reading-royals-155/
LOCATION:Hertz Arena\, 11000 Everblades Pkwy\, Estero\, FL\, United States
ATTACH;FMTTYPE=image/jpeg:https://swfl.life/wp-content/uploads/2025/12/551503370_1239289014906320_2883384463840698091_n.jpeg
END:VEVENT
BEGIN:VEVENT
DTSTART;TZID=America/New_York:20251228T180000
DTEND;TZID=America/New_York:20251228T203000
DTSTAMP:20260420T073832
CREATED:20260416T040841Z
LAST-MODIFIED:20260416T040841Z
UID:10014188-1766944800-1766953800@swfl.life
SUMMARY:Florida Everblades vs Reading Royals
DESCRIPTION:Sale Dates and Times:\nPublic Onsale : Mon\, 22 Sep 2025 at 10:00 AM
URL:https://swfl.life/event/florida-everblades-vs-reading-royals-156/
LOCATION:Hertz Arena\, 11000 Everblades Pkwy\, Estero\, FL\, United States
ATTACH;FMTTYPE=image/jpeg:https://swfl.life/wp-content/uploads/2025/12/551503370_1239289014906320_2883384463840698091_n.jpeg
END:VEVENT
BEGIN:VEVENT
DTSTART;TZID=America/New_York:20251228T180000
DTEND;TZID=America/New_York:20251228T203000
DTSTAMP:20260420T073832
CREATED:20260416T160839Z
LAST-MODIFIED:20260416T160839Z
UID:10014189-1766944800-1766953800@swfl.life
SUMMARY:Florida Everblades vs Reading Royals
DESCRIPTION:Sale Dates and Times:\nPublic Onsale : Mon\, 22 Sep 2025 at 10:00 AM
URL:https://swfl.life/event/florida-everblades-vs-reading-royals-157/
LOCATION:Hertz Arena\, 11000 Everblades Pkwy\, Estero\, FL\, United States
ATTACH;FMTTYPE=image/jpeg:https://swfl.life/wp-content/uploads/2025/12/551503370_1239289014906320_2883384463840698091_n.jpeg
END:VEVENT
BEGIN:VEVENT
DTSTART;TZID=America/New_York:20251228T180000
DTEND;TZID=America/New_York:20251228T203000
DTSTAMP:20260420T073832
CREATED:20260417T040847Z
LAST-MODIFIED:20260417T040847Z
UID:10014190-1766944800-1766953800@swfl.life
SUMMARY:Florida Everblades vs Reading Royals
DESCRIPTION:Sale Dates and Times:\nPublic Onsale : Mon\, 22 Sep 2025 at 10:00 AM
URL:https://swfl.life/event/florida-everblades-vs-reading-royals-158/
LOCATION:Hertz Arena\, 11000 Everblades Pkwy\, Estero\, FL\, United States
ATTACH;FMTTYPE=image/jpeg:https://swfl.life/wp-content/uploads/2025/12/551503370_1239289014906320_2883384463840698091_n.jpeg
END:VEVENT
BEGIN:VEVENT
DTSTART;TZID=America/New_York:20251228T180000
DTEND;TZID=America/New_York:20251228T203000
DTSTAMP:20260420T073832
CREATED:20260417T160840Z
LAST-MODIFIED:20260417T160840Z
UID:10014206-1766944800-1766953800@swfl.life
SUMMARY:Florida Everblades vs Reading Royals
DESCRIPTION:Sale Dates and Times:\nPublic Onsale : Mon\, 22 Sep 2025 at 10:00 AM
URL:https://swfl.life/event/florida-everblades-vs-reading-royals-160/
LOCATION:Hertz Arena\, 11000 Everblades Pkwy\, Estero\, FL\, United States
ATTACH;FMTTYPE=image/jpeg:https://swfl.life/wp-content/uploads/2025/12/551503370_1239289014906320_2883384463840698091_n.jpeg
END:VEVENT
BEGIN:VEVENT
DTSTART;TZID=America/New_York:20251228T180000
DTEND;TZID=America/New_York:20251228T203000
DTSTAMP:20260420T073832
CREATED:20260418T040841Z
LAST-MODIFIED:20260418T040841Z
UID:10014207-1766944800-1766953800@swfl.life
SUMMARY:Florida Everblades vs Reading Royals
DESCRIPTION:Sale Dates and Times:\nPublic Onsale : Mon\, 22 Sep 2025 at 10:00 AM
URL:https://swfl.life/event/florida-everblades-vs-reading-royals-161/
LOCATION:Hertz Arena\, 11000 Everblades Pkwy\, Estero\, FL\, United States
ATTACH;FMTTYPE=image/jpeg:https://swfl.life/wp-content/uploads/2025/12/551503370_1239289014906320_2883384463840698091_n.jpeg
END:VEVENT
BEGIN:VEVENT
DTSTART;TZID=America/New_York:20251228T180000
DTEND;TZID=America/New_York:20251228T203000
DTSTAMP:20260420T073832
CREATED:20260418T160854Z
LAST-MODIFIED:20260418T160854Z
UID:10014208-1766944800-1766953800@swfl.life
SUMMARY:Florida Everblades vs Reading Royals
DESCRIPTION:Sale Dates and Times:\nPublic Onsale : Mon\, 22 Sep 2025 at 10:00 AM
URL:https://swfl.life/event/florida-everblades-vs-reading-royals-162/
LOCATION:Hertz Arena\, 11000 Everblades Pkwy\, Estero\, FL\, United States
ATTACH;FMTTYPE=image/jpeg:https://swfl.life/wp-content/uploads/2025/12/551503370_1239289014906320_2883384463840698091_n.jpeg
END:VEVENT
BEGIN:VEVENT
DTSTART;TZID=America/New_York:20251228T180000
DTEND;TZID=America/New_York:20251228T203000
DTSTAMP:20260420T073832
CREATED:20260419T040947Z
LAST-MODIFIED:20260419T040947Z
UID:10014209-1766944800-1766953800@swfl.life
SUMMARY:Florida Everblades vs Reading Royals
DESCRIPTION:Sale Dates and Times:\nPublic Onsale : Mon\, 22 Sep 2025 at 10:00 AM
URL:https://swfl.life/event/florida-everblades-vs-reading-royals-163/
LOCATION:Hertz Arena\, 11000 Everblades Pkwy\, Estero\, FL\, United States
ATTACH;FMTTYPE=image/jpeg:https://swfl.life/wp-content/uploads/2025/12/551503370_1239289014906320_2883384463840698091_n.jpeg
END:VEVENT
BEGIN:VEVENT
DTSTART;TZID=America/New_York:20251228T180000
DTEND;TZID=America/New_York:20251228T203000
DTSTAMP:20260420T073832
CREATED:20260419T160847Z
LAST-MODIFIED:20260419T160847Z
UID:10014210-1766944800-1766953800@swfl.life
SUMMARY:Florida Everblades vs Reading Royals
DESCRIPTION:Sale Dates and Times:\nPublic Onsale : Mon\, 22 Sep 2025 at 10:00 AM
URL:https://swfl.life/event/florida-everblades-vs-reading-royals-164/
LOCATION:Hertz Arena\, 11000 Everblades Pkwy\, Estero\, FL\, United States
ATTACH;FMTTYPE=image/jpeg:https://swfl.life/wp-content/uploads/2025/12/551503370_1239289014906320_2883384463840698091_n.jpeg
END:VEVENT
BEGIN:VEVENT
DTSTART;TZID=America/New_York:20251228T180000
DTEND;TZID=America/New_York:20251228T203000
DTSTAMP:20260420T073832
CREATED:20260420T040855Z
LAST-MODIFIED:20260420T040855Z
UID:10014211-1766944800-1766953800@swfl.life
SUMMARY:Florida Everblades vs Reading Royals
DESCRIPTION:Sale Dates and Times:\nPublic Onsale : Mon\, 22 Sep 2025 at 10:00 AM
URL:https://swfl.life/event/florida-everblades-vs-reading-royals-165/
LOCATION:Hertz Arena\, 11000 Everblades Pkwy\, Estero\, FL\, United States
ATTACH;FMTTYPE=image/jpeg:https://swfl.life/wp-content/uploads/2025/12/551503370_1239289014906320_2883384463840698091_n.jpeg
END:VEVENT
BEGIN:VEVENT
DTSTART;TZID=America/New_York:20251228T180000
DTEND;TZID=America/New_York:20251228T210000
DTSTAMP:20260420T073832
CREATED:20251211T233121Z
LAST-MODIFIED:20251211T233121Z
UID:10013055-1766944800-1766955600@swfl.life
SUMMARY:Holiday Lights at Calusa Nature Center & Planetarium
DESCRIPTION:Join us at the Calusa Nature Center and Planetarium for Holiday Lights every Friday\, Saturday\, and Sunday in December from Friday\, December 5th through Sunday December 28th. Stop by for Holiday Music\, have some Hot Chocolate and Roast Marshmallows at our firepit\, enjoy the decorations in and around the Nature Center\, and walk our 1/3 of a mile fully decorated Pine Loop Trail.  Starting each night at 6 pm and going until 9 pm.  Admission is $13 for Adults and $7 for Children\, Members are free.
URL:https://swfl.life/event/holiday-lights-at-calusa-nature-center-planetarium/2025-12-28/
LOCATION:Calusa Nature Center & Planetarium\, 3450 Ortiz Ave\, Fort Myers\, FL\, 33905
ATTACH;FMTTYPE=image/png:https://swfl.life/wp-content/uploads/2025/12/Screen-Shot-2025-12-11-at-6.30.00-PM.png
END:VEVENT
END:VCALENDAR