BEGIN:VCALENDAR
VERSION:2.0
PRODID:-//SWFL Life - ECPv6.15.20//NONSGML v1.0//EN
CALSCALE:GREGORIAN
METHOD:PUBLISH
X-WR-CALNAME:SWFL Life
X-ORIGINAL-URL:https://swfl.life
X-WR-CALDESC:Events for SWFL Life
REFRESH-INTERVAL;VALUE=DURATION:PT1H
X-Robots-Tag:noindex
X-PUBLISHED-TTL:PT1H
BEGIN:VTIMEZONE
TZID:America/New_York
BEGIN:DAYLIGHT
TZOFFSETFROM:-0500
TZOFFSETTO:-0400
TZNAME:EDT
DTSTART:20250309T070000
END:DAYLIGHT
BEGIN:STANDARD
TZOFFSETFROM:-0400
TZOFFSETTO:-0500
TZNAME:EST
DTSTART:20251102T060000
END:STANDARD
BEGIN:DAYLIGHT
TZOFFSETFROM:-0500
TZOFFSETTO:-0400
TZNAME:EDT
DTSTART:20260308T070000
END:DAYLIGHT
BEGIN:STANDARD
TZOFFSETFROM:-0400
TZOFFSETTO:-0500
TZNAME:EST
DTSTART:20261101T060000
END:STANDARD
BEGIN:DAYLIGHT
TZOFFSETFROM:-0500
TZOFFSETTO:-0400
TZNAME:EDT
DTSTART:20270314T070000
END:DAYLIGHT
BEGIN:STANDARD
TZOFFSETFROM:-0400
TZOFFSETTO:-0500
TZNAME:EST
DTSTART:20271107T060000
END:STANDARD
END:VTIMEZONE
BEGIN:VEVENT
DTSTART;TZID=America/New_York:20260606T080000
DTEND;TZID=America/New_York:20260606T120000
DTSTAMP:20260420T162710
CREATED:20251030T163817Z
LAST-MODIFIED:20251111T172609Z
UID:10012573-1780732800-1780747200@swfl.life
SUMMARY:Vanderbilt Farmer's Market
DESCRIPTION:N. Naples LARGEST Market at the Shoppes at Vanderbilt. Fresh fruits & vegetables\, seafood\, honey\, prepared foods\, wears\, specialty foods & so much more!\n\n\n\n*weather permitting!*
URL:https://swfl.life/event/vanderbily-farmers-market-2/2026-06-06/
LOCATION:Galleria Shoppes at Vanderbilt\, 2355 Vanderbilt Beach Rd\, Naples\, FL\, 34109
CATEGORIES:Farmer's Market
ATTACH;FMTTYPE=image/png:https://swfl.life/wp-content/uploads/2025/10/291797190_451019720363711_7341609563802329468_n.png
END:VEVENT
BEGIN:VEVENT
DTSTART;TZID=America/New_York:20260607T090000
DTEND;TZID=America/New_York:20260607T130000
DTSTAMP:20260420T162710
CREATED:20251111T175942Z
LAST-MODIFIED:20251111T175959Z
UID:10012706-1780822800-1780837200@swfl.life
SUMMARY:Pine Ridge Road Farmers Market
DESCRIPTION:Join us at the Pine Ridge Road Farmers Market on Sundays for a wide variety of products and services offered by local artisans\, farmers\, bakers\, chefs\, artists\, and small businesses. You will find a large selection of fresh fruits and veggies\, plants\, orchids\, cut flowers\, gourmet foods\, breads\, healthy (and not-so-healthy but delicious) treats\, jams\, salsas\, guacamole\, honey\, truffles\, popcorn\, micro greens\, unique gift items\, clothing\, trendy accessories\, jewelry\, crystals\, incense\, arts & crafts\, soaps\, beauty products\, and much\, much more. Pets are welcome!
URL:https://swfl.life/event/pine-ridge-road-farmers-market/2026-06-07/
LOCATION:3370 Pine Ridge Road\, 3370 Pine Ridge Road\, NAples\, FL\, 34105
CATEGORIES:Farmer's Market
ATTACH;FMTTYPE=image/jpeg:https://swfl.life/wp-content/uploads/2025/11/480663687_3163787217109331_7549633420059779833_n.jpg
END:VEVENT
BEGIN:VEVENT
DTSTART;TZID=America/New_York:20260613T080000
DTEND;TZID=America/New_York:20260613T120000
DTSTAMP:20260420T162710
CREATED:20251030T163817Z
LAST-MODIFIED:20251111T172609Z
UID:10012574-1781337600-1781352000@swfl.life
SUMMARY:Vanderbilt Farmer's Market
DESCRIPTION:N. Naples LARGEST Market at the Shoppes at Vanderbilt. Fresh fruits & vegetables\, seafood\, honey\, prepared foods\, wears\, specialty foods & so much more!\n\n\n\n*weather permitting!*
URL:https://swfl.life/event/vanderbily-farmers-market-2/2026-06-13/
LOCATION:Galleria Shoppes at Vanderbilt\, 2355 Vanderbilt Beach Rd\, Naples\, FL\, 34109
CATEGORIES:Farmer's Market
ATTACH;FMTTYPE=image/png:https://swfl.life/wp-content/uploads/2025/10/291797190_451019720363711_7341609563802329468_n.png
END:VEVENT
BEGIN:VEVENT
DTSTART;TZID=America/New_York:20260614T090000
DTEND;TZID=America/New_York:20260614T130000
DTSTAMP:20260420T162710
CREATED:20251111T175942Z
LAST-MODIFIED:20251111T175959Z
UID:10012707-1781427600-1781442000@swfl.life
SUMMARY:Pine Ridge Road Farmers Market
DESCRIPTION:Join us at the Pine Ridge Road Farmers Market on Sundays for a wide variety of products and services offered by local artisans\, farmers\, bakers\, chefs\, artists\, and small businesses. You will find a large selection of fresh fruits and veggies\, plants\, orchids\, cut flowers\, gourmet foods\, breads\, healthy (and not-so-healthy but delicious) treats\, jams\, salsas\, guacamole\, honey\, truffles\, popcorn\, micro greens\, unique gift items\, clothing\, trendy accessories\, jewelry\, crystals\, incense\, arts & crafts\, soaps\, beauty products\, and much\, much more. Pets are welcome!
URL:https://swfl.life/event/pine-ridge-road-farmers-market/2026-06-14/
LOCATION:3370 Pine Ridge Road\, 3370 Pine Ridge Road\, NAples\, FL\, 34105
CATEGORIES:Farmer's Market
ATTACH;FMTTYPE=image/jpeg:https://swfl.life/wp-content/uploads/2025/11/480663687_3163787217109331_7549633420059779833_n.jpg
END:VEVENT
BEGIN:VEVENT
DTSTART;TZID=America/New_York:20260620T080000
DTEND;TZID=America/New_York:20260620T120000
DTSTAMP:20260420T162710
CREATED:20251030T163817Z
LAST-MODIFIED:20251111T172609Z
UID:10012575-1781942400-1781956800@swfl.life
SUMMARY:Vanderbilt Farmer's Market
DESCRIPTION:N. Naples LARGEST Market at the Shoppes at Vanderbilt. Fresh fruits & vegetables\, seafood\, honey\, prepared foods\, wears\, specialty foods & so much more!\n\n\n\n*weather permitting!*
URL:https://swfl.life/event/vanderbily-farmers-market-2/2026-06-20/
LOCATION:Galleria Shoppes at Vanderbilt\, 2355 Vanderbilt Beach Rd\, Naples\, FL\, 34109
CATEGORIES:Farmer's Market
ATTACH;FMTTYPE=image/png:https://swfl.life/wp-content/uploads/2025/10/291797190_451019720363711_7341609563802329468_n.png
END:VEVENT
BEGIN:VEVENT
DTSTART;TZID=America/New_York:20260621T090000
DTEND;TZID=America/New_York:20260621T130000
DTSTAMP:20260420T162710
CREATED:20251111T175942Z
LAST-MODIFIED:20251111T175959Z
UID:10012708-1782032400-1782046800@swfl.life
SUMMARY:Pine Ridge Road Farmers Market
DESCRIPTION:Join us at the Pine Ridge Road Farmers Market on Sundays for a wide variety of products and services offered by local artisans\, farmers\, bakers\, chefs\, artists\, and small businesses. You will find a large selection of fresh fruits and veggies\, plants\, orchids\, cut flowers\, gourmet foods\, breads\, healthy (and not-so-healthy but delicious) treats\, jams\, salsas\, guacamole\, honey\, truffles\, popcorn\, micro greens\, unique gift items\, clothing\, trendy accessories\, jewelry\, crystals\, incense\, arts & crafts\, soaps\, beauty products\, and much\, much more. Pets are welcome!
URL:https://swfl.life/event/pine-ridge-road-farmers-market/2026-06-21/
LOCATION:3370 Pine Ridge Road\, 3370 Pine Ridge Road\, NAples\, FL\, 34105
CATEGORIES:Farmer's Market
ATTACH;FMTTYPE=image/jpeg:https://swfl.life/wp-content/uploads/2025/11/480663687_3163787217109331_7549633420059779833_n.jpg
END:VEVENT
BEGIN:VEVENT
DTSTART;TZID=America/New_York:20260627T080000
DTEND;TZID=America/New_York:20260627T120000
DTSTAMP:20260420T162710
CREATED:20251030T163817Z
LAST-MODIFIED:20251111T172609Z
UID:10012576-1782547200-1782561600@swfl.life
SUMMARY:Vanderbilt Farmer's Market
DESCRIPTION:N. Naples LARGEST Market at the Shoppes at Vanderbilt. Fresh fruits & vegetables\, seafood\, honey\, prepared foods\, wears\, specialty foods & so much more!\n\n\n\n*weather permitting!*
URL:https://swfl.life/event/vanderbily-farmers-market-2/2026-06-27/
LOCATION:Galleria Shoppes at Vanderbilt\, 2355 Vanderbilt Beach Rd\, Naples\, FL\, 34109
CATEGORIES:Farmer's Market
ATTACH;FMTTYPE=image/png:https://swfl.life/wp-content/uploads/2025/10/291797190_451019720363711_7341609563802329468_n.png
END:VEVENT
BEGIN:VEVENT
DTSTART;TZID=America/New_York:20260628T090000
DTEND;TZID=America/New_York:20260628T130000
DTSTAMP:20260420T162710
CREATED:20251111T175942Z
LAST-MODIFIED:20251111T175959Z
UID:10012709-1782637200-1782651600@swfl.life
SUMMARY:Pine Ridge Road Farmers Market
DESCRIPTION:Join us at the Pine Ridge Road Farmers Market on Sundays for a wide variety of products and services offered by local artisans\, farmers\, bakers\, chefs\, artists\, and small businesses. You will find a large selection of fresh fruits and veggies\, plants\, orchids\, cut flowers\, gourmet foods\, breads\, healthy (and not-so-healthy but delicious) treats\, jams\, salsas\, guacamole\, honey\, truffles\, popcorn\, micro greens\, unique gift items\, clothing\, trendy accessories\, jewelry\, crystals\, incense\, arts & crafts\, soaps\, beauty products\, and much\, much more. Pets are welcome!
URL:https://swfl.life/event/pine-ridge-road-farmers-market/2026-06-28/
LOCATION:3370 Pine Ridge Road\, 3370 Pine Ridge Road\, NAples\, FL\, 34105
CATEGORIES:Farmer's Market
ATTACH;FMTTYPE=image/jpeg:https://swfl.life/wp-content/uploads/2025/11/480663687_3163787217109331_7549633420059779833_n.jpg
END:VEVENT
END:VCALENDAR