BEGIN:VCALENDAR
VERSION:2.0
PRODID:-//SWFL Life - ECPv6.15.20//NONSGML v1.0//EN
CALSCALE:GREGORIAN
METHOD:PUBLISH
X-ORIGINAL-URL:https://swfl.life
X-WR-CALDESC:Events for SWFL Life
REFRESH-INTERVAL;VALUE=DURATION:PT1H
X-Robots-Tag:noindex
X-PUBLISHED-TTL:PT1H
BEGIN:VTIMEZONE
TZID:America/New_York
BEGIN:DAYLIGHT
TZOFFSETFROM:-0500
TZOFFSETTO:-0400
TZNAME:EDT
DTSTART:20250309T070000
END:DAYLIGHT
BEGIN:STANDARD
TZOFFSETFROM:-0400
TZOFFSETTO:-0500
TZNAME:EST
DTSTART:20251102T060000
END:STANDARD
BEGIN:DAYLIGHT
TZOFFSETFROM:-0500
TZOFFSETTO:-0400
TZNAME:EDT
DTSTART:20260308T070000
END:DAYLIGHT
BEGIN:STANDARD
TZOFFSETFROM:-0400
TZOFFSETTO:-0500
TZNAME:EST
DTSTART:20261101T060000
END:STANDARD
BEGIN:DAYLIGHT
TZOFFSETFROM:-0500
TZOFFSETTO:-0400
TZNAME:EDT
DTSTART:20270314T070000
END:DAYLIGHT
BEGIN:STANDARD
TZOFFSETFROM:-0400
TZOFFSETTO:-0500
TZNAME:EST
DTSTART:20271107T060000
END:STANDARD
END:VTIMEZONE
BEGIN:VEVENT
DTSTART;TZID=America/New_York:20260502T080000
DTEND;TZID=America/New_York:20260502T120000
DTSTAMP:20260420T145051
CREATED:20251016T161322Z
LAST-MODIFIED:20251111T172837Z
UID:10012648-1777708800-1777723200@swfl.life
SUMMARY:Promenade Bonita Springs Farmer's Market
DESCRIPTION:A true “green” farmer’s market offering fresh fruits\, vegetables\, cut flowers\, plants\, baked goods\, seafood and much more. Open Saturdays\, October through May\, 8a.m. to 12 p.m. Located in the parking lot. \nFeaturing an Early Bird Bar from Deromo’s. \n(Our favorite SWFL farmer’s market!) \nhttps://www.buylocallee.com
URL:https://swfl.life/event/promenade-bonita-springs-farmers-market/2026-05-02/
LOCATION:The Promenade\, 26811 S Bay Dr\, Bonita Springs\, FL\, 34135\, United States
CATEGORIES:Farmer's Market
ATTACH;FMTTYPE=image/jpeg:https://swfl.life/wp-content/uploads/2025/10/278224455_505923111243995_7455387928740968657_n.jpg
END:VEVENT
BEGIN:VEVENT
DTSTART;TZID=America/New_York:20260502T080000
DTEND;TZID=America/New_York:20260502T120000
DTSTAMP:20260420T145051
CREATED:20251030T163817Z
LAST-MODIFIED:20251111T172609Z
UID:10012568-1777708800-1777723200@swfl.life
SUMMARY:Vanderbilt Farmer's Market
DESCRIPTION:N. Naples LARGEST Market at the Shoppes at Vanderbilt. Fresh fruits & vegetables\, seafood\, honey\, prepared foods\, wears\, specialty foods & so much more!\n\n\n\n*weather permitting!*
URL:https://swfl.life/event/vanderbily-farmers-market-2/2026-05-02/
LOCATION:Galleria Shoppes at Vanderbilt\, 2355 Vanderbilt Beach Rd\, Naples\, FL\, 34109
CATEGORIES:Farmer's Market
ATTACH;FMTTYPE=image/png:https://swfl.life/wp-content/uploads/2025/10/291797190_451019720363711_7341609563802329468_n.png
END:VEVENT
BEGIN:VEVENT
DTSTART;TZID=America/New_York:20260502T090000
DTEND;TZID=America/New_York:20260502T130000
DTSTAMP:20260420T145051
CREATED:20250604T194923Z
LAST-MODIFIED:20251111T173141Z
UID:10011389-1777712400-1777726800@swfl.life
SUMMARY:Miromar Outlets Weekly Pop-Up Market
DESCRIPTION:Open to the publicJust inside the Corkscrew Rd entranceCome shop local\, visit the vendors and food and the mall!
URL:https://swfl.life/event/miromar-outlets-weekly-pop-up-market/2026-05-02/
CATEGORIES:Farmer's Market
ATTACH;FMTTYPE=image/jpeg:https://swfl.life/wp-content/uploads/2025/06/503939393_681226111574923_8663735002786564963_n.jpg
END:VEVENT
BEGIN:VEVENT
DTSTART;TZID=America/New_York:20260503T090000
DTEND;TZID=America/New_York:20260503T130000
DTSTAMP:20260420T145051
CREATED:20251111T175942Z
LAST-MODIFIED:20251111T175959Z
UID:10012701-1777798800-1777813200@swfl.life
SUMMARY:Pine Ridge Road Farmers Market
DESCRIPTION:Join us at the Pine Ridge Road Farmers Market on Sundays for a wide variety of products and services offered by local artisans\, farmers\, bakers\, chefs\, artists\, and small businesses. You will find a large selection of fresh fruits and veggies\, plants\, orchids\, cut flowers\, gourmet foods\, breads\, healthy (and not-so-healthy but delicious) treats\, jams\, salsas\, guacamole\, honey\, truffles\, popcorn\, micro greens\, unique gift items\, clothing\, trendy accessories\, jewelry\, crystals\, incense\, arts & crafts\, soaps\, beauty products\, and much\, much more. Pets are welcome!
URL:https://swfl.life/event/pine-ridge-road-farmers-market/2026-05-03/
LOCATION:3370 Pine Ridge Road\, 3370 Pine Ridge Road\, NAples\, FL\, 34105
CATEGORIES:Farmer's Market
ATTACH;FMTTYPE=image/jpeg:https://swfl.life/wp-content/uploads/2025/11/480663687_3163787217109331_7549633420059779833_n.jpg
END:VEVENT
BEGIN:VEVENT
DTSTART;TZID=America/New_York:20260509T080000
DTEND;TZID=America/New_York:20260509T120000
DTSTAMP:20260420T145051
CREATED:20251016T161322Z
LAST-MODIFIED:20251111T172837Z
UID:10012649-1778313600-1778328000@swfl.life
SUMMARY:Promenade Bonita Springs Farmer's Market
DESCRIPTION:A true “green” farmer’s market offering fresh fruits\, vegetables\, cut flowers\, plants\, baked goods\, seafood and much more. Open Saturdays\, October through May\, 8a.m. to 12 p.m. Located in the parking lot. \nFeaturing an Early Bird Bar from Deromo’s. \n(Our favorite SWFL farmer’s market!) \nhttps://www.buylocallee.com
URL:https://swfl.life/event/promenade-bonita-springs-farmers-market/2026-05-09/
LOCATION:The Promenade\, 26811 S Bay Dr\, Bonita Springs\, FL\, 34135\, United States
CATEGORIES:Farmer's Market
ATTACH;FMTTYPE=image/jpeg:https://swfl.life/wp-content/uploads/2025/10/278224455_505923111243995_7455387928740968657_n.jpg
END:VEVENT
BEGIN:VEVENT
DTSTART;TZID=America/New_York:20260509T080000
DTEND;TZID=America/New_York:20260509T120000
DTSTAMP:20260420T145051
CREATED:20251030T163817Z
LAST-MODIFIED:20251111T172609Z
UID:10012569-1778313600-1778328000@swfl.life
SUMMARY:Vanderbilt Farmer's Market
DESCRIPTION:N. Naples LARGEST Market at the Shoppes at Vanderbilt. Fresh fruits & vegetables\, seafood\, honey\, prepared foods\, wears\, specialty foods & so much more!\n\n\n\n*weather permitting!*
URL:https://swfl.life/event/vanderbily-farmers-market-2/2026-05-09/
LOCATION:Galleria Shoppes at Vanderbilt\, 2355 Vanderbilt Beach Rd\, Naples\, FL\, 34109
CATEGORIES:Farmer's Market
ATTACH;FMTTYPE=image/png:https://swfl.life/wp-content/uploads/2025/10/291797190_451019720363711_7341609563802329468_n.png
END:VEVENT
BEGIN:VEVENT
DTSTART;TZID=America/New_York:20260509T090000
DTEND;TZID=America/New_York:20260509T130000
DTSTAMP:20260420T145051
CREATED:20250604T194923Z
LAST-MODIFIED:20251111T173141Z
UID:10011390-1778317200-1778331600@swfl.life
SUMMARY:Miromar Outlets Weekly Pop-Up Market
DESCRIPTION:Open to the publicJust inside the Corkscrew Rd entranceCome shop local\, visit the vendors and food and the mall!
URL:https://swfl.life/event/miromar-outlets-weekly-pop-up-market/2026-05-09/
CATEGORIES:Farmer's Market
ATTACH;FMTTYPE=image/jpeg:https://swfl.life/wp-content/uploads/2025/06/503939393_681226111574923_8663735002786564963_n.jpg
END:VEVENT
BEGIN:VEVENT
DTSTART;TZID=America/New_York:20260510T090000
DTEND;TZID=America/New_York:20260510T130000
DTSTAMP:20260420T145051
CREATED:20251111T175942Z
LAST-MODIFIED:20251111T175959Z
UID:10012702-1778403600-1778418000@swfl.life
SUMMARY:Pine Ridge Road Farmers Market
DESCRIPTION:Join us at the Pine Ridge Road Farmers Market on Sundays for a wide variety of products and services offered by local artisans\, farmers\, bakers\, chefs\, artists\, and small businesses. You will find a large selection of fresh fruits and veggies\, plants\, orchids\, cut flowers\, gourmet foods\, breads\, healthy (and not-so-healthy but delicious) treats\, jams\, salsas\, guacamole\, honey\, truffles\, popcorn\, micro greens\, unique gift items\, clothing\, trendy accessories\, jewelry\, crystals\, incense\, arts & crafts\, soaps\, beauty products\, and much\, much more. Pets are welcome!
URL:https://swfl.life/event/pine-ridge-road-farmers-market/2026-05-10/
LOCATION:3370 Pine Ridge Road\, 3370 Pine Ridge Road\, NAples\, FL\, 34105
CATEGORIES:Farmer's Market
ATTACH;FMTTYPE=image/jpeg:https://swfl.life/wp-content/uploads/2025/11/480663687_3163787217109331_7549633420059779833_n.jpg
END:VEVENT
BEGIN:VEVENT
DTSTART;TZID=America/New_York:20260516T080000
DTEND;TZID=America/New_York:20260516T120000
DTSTAMP:20260420T145051
CREATED:20251016T161322Z
LAST-MODIFIED:20251111T172837Z
UID:10012650-1778918400-1778932800@swfl.life
SUMMARY:Promenade Bonita Springs Farmer's Market
DESCRIPTION:A true “green” farmer’s market offering fresh fruits\, vegetables\, cut flowers\, plants\, baked goods\, seafood and much more. Open Saturdays\, October through May\, 8a.m. to 12 p.m. Located in the parking lot. \nFeaturing an Early Bird Bar from Deromo’s. \n(Our favorite SWFL farmer’s market!) \nhttps://www.buylocallee.com
URL:https://swfl.life/event/promenade-bonita-springs-farmers-market/2026-05-16/
LOCATION:The Promenade\, 26811 S Bay Dr\, Bonita Springs\, FL\, 34135\, United States
CATEGORIES:Farmer's Market
ATTACH;FMTTYPE=image/jpeg:https://swfl.life/wp-content/uploads/2025/10/278224455_505923111243995_7455387928740968657_n.jpg
END:VEVENT
BEGIN:VEVENT
DTSTART;TZID=America/New_York:20260516T080000
DTEND;TZID=America/New_York:20260516T120000
DTSTAMP:20260420T145051
CREATED:20251030T163817Z
LAST-MODIFIED:20251111T172609Z
UID:10012570-1778918400-1778932800@swfl.life
SUMMARY:Vanderbilt Farmer's Market
DESCRIPTION:N. Naples LARGEST Market at the Shoppes at Vanderbilt. Fresh fruits & vegetables\, seafood\, honey\, prepared foods\, wears\, specialty foods & so much more!\n\n\n\n*weather permitting!*
URL:https://swfl.life/event/vanderbily-farmers-market-2/2026-05-16/
LOCATION:Galleria Shoppes at Vanderbilt\, 2355 Vanderbilt Beach Rd\, Naples\, FL\, 34109
CATEGORIES:Farmer's Market
ATTACH;FMTTYPE=image/png:https://swfl.life/wp-content/uploads/2025/10/291797190_451019720363711_7341609563802329468_n.png
END:VEVENT
BEGIN:VEVENT
DTSTART;TZID=America/New_York:20260516T090000
DTEND;TZID=America/New_York:20260516T130000
DTSTAMP:20260420T145051
CREATED:20250604T194923Z
LAST-MODIFIED:20251111T173141Z
UID:10011391-1778922000-1778936400@swfl.life
SUMMARY:Miromar Outlets Weekly Pop-Up Market
DESCRIPTION:Open to the publicJust inside the Corkscrew Rd entranceCome shop local\, visit the vendors and food and the mall!
URL:https://swfl.life/event/miromar-outlets-weekly-pop-up-market/2026-05-16/
CATEGORIES:Farmer's Market
ATTACH;FMTTYPE=image/jpeg:https://swfl.life/wp-content/uploads/2025/06/503939393_681226111574923_8663735002786564963_n.jpg
END:VEVENT
BEGIN:VEVENT
DTSTART;TZID=America/New_York:20260517T090000
DTEND;TZID=America/New_York:20260517T130000
DTSTAMP:20260420T145051
CREATED:20251111T175942Z
LAST-MODIFIED:20251111T175959Z
UID:10012703-1779008400-1779022800@swfl.life
SUMMARY:Pine Ridge Road Farmers Market
DESCRIPTION:Join us at the Pine Ridge Road Farmers Market on Sundays for a wide variety of products and services offered by local artisans\, farmers\, bakers\, chefs\, artists\, and small businesses. You will find a large selection of fresh fruits and veggies\, plants\, orchids\, cut flowers\, gourmet foods\, breads\, healthy (and not-so-healthy but delicious) treats\, jams\, salsas\, guacamole\, honey\, truffles\, popcorn\, micro greens\, unique gift items\, clothing\, trendy accessories\, jewelry\, crystals\, incense\, arts & crafts\, soaps\, beauty products\, and much\, much more. Pets are welcome!
URL:https://swfl.life/event/pine-ridge-road-farmers-market/2026-05-17/
LOCATION:3370 Pine Ridge Road\, 3370 Pine Ridge Road\, NAples\, FL\, 34105
CATEGORIES:Farmer's Market
ATTACH;FMTTYPE=image/jpeg:https://swfl.life/wp-content/uploads/2025/11/480663687_3163787217109331_7549633420059779833_n.jpg
END:VEVENT
BEGIN:VEVENT
DTSTART;TZID=America/New_York:20260523T080000
DTEND;TZID=America/New_York:20260523T120000
DTSTAMP:20260420T145051
CREATED:20251016T161322Z
LAST-MODIFIED:20251111T172837Z
UID:10012651-1779523200-1779537600@swfl.life
SUMMARY:Promenade Bonita Springs Farmer's Market
DESCRIPTION:A true “green” farmer’s market offering fresh fruits\, vegetables\, cut flowers\, plants\, baked goods\, seafood and much more. Open Saturdays\, October through May\, 8a.m. to 12 p.m. Located in the parking lot. \nFeaturing an Early Bird Bar from Deromo’s. \n(Our favorite SWFL farmer’s market!) \nhttps://www.buylocallee.com
URL:https://swfl.life/event/promenade-bonita-springs-farmers-market/2026-05-23/
LOCATION:The Promenade\, 26811 S Bay Dr\, Bonita Springs\, FL\, 34135\, United States
CATEGORIES:Farmer's Market
ATTACH;FMTTYPE=image/jpeg:https://swfl.life/wp-content/uploads/2025/10/278224455_505923111243995_7455387928740968657_n.jpg
END:VEVENT
BEGIN:VEVENT
DTSTART;TZID=America/New_York:20260523T080000
DTEND;TZID=America/New_York:20260523T120000
DTSTAMP:20260420T145051
CREATED:20251030T163817Z
LAST-MODIFIED:20251111T172609Z
UID:10012571-1779523200-1779537600@swfl.life
SUMMARY:Vanderbilt Farmer's Market
DESCRIPTION:N. Naples LARGEST Market at the Shoppes at Vanderbilt. Fresh fruits & vegetables\, seafood\, honey\, prepared foods\, wears\, specialty foods & so much more!\n\n\n\n*weather permitting!*
URL:https://swfl.life/event/vanderbily-farmers-market-2/2026-05-23/
LOCATION:Galleria Shoppes at Vanderbilt\, 2355 Vanderbilt Beach Rd\, Naples\, FL\, 34109
CATEGORIES:Farmer's Market
ATTACH;FMTTYPE=image/png:https://swfl.life/wp-content/uploads/2025/10/291797190_451019720363711_7341609563802329468_n.png
END:VEVENT
BEGIN:VEVENT
DTSTART;TZID=America/New_York:20260523T090000
DTEND;TZID=America/New_York:20260523T130000
DTSTAMP:20260420T145051
CREATED:20250604T194923Z
LAST-MODIFIED:20251111T173141Z
UID:10011392-1779526800-1779541200@swfl.life
SUMMARY:Miromar Outlets Weekly Pop-Up Market
DESCRIPTION:Open to the publicJust inside the Corkscrew Rd entranceCome shop local\, visit the vendors and food and the mall!
URL:https://swfl.life/event/miromar-outlets-weekly-pop-up-market/2026-05-23/
CATEGORIES:Farmer's Market
ATTACH;FMTTYPE=image/jpeg:https://swfl.life/wp-content/uploads/2025/06/503939393_681226111574923_8663735002786564963_n.jpg
END:VEVENT
BEGIN:VEVENT
DTSTART;TZID=America/New_York:20260524T090000
DTEND;TZID=America/New_York:20260524T130000
DTSTAMP:20260420T145051
CREATED:20251111T175942Z
LAST-MODIFIED:20251111T175959Z
UID:10012704-1779613200-1779627600@swfl.life
SUMMARY:Pine Ridge Road Farmers Market
DESCRIPTION:Join us at the Pine Ridge Road Farmers Market on Sundays for a wide variety of products and services offered by local artisans\, farmers\, bakers\, chefs\, artists\, and small businesses. You will find a large selection of fresh fruits and veggies\, plants\, orchids\, cut flowers\, gourmet foods\, breads\, healthy (and not-so-healthy but delicious) treats\, jams\, salsas\, guacamole\, honey\, truffles\, popcorn\, micro greens\, unique gift items\, clothing\, trendy accessories\, jewelry\, crystals\, incense\, arts & crafts\, soaps\, beauty products\, and much\, much more. Pets are welcome!
URL:https://swfl.life/event/pine-ridge-road-farmers-market/2026-05-24/
LOCATION:3370 Pine Ridge Road\, 3370 Pine Ridge Road\, NAples\, FL\, 34105
CATEGORIES:Farmer's Market
ATTACH;FMTTYPE=image/jpeg:https://swfl.life/wp-content/uploads/2025/11/480663687_3163787217109331_7549633420059779833_n.jpg
END:VEVENT
BEGIN:VEVENT
DTSTART;TZID=America/New_York:20260530T080000
DTEND;TZID=America/New_York:20260530T120000
DTSTAMP:20260420T145051
CREATED:20251016T161322Z
LAST-MODIFIED:20251111T172837Z
UID:10012652-1780128000-1780142400@swfl.life
SUMMARY:Promenade Bonita Springs Farmer's Market
DESCRIPTION:A true “green” farmer’s market offering fresh fruits\, vegetables\, cut flowers\, plants\, baked goods\, seafood and much more. Open Saturdays\, October through May\, 8a.m. to 12 p.m. Located in the parking lot. \nFeaturing an Early Bird Bar from Deromo’s. \n(Our favorite SWFL farmer’s market!) \nhttps://www.buylocallee.com
URL:https://swfl.life/event/promenade-bonita-springs-farmers-market/2026-05-30/
LOCATION:The Promenade\, 26811 S Bay Dr\, Bonita Springs\, FL\, 34135\, United States
CATEGORIES:Farmer's Market
ATTACH;FMTTYPE=image/jpeg:https://swfl.life/wp-content/uploads/2025/10/278224455_505923111243995_7455387928740968657_n.jpg
END:VEVENT
BEGIN:VEVENT
DTSTART;TZID=America/New_York:20260530T080000
DTEND;TZID=America/New_York:20260530T120000
DTSTAMP:20260420T145051
CREATED:20251030T163817Z
LAST-MODIFIED:20251111T172609Z
UID:10012572-1780128000-1780142400@swfl.life
SUMMARY:Vanderbilt Farmer's Market
DESCRIPTION:N. Naples LARGEST Market at the Shoppes at Vanderbilt. Fresh fruits & vegetables\, seafood\, honey\, prepared foods\, wears\, specialty foods & so much more!\n\n\n\n*weather permitting!*
URL:https://swfl.life/event/vanderbily-farmers-market-2/2026-05-30/
LOCATION:Galleria Shoppes at Vanderbilt\, 2355 Vanderbilt Beach Rd\, Naples\, FL\, 34109
CATEGORIES:Farmer's Market
ATTACH;FMTTYPE=image/png:https://swfl.life/wp-content/uploads/2025/10/291797190_451019720363711_7341609563802329468_n.png
END:VEVENT
BEGIN:VEVENT
DTSTART;TZID=America/New_York:20260530T090000
DTEND;TZID=America/New_York:20260530T130000
DTSTAMP:20260420T145051
CREATED:20250604T194923Z
LAST-MODIFIED:20251111T173141Z
UID:10011393-1780131600-1780146000@swfl.life
SUMMARY:Miromar Outlets Weekly Pop-Up Market
DESCRIPTION:Open to the publicJust inside the Corkscrew Rd entranceCome shop local\, visit the vendors and food and the mall!
URL:https://swfl.life/event/miromar-outlets-weekly-pop-up-market/2026-05-30/
CATEGORIES:Farmer's Market
ATTACH;FMTTYPE=image/jpeg:https://swfl.life/wp-content/uploads/2025/06/503939393_681226111574923_8663735002786564963_n.jpg
END:VEVENT
BEGIN:VEVENT
DTSTART;TZID=America/New_York:20260531T090000
DTEND;TZID=America/New_York:20260531T130000
DTSTAMP:20260420T145051
CREATED:20251111T175942Z
LAST-MODIFIED:20251111T175959Z
UID:10012705-1780218000-1780232400@swfl.life
SUMMARY:Pine Ridge Road Farmers Market
DESCRIPTION:Join us at the Pine Ridge Road Farmers Market on Sundays for a wide variety of products and services offered by local artisans\, farmers\, bakers\, chefs\, artists\, and small businesses. You will find a large selection of fresh fruits and veggies\, plants\, orchids\, cut flowers\, gourmet foods\, breads\, healthy (and not-so-healthy but delicious) treats\, jams\, salsas\, guacamole\, honey\, truffles\, popcorn\, micro greens\, unique gift items\, clothing\, trendy accessories\, jewelry\, crystals\, incense\, arts & crafts\, soaps\, beauty products\, and much\, much more. Pets are welcome!
URL:https://swfl.life/event/pine-ridge-road-farmers-market/2026-05-31/
LOCATION:3370 Pine Ridge Road\, 3370 Pine Ridge Road\, NAples\, FL\, 34105
CATEGORIES:Farmer's Market
ATTACH;FMTTYPE=image/jpeg:https://swfl.life/wp-content/uploads/2025/11/480663687_3163787217109331_7549633420059779833_n.jpg
END:VEVENT
END:VCALENDAR