BEGIN:VCALENDAR
VERSION:2.0
PRODID:-//SWFL Life - ECPv6.15.20//NONSGML v1.0//EN
CALSCALE:GREGORIAN
METHOD:PUBLISH
X-WR-CALNAME:SWFL Life
X-ORIGINAL-URL:https://swfl.life
X-WR-CALDESC:Events for SWFL Life
REFRESH-INTERVAL;VALUE=DURATION:PT1H
X-Robots-Tag:noindex
X-PUBLISHED-TTL:PT1H
BEGIN:VTIMEZONE
TZID:America/New_York
BEGIN:DAYLIGHT
TZOFFSETFROM:-0500
TZOFFSETTO:-0400
TZNAME:EDT
DTSTART:20250309T070000
END:DAYLIGHT
BEGIN:STANDARD
TZOFFSETFROM:-0400
TZOFFSETTO:-0500
TZNAME:EST
DTSTART:20251102T060000
END:STANDARD
BEGIN:DAYLIGHT
TZOFFSETFROM:-0500
TZOFFSETTO:-0400
TZNAME:EDT
DTSTART:20260308T070000
END:DAYLIGHT
BEGIN:STANDARD
TZOFFSETFROM:-0400
TZOFFSETTO:-0500
TZNAME:EST
DTSTART:20261101T060000
END:STANDARD
BEGIN:DAYLIGHT
TZOFFSETFROM:-0500
TZOFFSETTO:-0400
TZNAME:EDT
DTSTART:20270314T070000
END:DAYLIGHT
BEGIN:STANDARD
TZOFFSETFROM:-0400
TZOFFSETTO:-0500
TZNAME:EST
DTSTART:20271107T060000
END:STANDARD
END:VTIMEZONE
BEGIN:VEVENT
DTSTART;TZID=America/New_York:20260423T090000
DTEND;TZID=America/New_York:20260426T190000
DTSTAMP:20260424T062629
CREATED:20260423T152701Z
LAST-MODIFIED:20260423T152701Z
UID:10014222-1776934800-1777230000@swfl.life
SUMMARY:RV Show USA Comes to Paradise Coast Sports Complex
DESCRIPTION:RV Show USA is coming to Paradise Coast Sports Complex April 23-26.\nPrices are slashed on a huge selection of new and preowned adventure vehicles\, towables and motorhomes!\nShop top name brands side-by-side\, all show priced for immediate sale.\nWhether you’re upgrading\, trading in\, or buying your first RV\, this is your chance to find the perfect fit and hit the road in style.\nFREE Parking and Admission!\nTrade-in’s welcomed. Financing available. Bring the whole family!\nSave on top name brands like:\nTiffin\, Entegra\, Fleetwood\, Grech RV\, Grand Design\, Heartland\, Midwest Automotive Designs\, Storyteller Overland\, Thor Motor Coach\, Winnebago and more!\nLocation:\nParadise Coast Sports Complex3865 City Gate Blvd. SouthNaples\, FL 341117\nI-75 @ Collier Blvd.\nShow Dates & Hours:\nThursday to SundayApril 23-26\, 2026Daily: 9am to 7pm
URL:https://swfl.life/event/rv-show-usa-comes-to-paradise-coast-sports-complex/
LOCATION:Paradise Coast Sports Complex\, 3940 City Gate Blvd S\, Naples\, FL\, 34117
ATTACH;FMTTYPE=image/jpeg:https://swfl.life/wp-content/uploads/2026/04/672681363_943740531752997_7352039546076512330_n.jpg
END:VEVENT
BEGIN:VEVENT
DTSTART;TZID=America/New_York:20260424T090000
DTEND;TZID=America/New_York:20260424T130000
DTSTAMP:20260424T062629
CREATED:20251111T182727Z
LAST-MODIFIED:20251111T182727Z
UID:10012798-1777021200-1777035600@swfl.life
SUMMARY:Fort Myers Beach Farmer's Market
DESCRIPTION:Fridays 9am-1pm\, Oct.-Apr. Located at Times Square. Coastal Art\, Boutique foods\, Jewelry\, Beach gear and more.
URL:https://swfl.life/event/fort-myers-beach-farmers-market/2026-04-24/
LOCATION:Times Square\, Fort Myers Beach\, 50 Old San Carlos Blvd\, Fort Myers Beach
CATEGORIES:Farmer's Market
ATTACH;FMTTYPE=image/jpeg:https://swfl.life/wp-content/uploads/2025/11/e81a0e_5f855745e67c485e8a1483b03f629ca6mv2-scaled.jpg
END:VEVENT
BEGIN:VEVENT
DTSTART;TZID=America/New_York:20260424T180000
DTEND;TZID=America/New_York:20260424T200000
DTSTAMP:20260424T062629
CREATED:20260403T112548Z
LAST-MODIFIED:20260403T112548Z
UID:10014149-1777053600-1777060800@swfl.life
SUMMARY:Free Friday Night Concert Series at Miromar Outlets
DESCRIPTION:Enjoy live music under the stars at the FREE Friday Night Concert Series this April at Miromar Outlets! Join us every Friday evening for high-energy performances from talented local and regional bands\, featuring a variety of genres including jazz\, Motown\, classic rock\, blues\, funk\, and more. Concerts take place in a lively outdoor setting—perfect for friends\, families\, and music lovers looking for fun things to do on a Friday night in Estero.\nAll concerts are 6:00 – 8:00 p.m. and held at the outdoor stage located between Michael Kors and Polo Ralph Lauren.Don’t forget your lawn chairs!\nFriday\, April 3SilverbackA rocking\, high-energy 6-piece band delivering familiar\, upbeat favorites and nonstop fun.\nFriday\, April 10The DelpradosThe ultimate tribute to new wave and alternative hits from the 1970s\, 1980s\, and 1990s.\nFriday\, April 17Grand SlamPurveyors of fine funk\, soul\, blues\, and rock with a sound that keeps the crowd moving.\nFriday\, April 24Rock CityDance to classic tunes from the 1960s through the 1980s\, plus other crowd-favorite hits.
URL:https://swfl.life/event/free-friday-night-concert-series-at-miromar-outlets/2026-04-24/
LOCATION:Miromar Outlets\, 10801 Corkscrew Rd\, Estero\, 33928
ATTACH;FMTTYPE=image/jpeg:https://swfl.life/wp-content/uploads/2026/04/506238196_10161444588701451_7500228735511405823_n.jpg
END:VEVENT
BEGIN:VEVENT
DTSTART;TZID=America/New_York:20260424T183000
DTEND;TZID=America/New_York:20260426T193000
DTSTAMP:20260424T062629
CREATED:20260423T171236Z
LAST-MODIFIED:20260423T171236Z
UID:10014224-1777055400-1777231800@swfl.life
SUMMARY:Comedian Matt Iseman Live in Naples\, Florida!
DESCRIPTION:Emmy Award–winning host\, comedian\, and self-proclaimed “professional talker\,” Matt Iseman has made a career out of making people laugh while somehow sneaking in a little inspiration along the way. Best known as the energetic host of American Ninja Warrior and a fan favorite winner of The New Celebrity Apprentice with Arnold Schwarzenegger\, Matt brings the same charm\, quick wit\, and larger-than-life personality to the stand-up stage that have made him a household name.Before comedy\, Matt graduated from Princeton University and earned his M.D. from Columbia University—only to realize that telling jokes was a lot more fun than writing prescriptions. Trading the hospital for Hollywood\, he’s since appeared on shows ranging from Clean House to The Today Show\, The Kelly Clarkson Show\, and quite possibly the most memorable turn with his win on Lip Sync Battle\, proving his comedic versatility across TV and live audiences alike.Known for his clean\, relatable humor and infectious positivity\, Matt draws from his unique journey—from doctor to entertainer\, cancer survivor to TV personality—to deliver a show that’s as uplifting as it is hilarious. Whether he’s sharing behind-the-scenes tales from the Ninja Warrior course or poking fun at his own life choices\, Matt’s comedy is a reminder that laughter really is the best medicine… even when prescribed by a guy who quit being a doctor.
URL:https://swfl.life/event/comedian-matt-iseman-live-in-naples-florida/
LOCATION:Off The Hook Comedy Club\, 2500 Vanderbilt Beach Road #1100\, Naples\, FL
ATTACH;FMTTYPE=image/jpeg:https://swfl.life/wp-content/uploads/2026/04/535217815_1089055796691452_7193969041319196908_n.jpg
END:VEVENT
BEGIN:VEVENT
DTSTART;TZID=America/New_York:20260424T193000
DTEND;TZID=America/New_York:20260424T213000
DTSTAMP:20260424T062629
CREATED:20260423T151802Z
LAST-MODIFIED:20260423T151825Z
UID:10014218-1777059000-1777066200@swfl.life
SUMMARY:Florida Everblades Kelly Cup Playoff! Round 1 Game 1
DESCRIPTION:Sale Dates and Times:\nPublic Onsale : Mon\, 13 Apr 2026 at 10:00 AM
URL:https://swfl.life/event/florida-everblades-kelly-cup-playoff-round-1-game-1/
LOCATION:Hertz Arena\, 11000 Everblades Pkwy\, Estero\, FL\, United States
ATTACH;FMTTYPE=image/jpeg:https://swfl.life/wp-content/uploads/2026/04/671871887_1421700646665155_4182213300030232203_n.jpeg
END:VEVENT
END:VCALENDAR