BEGIN:VCALENDAR
VERSION:2.0
PRODID:-//SWFL Life - ECPv6.15.20//NONSGML v1.0//EN
CALSCALE:GREGORIAN
METHOD:PUBLISH
X-WR-CALNAME:SWFL Life
X-ORIGINAL-URL:https://swfl.life
X-WR-CALDESC:Events for SWFL Life
REFRESH-INTERVAL;VALUE=DURATION:PT1H
X-Robots-Tag:noindex
X-PUBLISHED-TTL:PT1H
BEGIN:VTIMEZONE
TZID:America/New_York
BEGIN:DAYLIGHT
TZOFFSETFROM:-0500
TZOFFSETTO:-0400
TZNAME:EDT
DTSTART:20250309T070000
END:DAYLIGHT
BEGIN:STANDARD
TZOFFSETFROM:-0400
TZOFFSETTO:-0500
TZNAME:EST
DTSTART:20251102T060000
END:STANDARD
BEGIN:DAYLIGHT
TZOFFSETFROM:-0500
TZOFFSETTO:-0400
TZNAME:EDT
DTSTART:20260308T070000
END:DAYLIGHT
BEGIN:STANDARD
TZOFFSETFROM:-0400
TZOFFSETTO:-0500
TZNAME:EST
DTSTART:20261101T060000
END:STANDARD
BEGIN:DAYLIGHT
TZOFFSETFROM:-0500
TZOFFSETTO:-0400
TZNAME:EDT
DTSTART:20270314T070000
END:DAYLIGHT
BEGIN:STANDARD
TZOFFSETFROM:-0400
TZOFFSETTO:-0500
TZNAME:EST
DTSTART:20271107T060000
END:STANDARD
END:VTIMEZONE
BEGIN:VEVENT
DTSTART;TZID=America/New_York:20260417T183000
DTEND;TZID=America/New_York:20260419T193000
DTSTAMP:20260420T072613
CREATED:20260417T105558Z
LAST-MODIFIED:20260417T105558Z
UID:10014199-1776450600-1776627000@swfl.life
SUMMARY:Comedian Ben Bankas Live in Naples\, Florida!
DESCRIPTION:Originally from Toronto\, Canada Ben Bankas now lives in Austin\, TX where he performs as aregular at the Comedy Mothership. Ben created a following of loyal fans from across the worldwhile selling out shows in Canada before doing the same in the USA. Ben has performed withthe likes of Tony Hinchcliffe\, Andrew Schulz. Ben’s Podcast “Bankas Podcast has featurednumerous comedians seen on Kill Tony. Ben has headlined notable venues such as DanforthMusic Hall in Toronto\, Canada\, The Hollywood Improv in Hollywood\, California and New JerseyPerforming Arts Center in Newark\, New Jersey.
URL:https://swfl.life/event/comedian-ben-bankas-live-in-naples-florida/
LOCATION:Off The Hook Comedy Club\, 2500 Vanderbilt Beach Road #1100\, Naples\, FL
ATTACH;FMTTYPE=image/jpeg:https://swfl.life/wp-content/uploads/2026/04/573394162_1149125824017782_5699903935252344347_n.jpg
END:VEVENT
BEGIN:VEVENT
DTSTART;VALUE=DATE:20260418
DTEND;VALUE=DATE:20260420
DTSTAMP:20260420T072613
CREATED:20260417T115931Z
LAST-MODIFIED:20260417T115931Z
UID:10014204-1776470400-1776643199@swfl.life
SUMMARY:Fort Myers Gun Show
DESCRIPTION:https://www.floridagunshows.com/florida-gun-show-schedule/
URL:https://swfl.life/event/fort-myers-gun-show/
LOCATION:Lee Civic Center\, 11831 Bayshore Road\, Fort Myers\, FL\, 33917
ATTACH;FMTTYPE=image/jpeg:https://swfl.life/wp-content/uploads/2026/04/images.jpeg
END:VEVENT
BEGIN:VEVENT
DTSTART;TZID=America/New_York:20260418T060000
DTEND;TZID=America/New_York:20260418T110000
DTSTAMP:20260420T072613
CREATED:20260417T104943Z
LAST-MODIFIED:20260417T104943Z
UID:10014197-1776492000-1776510000@swfl.life
SUMMARY:13th Annual Naples Paradise Coast Half Marathon & 5K
DESCRIPTION:​Sign up for the 13th Annual Paradise Coast Half Marathon & 5k run in Naples\, Florida at North Collier Regional Park and join a fun\, welcoming community of runners\, while experiencing all the best that Naples has to offer.\nNot only will you get to test your fitness on the scenic and challenging course that winds through the beautiful North Collier Regional Park\, but you’ll also have the opportunity to explore all the city has to offer! Naples\, known as the “crown jewel” of Southwest Florida\, is a paradise of white sandy beaches\, crystal-clear waters\, and a charming downtown filled with delicious restaurants\, shopping\, and entertainment. And with the event held in the North Collier Regional Park you will be able to see some wildlife and nature. After crossing the finish line\, treat yourself to a well-deserved meal at one of the many seafood restaurants\, or explore the city’s art scene by visiting one of the many galleries.\nTake a stroll on the beach\, and enjoy the tranquil Gulf waters or head over to the Naples Pier for a sunset. This event isn’t just about pushing yourself to run your best\, it’s also about treating yourself to a fun-filled weekend in one of the most beautiful places in the country. So sign up today and get ready for an unforgettable experience in Naples\, Florida!
URL:https://swfl.life/event/13th-annual-naples-paradise-coast-half-marathon-5k/
LOCATION:FL
ATTACH;FMTTYPE=image/jpeg:https://swfl.life/wp-content/uploads/2026/04/503737350_1104883321675088_5634350077169475188_n.jpg
END:VEVENT
BEGIN:VEVENT
DTSTART;TZID=America/New_York:20260418T073000
DTEND;TZID=America/New_York:20260418T233000
DTSTAMP:20260420T072613
CREATED:20251111T175058Z
LAST-MODIFIED:20251111T175139Z
UID:10012675-1776497400-1776555000@swfl.life
SUMMARY:Third Street South Farmer’s Market
DESCRIPTION:From mid-November through April the Third Street South Farmer’s Market resides directly on Third Street South between Broad Avenue South & 13th Avenue South. From May to November\, find the Market in the Neapolitan parking lot between Third Street South and Gordon Drive.\nYear-round\, the Third Street Farmer’s Market is open every Saturday morning from 7:30 until 11:30 a.m. The Market overflows with fresh produce\, flowers\, pastas\, seafood\, pastries & baked goods\, prepared foods\, jams\, relishes\, fresh roasted coffee and much more. Music\, coffee\, dog treats\, and many other delights make the Third Street South Farmer’s Market perfect for grown-ups\, children\, dogs\, and every other member of the family.
URL:https://swfl.life/event/third-street-south-farmers-market/2026-04-18/
LOCATION:FL
CATEGORIES:Farmer's Market
ATTACH;FMTTYPE=image/jpeg:https://swfl.life/wp-content/uploads/2025/11/thirdstreetsouthfarmersmarket3-1200x750-1.jpg
END:VEVENT
BEGIN:VEVENT
DTSTART;TZID=America/New_York:20260418T080000
DTEND;TZID=America/New_York:20260418T120000
DTSTAMP:20260420T072613
CREATED:20251016T161322Z
LAST-MODIFIED:20251111T172837Z
UID:10012458-1776499200-1776513600@swfl.life
SUMMARY:Promenade Bonita Springs Farmer's Market
DESCRIPTION:A true “green” farmer’s market offering fresh fruits\, vegetables\, cut flowers\, plants\, baked goods\, seafood and much more. Open Saturdays\, October through May\, 8a.m. to 12 p.m. Located in the parking lot. \nFeaturing an Early Bird Bar from Deromo’s. \n(Our favorite SWFL farmer’s market!) \nhttps://www.buylocallee.com
URL:https://swfl.life/event/promenade-bonita-springs-farmers-market/2026-04-18/
LOCATION:The Promenade\, 26811 S Bay Dr\, Bonita Springs\, FL\, 34135\, United States
CATEGORIES:Farmer's Market
ATTACH;FMTTYPE=image/jpeg:https://swfl.life/wp-content/uploads/2025/10/278224455_505923111243995_7455387928740968657_n.jpg
END:VEVENT
BEGIN:VEVENT
DTSTART;TZID=America/New_York:20260418T080000
DTEND;TZID=America/New_York:20260418T120000
DTSTAMP:20260420T072613
CREATED:20251030T163817Z
LAST-MODIFIED:20251111T172609Z
UID:10012566-1776499200-1776513600@swfl.life
SUMMARY:Vanderbilt Farmer's Market
DESCRIPTION:N. Naples LARGEST Market at the Shoppes at Vanderbilt. Fresh fruits & vegetables\, seafood\, honey\, prepared foods\, wears\, specialty foods & so much more!\n\n\n\n*weather permitting!*
URL:https://swfl.life/event/vanderbily-farmers-market-2/2026-04-18/
LOCATION:Galleria Shoppes at Vanderbilt\, 2355 Vanderbilt Beach Rd\, Naples\, FL\, 34109
CATEGORIES:Farmer's Market
ATTACH;FMTTYPE=image/png:https://swfl.life/wp-content/uploads/2025/10/291797190_451019720363711_7341609563802329468_n.png
END:VEVENT
BEGIN:VEVENT
DTSTART;TZID=America/New_York:20260418T090000
DTEND;TZID=America/New_York:20260418T130000
DTSTAMP:20260420T072613
CREATED:20250604T194923Z
LAST-MODIFIED:20251111T173141Z
UID:10011387-1776502800-1776517200@swfl.life
SUMMARY:Miromar Outlets Weekly Pop-Up Market
DESCRIPTION:Open to the publicJust inside the Corkscrew Rd entranceCome shop local\, visit the vendors and food and the mall!
URL:https://swfl.life/event/miromar-outlets-weekly-pop-up-market/2026-04-18/
LOCATION:FL
CATEGORIES:Farmer's Market
ATTACH;FMTTYPE=image/jpeg:https://swfl.life/wp-content/uploads/2025/06/503939393_681226111574923_8663735002786564963_n.jpg
END:VEVENT
BEGIN:VEVENT
DTSTART;TZID=America/New_York:20260418T090000
DTEND;TZID=America/New_York:20260418T130000
DTSTAMP:20260420T072613
CREATED:20250711T112211Z
LAST-MODIFIED:20250711T112211Z
UID:10011557-1776502800-1776517200@swfl.life
SUMMARY:Saturday Sampling at The Roastery
DESCRIPTION:Visit the Grumpy Goat Coffee roastery every Saturday\, 9 am – 1 pm to sample coffee from around the world.\nAlways 25+ origins in stock and we rotate what’s on sample weekly. Always fresh cold brew on sample as well.\nAlthough we are not a coffee shop you can enjoy our coffee and cold brew at local venues like Downtown Coffee & Wine\, Noble Brews\, Pansardo\, Chartreuse Craft Cocktail Lounge\, The Bohemian\, Carole’s House\, Alchemist Kava\, The Bean Cafe and others.\nGrumpy Goat Coffee roastery is Bonita Springs’ first and only coffee roastery since 2016.
URL:https://swfl.life/event/saturday-sampling-at-the-roastery/2026-04-18/
LOCATION:Grumpy Goat Coffee\, 28280 Old 41 Rd #M-11\, Bonita Springs\, FL
ATTACH;FMTTYPE=image/jpeg:https://swfl.life/wp-content/uploads/2025/07/514069811_1383912510402021_6371867896491490659_n.jpg
END:VEVENT
BEGIN:VEVENT
DTSTART;TZID=America/New_York:20260418T100000
DTEND;TZID=America/New_York:20260418T130000
DTSTAMP:20260420T072613
CREATED:20260417T104559Z
LAST-MODIFIED:20260417T104559Z
UID:10014195-1776506400-1776517200@swfl.life
SUMMARY:Early Earth Day Celebration
DESCRIPTION:Join us on Saturday\, April 18 from 10AM – 1PM for our annual Earth Day Celebration!\nThe Wonder Gardens will be open to the public with an array of local vendors & small businesses available in a farmers market fashion along with various family fun activities\, & special animal meet & greets!\nThis event is FREE with paid admission. Special activities may be subject to an additional charge.\nWe can’t wait to see you there!
URL:https://swfl.life/event/early-earth-day-celebration/
LOCATION:Everglades Wonder Gardens\, 27180 Old 41 Rd\, Bonita Springs\, FL\, 34135
ATTACH;FMTTYPE=image/jpeg:https://swfl.life/wp-content/uploads/2026/04/652533905_1362787262559910_6832043397983835690_n.jpg
END:VEVENT
BEGIN:VEVENT
DTSTART;TZID=America/New_York:20260418T100000
DTEND;TZID=America/New_York:20260418T150000
DTSTAMP:20260420T072613
CREATED:20260417T103855Z
LAST-MODIFIED:20260417T103855Z
UID:10014192-1776506400-1776524400@swfl.life
SUMMARY:Earth Day Festival
DESCRIPTION:Voted Best Local Event in Naples FREE Earth Day Festival \nSaturday\, April 18 | 10 AM – 3 PM\n 1495 Smith Preserve Way\, Naples\, FLFREE + Family-Friendly\nCelebrate Earth Day with a full day of wildlife\, science\, and outdoor fun for all ages.\n Don’t miss the big moment:11:00 AM – Groundbreaking of the John & Carol Walter Nature Experience\n• Animal encounters & live presentations• Super Science Show with Glen Beitman• Live music by Moonstone Riders• Electric boat rides• Food trucks & local vendors• Kid Zone with games\, crafts & face painting• Nature walks & interactive exhibits\n Schedule• 10:30 AM – Animals in Need Puppet Show• 11:00 AM – Groundbreaking Ceremony• 11:45 AM – Super Science Show• 12:30 PM – Adventures through the Everglades• 1:00 PM – Story Time• 2:00 PM – Live Music + Climate Program• 2:30 PM – Animal Enrichment Talk\n ParkingAvailable at Naples Zoo and Lake Park Elementary (shuttle provided).\n Know Before You Go• No smoking or vaping• No pets (service animals permitted with limited access)• No alcohol• Dress for warm weather and stay hydrated\nJoin us for a day of discovery\, wildlife\, and community—and be part of a milestone moment for conservation in Southwest Florida.\nFirst 300 people to the festival will receive a free John & Carol Walter Nature Experience gift!\nThank you to our media sponsor\, Naples Daily News.
URL:https://swfl.life/event/earth-day-festival/
LOCATION:Conservancy of Southwest Florida\, 1495 Smith Preserve Way\, Naples\, FL
ATTACH;FMTTYPE=image/jpeg:https://swfl.life/wp-content/uploads/2026/04/625290857_1348952007276960_6184690324666810217_n.jpg
END:VEVENT
BEGIN:VEVENT
DTSTART;TZID=America/New_York:20260418T100000
DTEND;TZID=America/New_York:20260418T160000
DTSTAMP:20260420T072613
CREATED:20260417T105407Z
LAST-MODIFIED:20260417T110050Z
UID:10014201-1776506400-1776528000@swfl.life
SUMMARY:Bonita Springs Art Walk at Promenade at Bonita Bay
DESCRIPTION:Bonita Springs Art Walk at Promenade at Bonita BaySaturday\, April 18 from 10 a.m. to 5 p.m. and Sunday\, April 19 from 10 a.m. to 4 p.m.\nImmerse yourself in the area’s finest art in a unique outdoor Art Walk! Visitors to the event will stroll the pathways and sidewalks of the Promenade at Bonita Bay. Artists and their work will line the walkways displaying a variety of artworks in a wide-open creative layout designed for your comfort and safety. All displays will be in the shade for your comfort.
URL:https://swfl.life/event/bonita-springs-art-walk-at-promenade-at-bonita-bay/2026-04-18/
LOCATION:The Promenade\, 26811 S Bay Dr\, Bonita Springs\, FL\, 34135\, United States
ATTACH;FMTTYPE=image/jpeg:https://swfl.life/wp-content/uploads/2026/04/667818979_2015181439320790_3449201436901067793_n.jpg
END:VEVENT
BEGIN:VEVENT
DTSTART;TZID=America/New_York:20260418T110000
DTEND;TZID=America/New_York:20260418T220000
DTSTAMP:20260420T072613
CREATED:20260417T112058Z
LAST-MODIFIED:20260417T112058Z
UID:10014202-1776510000-1776549600@swfl.life
SUMMARY:Indie Fest
DESCRIPTION:We’re bringing the desert to the beach…\nIntroducing Indie Fest!\n\nOur very own two-day festival right here in Downtown Bonita Springs.\nLive music all day\, festival fits\, cold drinks and nonstop good vibes.\nAnd yes\, we want to see the fits!\n\nCome dressed like you’re heading to the desert- festival style encouraged.\nWhether you’re posted up for the music\, dancing with your friends or just soaking it all in\, Indie Fest is all about celebrating music\, style and community.\nMark your calendars for April 18th & 19th!
URL:https://swfl.life/event/indie-fest/2026-04-18/
LOCATION:Sugarshack Downtown\, 27421 Old 41 Rd\, Bonita Springs\, FL\, 34135\, United States
ATTACH;FMTTYPE=image/jpeg:https://swfl.life/wp-content/uploads/2026/04/670938066_18043266830773788_5366900899228375978_n.jpg
END:VEVENT
BEGIN:VEVENT
DTSTART;TZID=America/New_York:20260418T130000
DTEND;TZID=America/New_York:20260418T170000
DTSTAMP:20260420T072613
CREATED:20260417T135427Z
LAST-MODIFIED:20260417T135427Z
UID:10014205-1776517200-1776531600@swfl.life
SUMMARY:Bloom
DESCRIPTION:Whether you are trying to conceive\, carrying life\, healing postpartum\, or raising little ones- you deserve to feel supported.\nJoint us for an afternoon of connection; education\, and beautifully curated wellness products designed specifically for women in their motherhood years.\nBloom is an intentional gathering created for women.\nLearn from mini talks and demonstrations from women who specialize in treating womenMeet local professionals in the birthing and women’s health spaceLearn tools to support your body naturallyDiscover products and resources that nurture youConnect with like-minded women who believe in holistic care\nThis is your village – in one room\nHosted by Abbie\, a licensed massage therapist specializing in women’s bodywork\, and Beatrice\, an herbalist and teacher with a passion for women’s health.\n Bloom Health • Wisdom • Community\nCome as you are.\nLeave feeling supported. Informed. Connected.\nTickets at Rowanwellnesscenter.com\nhttps://checkout.square.site/…/BQO3RCQAQOT45MPCS2WJYFHH…
URL:https://swfl.life/event/bloom/
LOCATION:FL
ATTACH;FMTTYPE=image/jpeg:https://swfl.life/wp-content/uploads/2026/04/657050599_922569483872410_1775949131332946933_n.jpg
END:VEVENT
BEGIN:VEVENT
DTSTART;TZID=America/New_York:20260418T130000
DTEND;TZID=America/New_York:20260418T210000
DTSTAMP:20260420T072613
CREATED:20221118T160707Z
LAST-MODIFIED:20221118T160707Z
UID:10008363-1776517200-1776546000@swfl.life
SUMMARY:Truck Yeah! (Food Truck Rally)
DESCRIPTION:Every month- every 3rd Saturday!\nIt will be Truckin awesome!\n\nBring the whole family and join us for tasty food and brews!
URL:https://swfl.life/event/truck-yeah-food-truck-rally/2026-04-18/
LOCATION:Riptide Brewing Company – Bonita Springs\, 28120 Hunters Ridge Blvd #1\, Bonita Springs\, FL\, United States
CATEGORIES:Drinks,Food
ATTACH;FMTTYPE=image/png:https://swfl.life/wp-content/uploads/2022/11/Screen-Shot-2022-11-18-at-11.05.42-AM.png
END:VEVENT
BEGIN:VEVENT
DTSTART;TZID=America/New_York:20260418T150000
DTEND;TZID=America/New_York:20260418T220000
DTSTAMP:20260420T072613
CREATED:20260417T104821Z
LAST-MODIFIED:20260417T104821Z
UID:10014196-1776524400-1776549600@swfl.life
SUMMARY:Country Jam Naples 2026
DESCRIPTION:Country Jam Naples™ 2026 is officially here and it is going to be one for the books.\nALL FEMALE ~ ALL COUNTRY ~ ALL STAR™\n Co-Headliners:\nGabby Barrett — One of country music’s biggest modern voices\, Gabby burst onto the scene through American Idol and never looked back. With smash hits like I Hope and Pick Me Up\, she has racked up billions of streams and multiple Grammy nominations\, bringing raw emotion and powerhouse vocals to every stage she steps on.\nSara Evans — A true country music legend with over 30 years in the game. Known for timeless hits like Born to Fly\, Suds in the Bucket\, and A Little Bit Stronger\, Sara has sold millions of records and earned her place among the greats. Her live performances are nothing short of magical.\n Also Performing:\nRaeLynn — Bold\, soulful\, and unapologetically herself. RaeLynn has been turning heads since her days on The Voice and has built a fiercely loyal fanbase with hits like God Made Girls and Lonely Call.\nJamie O’Neal — With a voice that stops you in your tracks\, Jamie is best known for her back-to-back number one hits There Is No Arizona and When I Think About Angels. A true fan favorite.\nCasey Bishop — The breakout star from American Idol Season 19\, Casey brings a raw and electrifying energy to the stage that you simply have to experience live.\n Date: April 18\, 2026 Gates Open: 3 PM Location: Paradise Coast Sports Complex\, Naples FL
URL:https://swfl.life/event/country-jam-naples-2026/
LOCATION:Paradise Coast Sports Complex\, 3940 City Gate Blvd S\, Naples\, FL\, 34117
ATTACH;FMTTYPE=image/jpeg:https://swfl.life/wp-content/uploads/2026/04/670846528_122195806130524782_1731477776166797515_n.jpg
END:VEVENT
BEGIN:VEVENT
DTSTART;TZID=America/New_York:20260418T180000
DTEND;TZID=America/New_York:20260418T200000
DTSTAMP:20260420T072613
CREATED:20260226T122020Z
LAST-MODIFIED:20260226T122020Z
UID:10013315-1776535200-1776542400@swfl.life
SUMMARY:Sounds on Strada
DESCRIPTION:Sit back and relax every Saturday night from 6-8PM! Join us in the Piazza as we welcome local musicians to Mercato every week through May.\nUPCOMING MUSICIANS\nFebruary 7th | Taylor TonesFebruary 14th | Wendell RayFebruary 21st | Roman FortuneFebruary 28th | Claire Liparulo\nMarch 7th | CaymanMarch 14th | Wendell RayMarch 21st | Claire LiparuloMarch 28th | Brad Allison\nApril 4th | Wendell RayApril 11th | Roman FortuneApril 18th | The Kelly & Mason Duo\nNo Coolers or Outside Beverages Permitted.\nThis event is complimentary to attend.\nPublic restrooms are located next to Blue Martini.\n*All Mercato events are subject to change due to weather. Check back here for updates!\nPlease be aware that by attending this event\, you consent to your likeness being used\, without compensation\, in photo or video footage captured onsite. Mercato reserves the right to use any and all media for future publicity
URL:https://swfl.life/event/sounds-on-strada/2026-04-18/
LOCATION:Mercato
ATTACH;FMTTYPE=image/jpeg:https://swfl.life/wp-content/uploads/2026/02/628050625_1304283378408043_8843551108646594717_n.jpg
END:VEVENT
BEGIN:VEVENT
DTSTART;TZID=America/New_York:20260418T190000
DTEND;TZID=America/New_York:20260418T210000
DTSTAMP:20260420T072614
CREATED:20260417T104134Z
LAST-MODIFIED:20260417T104328Z
UID:10014194-1776538800-1776546000@swfl.life
SUMMARY:Florida Everblades vs. Reading Royals
DESCRIPTION:https://hertzarena.com/
URL:https://swfl.life/event/florida-everblades-vs-reading-royals-159/2026-04-18/
LOCATION:Hertz Arena\, 11000 Everblades Pkwy\, Estero\, FL\, United States
ATTACH;FMTTYPE=image/jpeg:https://swfl.life/wp-content/uploads/2026/04/550548794_1239288744906347_2748424244994236273_n.jpeg
END:VEVENT
END:VCALENDAR